Workbook

Sheet TOÀN KHÓA (3)
A1: BẢNG ĐIỂM TOÀN KHÓA (TỔNG SỐ 38 HỌC SINH)
A2: LỚP Đ8B1
A3: TT | B3: Họ và tên | D3: Ngày Sinh | E3: Nơi Sinh | F3: 1 | G3: 2 | H3: 3 | I3: 4 | J3: 5 | K3: 6 | L3: 7 | M3: 8 | N3: 9 | O3: 10 | P3: 11 | Q3: 12 | R3: 13 | S3: 14 | T3: 15 | U3: 16 | V3: 17 | W3: 18 | X3: 19 | Y3: 20 | Z3: 21 | AA3: 22 | AB3: 23 | AC3: 24
F4: =TKHK1!L3 -> Chính trị | G4: =TKHK1!H3 -> Pháp luật | H4: =TKHK1!N3 -> Tin học | I4: =TKHK1!M3 -> Tiếng Anh | J4: =TKHK1!O3 -> giáo dục thể chất | K4: =TKHK2!I2 -> Giáo dục quốc phòng | L4: =TKHK1!G3 -> An toàn điện | M4: =TKHK1!F3 -> Vật liệu điện | N4: =TKHK1!I3 -> vẽ điện | O4: =TKHK1!J3 -> mạch điện | P4: =TKHK1!K3 -> Vẽ kỹ thuật | Q4: =TKHK2!F2 -> Đo lường điện | R4: =TKHK2!G2 -> Điện tử cơ bản | S4: =TKHK2!H2 -> Khí cụ điện | T4: =tkhk3!F4 -> Điện khí nén | U4: =tkhk3!G4 -> Thiết bị điện gia dụng | V4: =TKHK4!F4 -> Máy điện | W4: =TKHK4!G4 -> Điện tử công suất | X4: =TKHK4!H4 -> Cung cấp điện | Y4: =#REF! -> #REF! | Z4: =#REF! -> #REF! | AA4: =#REF! -> #REF! | AB4: =#REF! -> #REF! | AC4: =#REF! -> #REF! | AD4: Điểm thực tập | AE4: Trung bình môn | AF4: ĐiỂM THI TỐT NGHIỆP | AI4: TRUNG BÌNH TỐT NGHIỆP | AJ4: XẾP LoẠI TỐT NGHIỆP
F6: 2 | G6: 1 | H6: 2 | I6: 4 | J6: 2 | K6: 3 | L6: 2 | M6: 2 | N6: 2 | O6: 3 | P6: 2 | Q6: =TKHK2!F3 -> 4 | R6: =TKHK2!G3 -> 5 | S6: 2 | T6: 6 | U6: 5 | V6: 13 | W6: 4 | X6: 4 | Y6: 2 | Z6: 6 | AA6: 4 | AB6: =#REF! -> #REF! | AC6: =#REF! -> #REF! | AD6: 11 | AE6: =SUM(L6:AD6) -> #REF! | AF6: CT | AG6: LT CM | AH6: TH
A7: 1 | B7: Nguyễn Thế | C7: Ánh | D7: 05.10.2001 | E7: Nguyên Bình- Tĩnh Gia - Thanh Hóa | F7: =TKHK1!L5 -> 5.7142857 | G7: =TKHK1!H5 -> 7.8 | H7: =TKHK1!N5 -> 6.4285714 | I7: =TKHK1!M5 -> 5.6363636 | J7: =TKHK1!O5 -> 6 | K7: =TKHK2!I4 -> 6.7777778 | L7: =TKHK1!G5 -> 5.2857143 | M7: =TKHK1!F5 -> 6.1428571 | N7: =TKHK1!I5 -> 7 | O7: =TKHK1!J5 -> 5.5555556 | P7: =TKHK1!K5 -> 5.5714286 | Q7: =TKHK2!F4 -> 6.7777778 | R7: =TKHK2!G4 -> 7.2727273 | S7: =TKHK2!H4 -> 8 | T7: =tkhk3!F6 -> 7 | U7: =tkhk3!G6 -> 8 | V7: =TKHK4!F6 -> 7.0666667 | W7: =TKHK4!G6 -> 7.5454545 | X7: =TKHK4!H6 -> 6.0909091 | Y7: =#REF! -> #REF! | Z7: =#REF! -> #REF! | AA7: =#REF! -> #REF! | AB7: =#REF! -> #REF! | AC7: =#REF! -> #REF! | AD7: 10
A8: 2 | B8: Lê Hữu | C8: Chiến | D8: 11.07.2000 | E8: Thị Trấn - Tĩnh Gia - Thanh Hóa | F8: =TKHK1!L6 -> 6.2857143 | G8: =TKHK1!H6 -> 8.2 | H8: =TKHK1!N6 -> 6 | I8: =TKHK1!M6 -> 6.1818182 | J8: =TKHK1!O6 -> 5.2857143 | K8: =TKHK2!I5 -> 7.4444444 | L8: =TKHK1!G6 -> 6.1428571 | M8: =TKHK1!F6 -> 6.5714286 | N8: =TKHK1!I6 -> 7 | O8: =TKHK1!J6 -> 5.7777778 | P8: =TKHK1!K6 -> 7.4285714 | Q8: =TKHK2!F5 -> 7.3333333 | R8: =TKHK2!G5 -> 7.0909091 | S8: =TKHK2!H5 -> 7.7142857 | T8: =tkhk3!F7 -> 6.7272727 | U8: =tkhk3!G7 -> 6.5454545 | V8: =TKHK4!F7 -> 6.8 | W8: =TKHK4!G7 -> 5.6363636 | X8: =TKHK4!H7 -> 6.2727273 | Y8: =#REF! -> #REF! | Z8: =#REF! -> #REF! | AA8: =#REF! -> #REF! | AB8: =#REF! -> #REF! | AC8: =#REF! -> #REF! | AD8: 9
A9: 3 | B9: Lê Đức | C9: Chung | D9: 09.8.2001 | E9: Hải Hòa- Tĩnh Gia - Thanh Hóa | F9: =TKHK1!L8 -> 7 | G9: =TKHK1!H8 -> 7.8 | H9: =TKHK1!N8 -> 6.4285714 | I9: =TKHK1!M8 -> 6.1818182 | J9: =TKHK1!O8 -> 5.5714286 | K9: =TKHK2!I7 -> 7.6666667 | L9: =TKHK1!G8 -> 6.1428571 | M9: =TKHK1!F8 -> 6.1428571 | N9: =TKHK1!I8 -> 6.4285714 | O9: =TKHK1!J8 -> 7.2222222 | P9: =TKHK1!K8 -> 6.2857143 | Q9: =TKHK2!F7 -> 7.7777778 | R9: =TKHK2!G7 -> 7.4545455 | S9: =TKHK2!H7 -> 8 | T9: =tkhk3!F9 -> 8.1818182 | U9: =tkhk3!G9 -> 8 | V9: =TKHK4!F9 -> 7 | W9: =TKHK4!G9 -> 7.8181818 | X9: =TKHK4!H9 -> 7.2727273 | Y9: =#REF! -> #REF! | Z9: =#REF! -> #REF! | AA9: =#REF! -> #REF! | AB9: =#REF! -> #REF! | AC9: =#REF! -> #REF! | AD9: 10
A10: 4 | B10: Lê Văn | C10: Cương | D10: 16.10.2000 | E10: Mai Lâm – Tĩnh Gia – Thanh Hóa | F10: =TKHK1!L9 -> 7 | G10: =TKHK1!H9 -> 7.6 | H10: =TKHK1!N9 -> 6.2857143 | I10: =TKHK1!M9 -> 5.6363636 | J10: =TKHK1!O9 -> 5.8571429 | K10: =TKHK2!I8 -> 6.6666667 | L10: =TKHK1!G9 -> 5.4285714 | M10: =TKHK1!F9 -> 6.4285714 | N10: =TKHK1!I9 -> 7.5714286 | O10: =TKHK1!J9 -> 7.5555556 | P10: =TKHK1!K9 -> 8.2857143 | Q10: =TKHK2!F8 -> 7.7777778 | R10: =TKHK2!G8 -> 7.4545455 | S10: =TKHK2!H8 -> 7 | T10: =tkhk3!F10 -> 7.7272727 | U10: =tkhk3!G10 -> 7 | V10: =TKHK4!F10 -> 7.6 | W10: =TKHK4!G10 -> 7.5454545 | X10: =TKHK4!H10 -> 6.8181818 | Y10: =#REF! -> #REF! | Z10: =#REF! -> #REF! | AA10: =#REF! -> #REF! | AB10: =#REF! -> #REF! | AC10: =#REF! -> #REF! | AD10: 10
A11: 5 | B11: Vũ Trọng | C11: Dương | D11: 10.12.2001 | E11: Hải Nhân - Tĩnh Gia - Thanh Hóa | F11: =TKHK1!L13 -> 7 | G11: =TKHK1!H13 -> 8 | H11: =TKHK1!N13 -> 6.2857143 | I11: =TKHK1!M13 -> 6.3636364 | J11: =TKHK1!O13 -> 6.4285714 | K11: =TKHK2!I12 -> 7.4444444 | L11: =TKHK1!G13 -> 6.2857143 | M11: =TKHK1!F13 -> 6.4285714 | N11: =TKHK1!I13 -> 6.4285714 | O11: =TKHK1!J13 -> 7.4444444 | P11: =TKHK1!K13 -> 7 | Q11: =TKHK2!F12 -> 8 | R11: =TKHK2!G12 -> 7.7272727 | S11: =TKHK2!H12 -> 8 | T11: =tkhk3!F14 -> 7.3636364 | U11: =tkhk3!G14 -> 7.8181818 | V11: =TKHK4!F14 -> 7.3333333 | W11: =TKHK4!G14 -> 6.5454545 | X11: =TKHK4!H14 -> 6.2727273 | Y11: =#REF! -> #REF! | Z11: =#REF! -> #REF! | AA11: =#REF! -> #REF! | AB11: =#REF! -> #REF! | AC11: =#REF! -> #REF! | AD11: 9
A12: 6 | B12: Lê Văn | C12: Hùng | D12: 09.08.2000 | E12: Bình Minh - Tĩnh Gia - Thanh Hóa | F12: =TKHK1!L18 -> 6.2857143 | G12: =TKHK1!H18 -> 7 | H12: =TKHK1!N18 -> 6.4285714 | I12: =TKHK1!M18 -> 6.3636364 | J12: =TKHK1!O18 -> 5.5714286 | K12: =TKHK2!I17 -> 7.7777778 | L12: =TKHK1!G18 -> 5.4285714 | M12: =TKHK1!F18 -> 6 | N12: =TKHK1!I18 -> 6.1428571 | O12: =TKHK1!J18 -> 6.2222222 | P12: =TKHK1!K18 -> 5.7142857 | Q12: =TKHK2!F17 -> 7.4444444 | R12: =TKHK2!G17 -> 7.2727273 | S12: =TKHK2!H17 -> 7.2857143 | T12: =tkhk3!F19 -> 6.7272727 | U12: =tkhk3!G19 -> 7 | V12: =TKHK4!F19 -> 6.5333333 | W12: =TKHK4!G19 -> 7.0909091 | X12: =TKHK4!H19 -> 5.6363636 | Y12: =#REF! -> #REF! | Z12: =#REF! -> #REF! | AA12: =#REF! -> #REF! | AB12: =#REF! -> #REF! | AC12: =#REF! -> #REF! | AD12: 7
A13: 7 | B13: Mai Xuân | C13: Huy | D13: 25.10.2001 | E13: Trường Lâm - Tĩnh Gia - Thanh Hóa | F13: =TKHK1!L21 -> 6.7142857 | G13: =TKHK1!H21 -> 7.6 | H13: =TKHK1!N21 -> 6 | I13: =TKHK1!M21 -> 6.1818182 | J13: =TKHK1!O21 -> 6.5714286 | K13: =TKHK2!I20 -> 7.1111111 | L13: =TKHK1!G21 -> 5.2857143 | M13: =TKHK1!F21 -> 5.7142857 | N13: =TKHK1!I21 -> 5.7142857 | O13: =TKHK1!J21 -> 5.3333333 | P13: =TKHK1!K21 -> 5.7142857 | Q13: =TKHK2!F20 -> 6.2222222 | R13: =TKHK2!G20 -> 6.8181818 | S13: =TKHK2!H20 -> 6.5714286 | T13: =tkhk3!F22 -> 5.3636364 | U13: =tkhk3!G22 -> 6 | V13: =TKHK4!F22 -> 5.6 | W13: =TKHK4!G22 -> 5.3636364 | X13: =TKHK4!H22 -> 6 | Y13: =#REF! -> #REF! | Z13: =#REF! -> #REF! | AA13: =#REF! -> #REF! | AB13: =#REF! -> #REF! | AC13: =#REF! -> #REF! | AD13: 8
A14: 8 | B14: Lê Vinh | C14: Huy | D14: 28.01.2000 | E14: Mai Lâm – Tĩnh Gia – Thanh Hóa | F14: =TKHK1!L22 -> 6 | G14: =TKHK1!H22 -> 8.2 | H14: =TKHK1!N22 -> 5 | I14: =TKHK1!M22 -> 6 | J14: =TKHK1!O22 -> 6.5714286 | K14: =TKHK2!I21 -> 7.8888889 | L14: =TKHK1!G22 -> 5.4285714 | M14: =TKHK1!F22 -> 6.1428571 | N14: =TKHK1!I22 -> 5.7142857 | O14: =TKHK1!J22 -> 5.5555556 | P14: =TKHK1!K22 -> 7.4285714 | Q14: =TKHK2!F21 -> 8.5555556 | R14: =TKHK2!G21 -> 7.9090909 | S14: =TKHK2!H21 -> 7.2857143 | T14: =tkhk3!F23 -> 8.3636364 | U14: =tkhk3!G23 -> 7 | V14: =TKHK4!F23 -> 6.6666667 | W14: =TKHK4!G23 -> 8.2727273 | X14: =TKHK4!H23 -> 7 | Y14: =#REF! -> #REF! | Z14: =#REF! -> #REF! | AA14: =#REF! -> #REF! | AB14: =#REF! -> #REF! | AC14: =#REF! -> #REF! | AD14: 9
A15: 9 | B15: Nguyễn Văn | C15: Minh | D15: 18.05.2001 | E15: Hải Thanh – Tĩnh Gia – Thanh Hóa | F15: =TKHK1!L27 -> 6.7142857 | G15: =TKHK1!H27 -> 8.6 | H15: =TKHK1!N27 -> 6 | I15: =TKHK1!M27 -> 6.5454545 | J15: =TKHK1!O27 -> 6.7142857 | K15: =TKHK2!I26 -> 8.4444444 | L15: =TKHK1!G27 -> 6.5714286 | M15: =TKHK1!F27 -> 6.4285714 | N15: =TKHK1!I27 -> 6.7142857 | O15: =TKHK1!J27 -> 6 | P15: =TKHK1!K27 -> 7.5714286 | Q15: =TKHK2!F26 -> 8 | R15: =TKHK2!G26 -> 7.8181818 | S15: =TKHK2!H26 -> 8 | T15: =tkhk3!F28 -> 8.3636364 | U15: =tkhk3!G28 -> 7.6363636 | V15: =TKHK4!F28 -> 7.4666667 | W15: =TKHK4!G28 -> 7 | X15: =TKHK4!H28 -> 7.0909091 | Y15: =#REF! -> #REF! | Z15: =#REF! -> #REF! | AA15: =#REF! -> #REF! | AB15: =#REF! -> #REF! | AC15: =#REF! -> #REF! | AD15: 10
A16: 10 | B16: Hồ Sĩ | C16: Minh | D16: 10.12.2000 | E16: Phú Sơn - Tĩnh Gia - Thanh Hóa | F16: =TKHK1!L28 -> 7 | G16: =TKHK1!H28 -> 7.6 | H16: =TKHK1!N28 -> 6 | I16: =TKHK1!M28 -> 5.8181818 | J16: =TKHK1!O28 -> 6.7142857 | K16: =TKHK2!I27 -> 7.4444444 | L16: =TKHK1!G28 -> 5.2857143 | M16: =TKHK1!F28 -> 6 | N16: =TKHK1!I28 -> 7.2857143 | O16: =TKHK1!J28 -> 5.5555556 | P16: =TKHK1!K28 -> 6.1428571 | Q16: =TKHK2!F27 -> 7.7777778 | R16: =TKHK2!G27 -> 7.7272727 | S16: =TKHK2!H27 -> 8.7142857 | T16: =tkhk3!F29 -> 8.5454545 | U16: =tkhk3!G29 -> 8.4545455 | V16: =TKHK4!F29 -> 7.8666667 | W16: =TKHK4!G29 -> 7.8181818 | X16: =TKHK4!H29 -> 7 | Y16: =#REF! -> #REF! | Z16: =#REF! -> #REF! | AA16: =#REF! -> #REF! | AB16: =#REF! -> #REF! | AC16: =#REF! -> #REF! | AD16: 9
A17: 11 | B17: Nguyễn Thị | C17: Mừng | D17: 05.03.2001 | E17: Trúc Lâm- Tĩnh Gia- Thanh Hóa | F17: =TKHK1!L29 -> 8 | G17: =TKHK1!H29 -> 9 | H17: =TKHK1!N29 -> 8 | I17: =TKHK1!M29 -> 7.5454545 | J17: =TKHK1!O29 -> 6.7142857 | K17: =TKHK2!I28 -> 8.3333333 | L17: =TKHK1!G29 -> 7 | M17: =TKHK1!F29 -> 7.7142857 | N17: =TKHK1!I29 -> 7.2857143 | O17: =TKHK1!J29 -> 6.7777778 | P17: =TKHK1!K29 -> 9 | Q17: =TKHK2!F28 -> 8.5555556 | R17: =TKHK2!G28 -> 8.0909091 | S17: =TKHK2!H28 -> 8 | T17: =tkhk3!F30 -> 8 | U17: =tkhk3!G30 -> 7.1818182 | V17: =TKHK4!F30 -> 7.2666667 | W17: =TKHK4!G30 -> 7.4545455 | X17: =TKHK4!H30 -> 7.3636364 | Y17: =#REF! -> #REF! | Z17: =#REF! -> #REF! | AA17: =#REF! -> #REF! | AB17: =#REF! -> #REF! | AC17: =#REF! -> #REF! | AD17: 8
A18: 12 | B18: Lê Văn | C18: Nam | D18: 23.07.2001 | E18: Nguyên Bình - Tĩnh Gia - Thanh Hóa | F18: =TKHK1!L30 -> 7 | G18: =TKHK1!H30 -> 8.2 | H18: =TKHK1!N30 -> 5.7142857 | I18: =TKHK1!M30 -> 5.8181818 | J18: =TKHK1!O30 -> 5 | K18: =TKHK2!I29 -> 7.7777778 | L18: =TKHK1!G30 -> 5.7142857 | M18: =TKHK1!F30 -> 5.7142857 | N18: =TKHK1!I30 -> 5.2857143 | O18: =TKHK1!J30 -> 5.7777778 | P18: =TKHK1!K30 -> 6.2857143 | Q18: =TKHK2!F29 -> 7.4444444 | R18: =TKHK2!G29 -> 7.0909091 | S18: =TKHK2!H29 -> 6.7142857 | T18: =tkhk3!F31 -> 8 | U18: =tkhk3!G31 -> 6.1818182 | V18: =TKHK4!F31 -> 8 | W18: =TKHK4!G31 -> 6.7272727 | X18: =TKHK4!H31 -> 6.4545455 | Y18: =#REF! -> #REF! | Z18: =#REF! -> #REF! | AA18: =#REF! -> #REF! | AB18: =#REF! -> #REF! | AC18: =#REF! -> #REF! | AD18: 9
A19: 13 | B19: Lê Văn | C19: Nam | D19: 16.08.2001 | E19: Hải Châu - Tĩnh Gia - Thanh Hóa | F19: =TKHK1!L31 -> 7 | G19: =TKHK1!H31 -> 8.6 | H19: =TKHK1!N31 -> 5.2857143 | I19: =TKHK1!M31 -> 6.1818182 | J19: =TKHK1!O31 -> 5.2857143 | K19: =TKHK2!I30 -> 7.4444444 | L19: =TKHK1!G31 -> 6.1428571 | M19: =TKHK1!F31 -> 6.1428571 | N19: =TKHK1!I31 -> 6.1428571 | O19: =TKHK1!J31 -> 6.2222222 | P19: =TKHK1!K31 -> 7.2857143 | Q19: =TKHK2!F30 -> 7.6666667 | R19: =TKHK2!G30 -> 6.9090909 | S19: =TKHK2!H30 -> 5.8571429 | T19: =tkhk3!F32 -> 7.1818182 | U19: =tkhk3!G32 -> 7 | V19: =TKHK4!F32 -> 8 | W19: =TKHK4!G32 -> 7.2727273 | X19: =TKHK4!H32 -> 5.9090909 | Y19: =#REF! -> #REF! | Z19: =#REF! -> #REF! | AA19: =#REF! -> #REF! | AB19: =#REF! -> #REF! | AC19: =#REF! -> #REF! | AD19: 10
A20: 14 | B20: Hoàng Văn | C20: Thái | D20: 25.04.2001 | E20: Ninh Hải- Tĩnh Gia- Thanh Hóa | F20: =TKHK1!L34 -> 6.2857143 | G20: =TKHK1!H34 -> 8 | H20: =TKHK1!N34 -> 6.4285714 | I20: =TKHK1!M34 -> 6.7272727 | J20: =TKHK1!O34 -> 5.5714286 | K20: =TKHK2!I33 -> 7.1111111 | L20: =TKHK1!G34 -> 5.7142857 | M20: =TKHK1!F34 -> 6.1428571 | N20: =TKHK1!I34 -> 6 | O20: =TKHK1!J34 -> 5.7777778 | P20: =TKHK1!K34 -> 6.5714286 | Q20: =TKHK2!F33 -> 6.7777778 | R20: =TKHK2!G33 -> 7.0909091 | S20: =TKHK2!H33 -> 7.2857143 | T20: =tkhk3!F35 -> 7.6363636 | U20: =tkhk3!G35 -> 7.6363636 | V20: =TKHK4!F35 -> 8.3333333 | W20: =TKHK4!G35 -> 8.1818182 | X20: =TKHK4!H35 -> 7 | Y20: =#REF! -> #REF! | Z20: =#REF! -> #REF! | AA20: =#REF! -> #REF! | AB20: =#REF! -> #REF! | AC20: =#REF! -> #REF! | AD20: 10
A21: 15 | B21: Lê Doãn | C21: Thái | D21: 18.09.2001 | E21: Định Hải - Tĩnh Gia - Thanh Hóa | F21: =TKHK1!L35 -> 6.2857143 | G21: =TKHK1!H35 -> 8.6 | H21: =TKHK1!N35 -> 5.7142857 | I21: =TKHK1!M35 -> 6 | J21: =TKHK1!O35 -> 8.1428571 | K21: =TKHK2!I34 -> 7.6666667 | L21: =TKHK1!G35 -> 7 | M21: =TKHK1!F35 -> 6.7142857 | N21: =TKHK1!I35 -> 7.7142857 | O21: =TKHK1!J35 -> 7.7777778 | P21: =TKHK1!K35 -> 8.2857143 | Q21: =TKHK2!F34 -> 8 | R21: =TKHK2!G34 -> 8.2727273 | S21: =TKHK2!H34 -> 8 | T21: =tkhk3!F36 -> 8.5454545 | U21: =tkhk3!G36 -> 8.1818182 | V21: =TKHK4!F36 -> 7.8666667 | W21: =TKHK4!G36 -> 8 | X21: =TKHK4!H36 -> 7.2727273 | Y21: =#REF! -> #REF! | Z21: =#REF! -> #REF! | AA21: =#REF! -> #REF! | AB21: =#REF! -> #REF! | AC21: =#REF! -> #REF! | AD21: 10
A22: 16 | B22: Lê Hữu | C22: Thành | D22: 12.06.2001 | E22: Ninh Hải- Tĩnh Gia- Thanh Hóa | F22: =TKHK1!L36 -> 7 | G22: =TKHK1!H36 -> 8.2 | H22: =TKHK1!N36 -> 6.2857143 | I22: =TKHK1!M36 -> 7.1818182 | J22: =TKHK1!O36 -> 6.4285714 | K22: =TKHK2!I35 -> 7.4444444 | L22: =TKHK1!G36 -> 6.8571429 | M22: =TKHK1!F36 -> 6.4285714 | N22: =TKHK1!I36 -> 6.7142857 | O22: =TKHK1!J36 -> 7.4444444 | P22: =TKHK1!K36 -> 7.4285714 | Q22: =TKHK2!F35 -> 7.2222222 | R22: =TKHK2!G35 -> 7.6363636 | S22: =TKHK2!H35 -> 7.1428571 | T22: =tkhk3!F37 -> 7.3636364 | U22: =tkhk3!G37 -> 7.6363636 | V22: =TKHK4!F37 -> 8 | W22: =TKHK4!G37 -> 7.3636364 | X22: =TKHK4!H37 -> 7.2727273 | Y22: =#REF! -> #REF! | Z22: =#REF! -> #REF! | AA22: =#REF! -> #REF! | AB22: =#REF! -> #REF! | AC22: =#REF! -> #REF! | AD22: 8.5
A23: 17 | B23: Mai Xuân | C23: Thiện | D23: 10.07.2001 | E23: Ninh Hải - Tĩnh Gia - Thanh Hóa | F23: =TKHK1!L37 -> 6 | G23: =TKHK1!H37 -> 7.6 | H23: =TKHK1!N37 -> 6 | I23: =TKHK1!M37 -> 5.6363636 | J23: =TKHK1!O37 -> 5 | K23: =TKHK2!I36 -> 6.7777778 | L23: =TKHK1!G37 -> 5.2857143 | M23: =TKHK1!F37 -> 6 | N23: =TKHK1!I37 -> 5.7142857 | O23: =TKHK1!J37 -> 6 | P23: =TKHK1!K37 -> 6.2857143 | Q23: =TKHK2!F36 -> 6.2222222 | R23: =TKHK2!G36 -> 7.0909091 | S23: =TKHK2!H36 -> 7.2857143 | T23: =tkhk3!F38 -> 7.7272727 | U23: =tkhk3!G38 -> 7 | V23: =TKHK4!F38 -> 8 | W23: =TKHK4!G38 -> 6.9090909 | X23: =TKHK4!H38 -> 6.8181818 | Y23: =#REF! -> #REF! | Z23: =#REF! -> #REF! | AA23: =#REF! -> #REF! | AB23: =#REF! -> #REF! | AC23: =#REF! -> #REF! | AD23: 8.5
A24: 18 | B24: Nguyễn Như | C24: Trọng | D24: 26.06.2001 | E24: Tân Trường- Tĩnh Gia- Thanh Hóa | F24: =TKHK1!L40 -> 6.7142857 | G24: =TKHK1!H40 -> 7.2 | H24: =TKHK1!N40 -> 6 | I24: =TKHK1!M40 -> 6.2727273 | J24: =TKHK1!O40 -> 8.4285714 | K24: =TKHK2!I39 -> 7 | L24: =TKHK1!G40 -> 5.5714286 | M24: =TKHK1!F40 -> 6.1428571 | N24: =TKHK1!I40 -> 8 | O24: =TKHK1!J40 -> 6 | P24: =TKHK1!K40 -> 7.2857143 | Q24: =TKHK2!F39 -> 6.8888889 | R24: =TKHK2!G39 -> 7.0909091 | S24: =TKHK2!H39 -> 7.7142857 | T24: =tkhk3!F41 -> 7.1818182 | U24: =tkhk3!G41 -> 7.1818182 | V24: =TKHK4!F41 -> 7.8666667 | W24: =TKHK4!G41 -> 7.3636364 | X24: =TKHK4!H41 -> 6.1818182 | Y24: =#REF! -> #REF! | Z24: =#REF! -> #REF! | AA24: =#REF! -> #REF! | AB24: =#REF! -> #REF! | AC24: =#REF! -> #REF! | AD24: 8
A25: 19 | B25: Lê Văn | C25: Trọng | D25: 15.07.1999 | E25: Tân Trường - Tĩnh Gia - Thanh Hóa | F25: =TKHK1!L41 -> 7 | G25: =TKHK1!H41 -> 7 | H25: =TKHK1!N41 -> 5.7142857 | I25: =TKHK1!M41 -> 5.8181818 | J25: =TKHK1!O41 -> 5.2857143 | K25: =TKHK2!I40 -> 7 | L25: =TKHK1!G41 -> 5.4285714 | M25: =TKHK1!F41 -> 5.5714286 | N25: =TKHK1!I41 -> 5.7142857 | O25: =TKHK1!J41 -> 6 | P25: =TKHK1!K41 -> 5.7142857 | Q25: =TKHK2!F40 -> 6.4444444 | R25: =TKHK2!G40 -> 7.0909091 | S25: =TKHK2!H40 -> 7.4285714 | T25: =tkhk3!F42 -> 6.5454545 | U25: =tkhk3!G42 -> 6.3636364 | V25: =TKHK4!F42 -> 7 | W25: =TKHK4!G42 -> 7.0909091 | X25: =TKHK4!H42 -> 6.4545455 | Y25: =#REF! -> #REF! | Z25: =#REF! -> #REF! | AA25: =#REF! -> #REF! | AB25: =#REF! -> #REF! | AC25: =#REF! -> #REF! | AD25: 8
A26: 20 | B26: Lê Kim | C26: Trường | D26: 05.03.2001 | E26: Hải An - Tĩnh Gia- Thanh Hóa | F26: =TKHK1!L42 -> 8 | G26: =TKHK1!H42 -> 7.6 | H26: =TKHK1!N42 -> 7.2857143 | I26: =TKHK1!M42 -> 6 | J26: =TKHK1!O42 -> 6.4285714 | K26: =TKHK2!I41 -> 6.6666667 | L26: =TKHK1!G42 -> 5.2857143 | M26: =TKHK1!F42 -> 6 | N26: =TKHK1!I42 -> 5.4285714 | O26: =TKHK1!J42 -> 5.5555556 | P26: =TKHK1!K42 -> 6 | Q26: =TKHK2!F41 -> 6.6666667 | R26: =TKHK2!G41 -> 7.0909091 | S26: =TKHK2!H41 -> 7.7142857 | T26: =tkhk3!F43 -> 7.5454545 | U26: =tkhk3!G43 -> 7.1818182 | V26: =TKHK4!F43 -> 6.3333333 | W26: =TKHK4!G43 -> 6.7272727 | X26: =TKHK4!H43 -> 6.1818182 | Y26: =#REF! -> #REF! | Z26: =#REF! -> #REF! | AA26: =#REF! -> #REF! | AB26: =#REF! -> #REF! | AC26: =#REF! -> #REF! | AD26: 6
A27: 21 | B27: Lê Văn | C27: Tuân | D27: 21.09.2001 | E27: Ninh Hải - Tĩnh Gia - Thanh Hóa | F27: =TKHK1!L44 -> 6 | G27: =TKHK1!H44 -> 8 | H27: =TKHK1!N44 -> 5.5714286 | I27: =TKHK1!M44 -> 6.1818182 | J27: =TKHK1!O44 -> 7.1428571 | K27: =TKHK2!I43 -> 7.1111111 | L27: =TKHK1!G44 -> 5 | M27: =TKHK1!F44 -> 5.4285714 | N27: =TKHK1!I44 -> 6.4285714 | O27: =TKHK1!J44 -> 5.4444444 | P27: =TKHK1!K44 -> 5.7142857 | Q27: =TKHK2!F43 -> 6.2222222 | R27: =TKHK2!G43 -> 7.2727273 | S27: =TKHK2!H43 -> 7 | T27: =tkhk3!F45 -> 7.3636364 | U27: =tkhk3!G45 -> 6.6363636 | V27: =TKHK4!F45 -> 8.1333333 | W27: =TKHK4!G45 -> 7.1818182 | X27: =TKHK4!H45 -> 6 | Y27: =#REF! -> #REF! | Z27: =#REF! -> #REF! | AA27: =#REF! -> #REF! | AB27: =#REF! -> #REF! | AC27: =#REF! -> #REF! | AD27: 10
A28: 22 | B28: Phạm Văn | C28: Tuấn | D28: 10.11.2001 | E28: Hải Ninh- Tĩnh Gia- Thanh Hóa | F28: =TKHK1!L45 -> 7 | G28: =TKHK1!H45 -> 7.4 | H28: =TKHK1!N45 -> 5.2857143 | I28: =TKHK1!M45 -> 6.4545455 | J28: =TKHK1!O45 -> 5.8571429 | K28: =TKHK2!I44 -> 6.7777778 | L28: =TKHK1!G45 -> 5.2857143 | M28: =TKHK1!F45 -> 6.1428571 | N28: =TKHK1!I45 -> 7 | O28: =TKHK1!J45 -> 5.7777778 | P28: =TKHK1!K45 -> 6.1428571 | Q28: =TKHK2!F44 -> 5.7777778 | R28: =TKHK2!G44 -> 6.4545455 | S28: =TKHK2!H44 -> 7.4285714 | T28: =tkhk3!F46 -> 7.1818182 | U28: =tkhk3!G46 -> 6.3636364 | V28: =TKHK4!F46 -> 5 | W28: =TKHK4!G46 -> 5.3636364 | X28: =TKHK4!H46 -> 5.8181818 | Y28: =#REF! -> #REF! | Z28: =#REF! -> #REF! | AA28: =#REF! -> #REF! | AB28: =#REF! -> #REF! | AC28: =#REF! -> #REF! | AD28: 9
A29: 23 | B29: Lê Thị | C29: Tuyết | D29: 20.10.2001 | E29: Tĩnh Gia - Thanh Hóa | F29: =TKHK1!L46 -> 8 | G29: =TKHK1!H46 -> 8 | H29: =TKHK1!N46 -> 7.2857143 | I29: =TKHK1!M46 -> 6.7272727 | J29: =TKHK1!O46 -> 6.8571429 | K29: =TKHK2!I45 -> 7.6666667 | L29: =TKHK1!G46 -> 6.7142857 | M29: =TKHK1!F46 -> 7.4285714 | N29: =TKHK1!I46 -> 6.5714286 | O29: =TKHK1!J46 -> 6.2222222 | P29: =TKHK1!K46 -> 8 | Q29: =TKHK2!F45 -> 8 | R29: =TKHK2!G45 -> 7.8181818 | S29: =TKHK2!H45 -> 7.2857143 | T29: =tkhk3!F47 -> 7.8181818 | U29: =tkhk3!G47 -> 7 | V29: =TKHK4!F47 -> 8.6 | W29: =TKHK4!G47 -> 7.1818182 | X29: =TKHK4!H47 -> 6.6363636 | Y29: =#REF! -> #REF! | Z29: =#REF! -> #REF! | AA29: =#REF! -> #REF! | AB29: =#REF! -> #REF! | AC29: =#REF! -> #REF! | AD29: 8
A30: 24 | B30: Mai Huy | C30: Việt | D30: 15.02.2001 | E30: Tĩnh Gia- Thanh Hóa | F30: =TKHK1!L47 -> 7 | G30: =TKHK1!H47 -> 8.2 | H30: =TKHK1!N47 -> 6 | I30: =TKHK1!M47 -> 5.8181818 | J30: =TKHK1!O47 -> 6 | K30: =TKHK2!I46 -> 7.7777778 | L30: =TKHK1!G47 -> 5.8571429 | M30: =TKHK1!F47 -> 7 | N30: =TKHK1!I47 -> 7 | O30: =TKHK1!J47 -> 6 | P30: =TKHK1!K47 -> 7 | Q30: =TKHK2!F46 -> 7.3333333 | R30: =TKHK2!G46 -> 7.8181818 | S30: =TKHK2!H46 -> 7.2857143 | T30: =tkhk3!F48 -> 8.3636364 | U30: =tkhk3!G48 -> 8 | V30: =TKHK4!F48 -> 7.6666667 | W30: =TKHK4!G48 -> 7.0909091 | X30: =TKHK4!H48 -> 7.2727273 | Y30: =#REF! -> #REF! | Z30: =#REF! -> #REF! | AA30: =#REF! -> #REF! | AB30: =#REF! -> #REF! | AC30: =#REF! -> #REF! | AD30: 6
A31: 25 | B31: Đỗ Tuấn | C31: Vương | D31: 03.01.2001 | E31: Trường Lâm - Tĩnh Gia - Thanh Hóa | F31: =TKHK1!L49 -> 6.7142857 | G31: =TKHK1!H49 -> 8 | H31: =TKHK1!N49 -> 6.8571429 | I31: =TKHK1!M49 -> 5.8181818 | J31: =TKHK1!O49 -> 6.8571429 | K31: =TKHK2!I48 -> 7 | L31: =TKHK1!G49 -> 6 | M31: =TKHK1!F49 -> 6.4285714 | N31: =TKHK1!I49 -> 6.7142857 | O31: =TKHK1!J49 -> 6 | P31: =TKHK1!K49 -> 6.4285714 | Q31: =TKHK2!F48 -> 6.2222222 | R31: =TKHK2!G48 -> 6.8181818 | S31: =TKHK2!H48 -> 6.4285714 | T31: =tkhk3!F50 -> 7.3636364 | U31: =tkhk3!G50 -> 7.1818182 | V31: =TKHK4!F50 -> 8.4 | W31: =TKHK4!G50 -> 6.7272727 | X31: =TKHK4!H50 -> 6.5454545 | Y31: =#REF! -> #REF! | Z31: =#REF! -> #REF! | AA31: =#REF! -> #REF! | AB31: =#REF! -> #REF! | AC31: =#REF! -> #REF! | AD31: 6
A32: 26 | B32: Nguyễn Đình | C32: Nhật | D32: 06.05.2001 | E32: Nguyên Bình - Tĩnh Gia - Thanh Hóa | F32: =TKHK1!L51 -> 6 | G32: =TKHK1!H51 -> 8.6 | H32: =TKHK1!N51 -> 6.5714286 | I32: =TKHK1!M51 -> 5.6363636 | J32: =TKHK1!O51 -> 7.2857143 | K32: =TKHK2!I50 -> 7.3333333 | L32: =TKHK1!G51 -> 5.7142857 | M32: =TKHK1!F51 -> 5.7142857 | N32: =TKHK1!I51 -> 5.8571429 | O32: =TKHK1!J51 -> 7 | P32: =TKHK1!K51 -> 7.7142857 | Q32: =TKHK2!F50 -> 5.7777778 | R32: =TKHK2!G50 -> 6.6363636 | S32: =TKHK2!H50 -> 6 | T32: =tkhk3!F52 -> 7.3636364 | U32: =tkhk3!G52 -> 6.6363636 | V32: =TKHK4!F52 -> 8.2666667 | W32: =TKHK4!G52 -> 8 | X32: =TKHK4!H52 -> 7.2727273 | Y32: =#REF! -> #REF! | Z32: =#REF! -> #REF! | AA32: =#REF! -> #REF! | AB32: =#REF! -> #REF! | AC32: =#REF! -> #REF! | AD32: 9
E36: Tổng số 38 học sinh

Sheet tphk1
A1: BẢNG GHI ĐIỂM MÔĐUN / MÔN HỌC
A2: Học Kỳ I Năm Học 2016- 2017
A3: Khóa: VIII Lớp: Đ8B1
A4: Môn học: Vật liệu điện Số tiết: 30 Số ĐVHT: 2 Ngày thi: 12/2016
A5: Họ và tên giáo viên: Nguyễn Quốc Anh
A6: TT | B6: Họ và tên | D6: Ngày Sinh | E6: Nơi Sinh | F6: HS2 | K6: L1 | L6: L2 | M6: Tổng kết | O6: Vật liệu điện
M7: L1 | N7: L2 | O7: 2
A8: 1 | B8: Nguyễn Thế | C8: Ánh | D8: 05.10.2001 | E8: Đội 1- Nguyên Bình- Tĩnh Gia - Thanh Hóa | F8: 5 | G8: 6 | K8: 7 | M8: =(SUM(F8:G8)*2+K8*3)/7 -> 6.1428571 | O8: =MAX(M8,N8) -> 6.1428571
A9: 2 | B9: Lê Hữu | C9: Chiến | D9: 11.07.2000 | E9: Thị Trấn - Tĩnh Gia - Thanh Hóa | F9: 7 | G9: 7 | K9: 6 | M9: =(SUM(F9:G9)*2+K9*3)/7 -> 6.5714286 | O9: =MAX(M9,N9) -> 6.5714286
A10: 3 | B10: Lê Công | C10: Chính | D10: 16/09/2000 | E10: Đội 16- Nguyên Bình- Tĩnh Gia- Thanh Hóa | F10: 6 | G10: 6 | K10: 6 | M10: =(SUM(F10:G10)*2+K10*3)/7 -> 6 | O10: =MAX(M10,N10) -> 6
A11: 4 | B11: Lê Đức | C11: Chung | D11: 37142 | E11: Đông Hải - Hải Hòa- Tĩnh Gia - Thanh Hóa | F11: 5 | G11: 6 | K11: 7 | M11: =(SUM(F11:G11)*2+K11*3)/7 -> 6.1428571 | O11: =MAX(M11,N11) -> 6.1428571
A12: 5 | B12: Lê Văn | C12: Cương | D12: 16/10/2000 | E12: Hữu Nam– Mai Lâm – Tĩnh Gia – Thanh Hóa | F12: 6 | G12: 6 | K12: 7 | M12: =(SUM(F12:G12)*2+K12*3)/7 -> 6.4285714 | O12: =MAX(M12,N12) -> 6.4285714
A13: 6 | B13: Lê Văn | C13: Đại | D13: 19/02/2001 | E13: Sơn Trà- Trúc Lâm- Tĩnh Gia - Thanh Hóa | F13: 6 | G13: 6 | K13: 5 | M13: =(SUM(F13:G13)*2+K13*3)/7 -> 5.5714286 | O13: =MAX(M13,N13) -> 5.5714286
A14: 7 | B14: Lê Công | C14: Đạt | D14: 36929 | E14: Đồng Minh - Hải Ninh - Tĩnh Gia - Thanh Hóa | F14: 5 | G14: 6 | K14: 7 | M14: =(SUM(F14:G14)*2+K14*3)/7 -> 6.1428571 | O14: =MAX(M14,N14) -> 6.1428571
A15: 8 | B15: Bùi Văn | C15: Dũng | D15: 16.09.2000 | E15: Hải Hà - Tĩnh Gia - Thanh Hóa | F15: 6 | G15: 6 | K15: 6 | M15: =(SUM(F15:G15)*2+K15*3)/7 -> 6 | O15: =MAX(M15,N15) -> 6
A16: 9 | B16: Vũ Trọng | C16: Dương | D16: 10.12.2001 | E16: Hải Nhân - Tĩnh Gia - Thanh Hóa | F16: 6 | G16: 6 | K16: 7 | M16: =(SUM(F16:G16)*2+K16*3)/7 -> 6.4285714 | O16: =MAX(M16,N16) -> 6.4285714
A17: 10 | B17: Trương Bá | C17: Hạnh | D17: 37231 | E17: Thôn 10- Tân Trường- Tĩnh Gia- Thanh Hóa | F17: 6 | G17: 6 | K17: 6 | M17: =(SUM(F17:G17)*2+K17*3)/7 -> 6 | O17: =MAX(M17,N17) -> 6
A18: 11 | B18: Nguyễn Đắc | C18: Hiếu | D18: 19/02/2000 | E18: Thôn 6- Hải Lĩnh-Tĩnh Gia- Thanh Hóa | F18: 5 | G18: 6 | K18: 6 | M18: =(SUM(F18:G18)*2+K18*3)/7 -> 5.7142857 | O18: =MAX(M18,N18) -> 5.7142857
A19: 12 | B19: Mai Xuân | C19: Hinh | D19: 37205 | E19: Ninh Sơn- Trường Lâm- Tĩnh Gia- Thanh Hóa | F19: 6 | M19: =(SUM(F19:G19)*2+K19*3)/7 -> 1.7142857 | O19: bỏ
A20: 13 | B20: Phạm Đình | C20: Hoàng | D20: 13.02.2001 | E20: Nguyên Bình - Tĩnh Gia - Thanh Hóa | F20: 6 | G20: 6 | K20: 6 | M20: =(SUM(F20:G20)*2+K20*3)/7 -> 6 | O20: =MAX(M20,N20) -> 6
A21: 14 | B21: Lê Văn | C21: Hùng | D21: 09.08.2000 | E21: Bình Minh - Tĩnh Gia - Thanh Hóa | F21: 6 | G21: 6 | K21: 6 | M21: =(SUM(F21:G21)*2+K21*3)/7 -> 6 | O21: =MAX(M21,N21) -> 6
A22: 15 | B22: Trương Đình | C22: Hùng | D22: 15.06.2001 | E22: Ninh Hải - Tĩnh Gia - Thanh Hóa | F22: 5 | G22: 5 | K22: 6 | M22: =(SUM(F22:G22)*2+K22*3)/7 -> 5.4285714 | O22: =MAX(M22,N22) -> 5.4285714
A23: 16 | B23: Trần Văn | C23: Huy | D23: 24.08.2001 | E23: Tân Trường - Tĩnh Gia - Thanh Hóa | F23: 5 | M23: =(SUM(F23:G23)*2+K23*3)/7 -> 1.4285714 | O23: bỏ
A24: 17 | B24: Mai Xuân | C24: Huy | D24: 25.10.2001 | E24: Trường Lâm - Tĩnh Gia - Thanh Hóa | F24: 5 | G24: 6 | K24: 6 | M24: =(SUM(F24:G24)*2+K24*3)/7 -> 5.7142857 | O24: =MAX(M24,N24) -> 5.7142857
A25: 18 | B25: Lê Vinh | C25: Huy | D25: 36739 | E25: Bản Cát – Mai Lâm – Tĩnh Gia – Thanh Hóa | F25: 5 | G25: 6 | K25: 7 | M25: =(SUM(F25:G25)*2+K25*3)/7 -> 6.1428571 | O25: =MAX(M25,N25) -> 6.1428571
A26: 19 | B26: Nguyễn Xuân | C26: Lâm | D26: 22.11.2001 | E26: Nguyên Bình - Tĩnh Gia - Thanh Hóa | F26: 6 | G26: 6 | K26: 7 | M26: =(SUM(F26:G26)*2+K26*3)/7 -> 6.4285714 | O26: =MAX(M26,N26) -> 6.4285714
A27: 20 | B27: Phạm Nhật | C27: Linh | D27: 02.05.2001 | E27: Hải Ninh - Tĩnh Gia - Thanh Hóa | F27: 6 | M27: =(SUM(F27:G27)*2+K27*3)/7 -> 1.7142857 | O27: bỏ
A28: 21 | B28: Lê Văn | C28: Long | D28: 27.04.2001 | E28: Hải Thanh - Tĩnh Gia - Thanh Hóa | F28: 5 | G28: 6 | K28: 6 | M28: =(SUM(F28:G28)*2+K28*3)/7 -> 5.7142857 | O28: =MAX(M28,N28) -> 5.7142857
A29: 22 | B29: Đồng Xuân | C29: Mạnh | D29: 36923 | E29: Bình Minh- Trường Lâm- Tĩnh Gia- Thanh Hóa | F29: 6 | G29: 6 | K29: 5 | M29: =(SUM(F29:G29)*2+K29*3)/7 -> 5.5714286 | O29: =MAX(M29,N29) -> 5.5714286
A30: 23 | B30: Nguyễn Văn | C30: Minh | D30: 18.05.2001 | E30: Thượng Hải - Hải Thanh – Tĩnh Gia – Thanh Hóa | F30: 6 | G30: 6 | K30: 7 | M30: =(SUM(F30:G30)*2+K30*3)/7 -> 6.4285714 | O30: =MAX(M30,N30) -> 6.4285714
A31: 24 | B31: Hồ Sĩ | C31: Minh | D31: 10.12.2000 | E31: Phú Sơn - Tĩnh Gia - Thanh Hóa | F31: 6 | G31: 6 | K31: 6 | M31: =(SUM(F31:G31)*2+K31*3)/7 -> 6 | O31: =MAX(M31,N31) -> 6
A32: 25 | B32: Nguyễn Thị | C32: Mừng | D32: 37014 | E32: Giảng Tín - Trúc Lâm- Tĩnh Gia- Thanh Hóa | F32: 7 | G32: 8 | K32: 8 | M32: =(SUM(F32:G32)*2+K32*3)/7 -> 7.7142857 | O32: =MAX(M32,N32) -> 7.7142857
A33: 26 | B33: Lê Văn | C33: Nam | D33: 23.07.2001 | E33: Nguyên Bình - Tĩnh Gia - Thanh Hóa | F33: 5 | G33: 6 | K33: 6 | M33: =(SUM(F33:G33)*2+K33*3)/7 -> 5.7142857 | O33: =MAX(M33,N33) -> 5.7142857
A34: 27 | B34: Lê Văn | C34: Nam | D34: 16.08.2001 | E34: Hải Châu - Tĩnh Gia - Thanh Hóa | F34: 5 | G34: 6 | K34: 7 | M34: =(SUM(F34:G34)*2+K34*3)/7 -> 6.1428571 | O34: =MAX(M34,N34) -> 6.1428571
A35: 28 | B35: Ngô Khải | C35: Phong | D35: 15.08.2001 | E35: Hải Thanh - Tĩnh Gia - Thanh Hóa | F35: 7 | G35: 8 | K35: 7 | M35: =(SUM(F35:G35)*2+K35*3)/7 -> 7.2857143 | O35: =MAX(M35,N35) -> 7.2857143
A36: 29 | B36: Đỗ Ngọc | C36: Sơn | D36: 21.11.2000 | E36: Hoa Lư - Ninh Bình | F36: 5 | G36: 6 | K36: 5 | M36: =(SUM(F36:G36)*2+K36*3)/7 -> 5.2857143 | O36: =MAX(M36,N36) -> 5.2857143
A37: 30 | B37: Hoàng Văn | C37: Thái | D37: 25/4/2001 | E37: Đại Tiến- Ninh Hải- Tĩnh Gia- Thanh Hóa | F37: 5 | G37: 6 | K37: 7 | M37: =(SUM(F37:G37)*2+K37*3)/7 -> 6.1428571 | O37: =MAX(M37,N37) -> 6.1428571
A38: 31 | B38: Lê Doãn | C38: Thái | D38: 18/09/2001 | E38: Thôn 2 - Định Hải - Tĩnh Gia - Thanh Hóa | F38: 6 | G38: 7 | K38: 7 | M38: =(SUM(F38:G38)*2+K38*3)/7 -> 6.7142857 | O38: =MAX(M38,N38) -> 6.7142857
A39: 32 | B39: Lê Hữu | C39: Thành | D39: 37231 | E39: Thống Nhất- Ninh Hải- Tĩnh Gia- Thanh Hóa | F39: 6 | G39: 6 | K39: 7 | M39: =(SUM(F39:G39)*2+K39*3)/7 -> 6.4285714 | O39: =MAX(M39,N39) -> 6.4285714
A40: 33 | B40: Mai Xuân | C40: Thiện | D40: 10.07.2001 | E40: Ninh Hải - Tĩnh Gia - Thanh Hóa | F40: 6 | G40: 6 | K40: 6 | M40: =(SUM(F40:G40)*2+K40*3)/7 -> 6 | O40: =MAX(M40,N40) -> 6
A41: 34 | B41: Lê Đình | C41: Tình | D41: 08.04.2001 | E41: Trường Lâm - Tĩnh Gia - Thanh Hóa | F41: 5 | G41: 6 | K41: 6 | M41: =(SUM(F41:G41)*2+K41*3)/7 -> 5.7142857 | O41: =MAX(M41,N41) -> 5.7142857
A42: 35 | B42: Đậu Xuân | C42: Toàn | D42: 13/08/2001 | E42: Trường Thanh- Trường Lâm- Tĩnh Gia- Thanh Hóa | F42: 6 | M42: =(SUM(F42:G42)*2+K42*3)/7 -> 1.7142857 | O42: bỏ
A43: 36 | B43: Nguyễn Như | C43: Trọng | D43: 26/06/2001 | E43: Thôn 9- Tân Trường- Tĩnh Gia- Thanh Hóa | F43: 5 | G43: 6 | K43: 7 | M43: =(SUM(F43:G43)*2+K43*3)/7 -> 6.1428571 | O43: =MAX(M43,N43) -> 6.1428571
A44: 37 | B44: Lê Văn | C44: Trọng | D44: 15.07.1999 | E44: Tân Trường - Tĩnh Gia - Thanh Hóa | F44: 6 | G44: 6 | K44: 5 | M44: =(SUM(F44:G44)*2+K44*3)/7 -> 5.5714286 | O44: =MAX(M44,N44) -> 5.5714286
A45: 38 | B45: Lê Kim | C45: Trường | D45: 37014 | E45: Thôn 3- Hải An- Tĩnh Gia- Thanh Hóa | F45: 6 | G45: 6 | K45: 6 | M45: =(SUM(F45:G45)*2+K45*3)/7 -> 6 | O45: =MAX(M45,N45) -> 6
A46: 39 | B46: Nguyễn Văn | C46: Trưởng | D46: 25.04.2001 | E46: Trường Lâm - Tĩnh Gia - Thanh Hóa | F46: 5 | M46: =(SUM(F46:G46)*2+K46*3)/7 -> 1.4285714 | O46: bỏ
A47: 40 | B47: Lê Văn | C47: Tuân | D47: 21.09.2001 | E47: Ninh Hải - Tĩnh Gia - Thanh Hóa | F47: 5 | G47: 5 | K47: 6 | M47: =(SUM(F47:G47)*2+K47*3)/7 -> 5.4285714 | O47: =MAX(M47,N47) -> 5.4285714
A48: 41 | B48: Phạm Văn | C48: Tuấn | D48: 37175 | E48: Thanh Biình- Hải Ninh- Tĩnh Gia- Thanh Hóa | F48: 5 | G48: 6 | K48: 7 | M48: =(SUM(F48:G48)*2+K48*3)/7 -> 6.1428571 | O48: =MAX(M48,N48) -> 6.1428571
A49: 42 | B49: Lê Thị | C49: Tuyết | D49: 20.10.2001 | E49: Trung tâm hy vọng - Tĩnh Gia - Thanh Hóa | F49: 7 | G49: 7 | K49: 8 | M49: =(SUM(F49:G49)*2+K49*3)/7 -> 7.4285714 | O49: =MAX(M49,N49) -> 7.4285714
A50: 43 | B50: Mai Huy | C50: Việt | D50: 15/2/2000 | E50: TK2- TT Tĩnh Gia- Thanh Hóa | F50: 7 | G50: 7 | K50: 7 | M50: =(SUM(F50:G50)*2+K50*3)/7 -> 7 | O50: =MAX(M50,N50) -> 7
A51: 44 | B51: Lê Xuân | C51: Vinh | D51: 22.02.2001 | E51: Nguyên Bình - Tĩnh Gia - Thanh Hóa | F51: 5 | G51: 6 | K51: 5 | M51: =(SUM(F51:G51)*2+K51*3)/7 -> 5.2857143 | O51: =MAX(M51,N51) -> 5.2857143
A52: 45 | B52: Đỗ Tuấn | C52: Vương | D52: 03.01.2001 | E52: Trường Lâm - Tĩnh Gia - Thanh Hóa | F52: 6 | G52: 6 | K52: 7 | M52: =(SUM(F52:G52)*2+K52*3)/7 -> 6.4285714 | O52: =MAX(M52,N52) -> 6.4285714
A53: 46 | B53: Nguyễn Bá Trần | C53: Danh | F53: 6 | G53: 6 | K53: 7 | M53: =(SUM(F53:G53)*2+K53*3)/7 -> 6.4285714 | O53: =MAX(M53,N53) -> 6.4285714
A54: 47 | B54: Nguyễn Đình | C54: Nhật | F54: 6 | G54: 5 | K54: 6 | M54: =(SUM(F54:G54)*2+K54*3)/7 -> 5.7142857 | O54: =MAX(M54,N54) -> 5.7142857
A55: 48 | B55: Nguyễn Xuân | C55: Đức | F55: 6 | G55: 6 | K55: 6 | M55: =(SUM(F55:G55)*2+K55*3)/7 -> 6 | O55: =MAX(M55,N55) -> 6
A56: 49 | B56: Bùi Quốc | C56: Cường | F56: 5 | G56: 6 | K56: 5 | M56: =(SUM(F56:G56)*2+K56*3)/7 -> 5.2857143 | O56: =MAX(M56,N56) -> 5.2857143
A57: 50 | B57: Nguyễn Tuấn | C57: Hưng | F57: 5 | G57: 6 | K57: 5 | M57: =(SUM(F57:G57)*2+K57*3)/7 -> 5.2857143 | O57: =MAX(M57,N57) -> 5.2857143
A58: 51 | B58: Nguyễn Văn Tuấn | C58: Anh | F58: 6 | G58: 6 | K58: 6 | M58: =(SUM(F58:G58)*2+K58*3)/7 -> 6 | O58: =MAX(M58,N58) -> 6
A59: 52 | B59: Cao Ngọc | C59: Hoàng
A60: 53 | B60: Nguyễn Văn | C60: Anh
A62: BẢNG GHI ĐIỂM MÔĐUN / MÔN HỌC
A63: Học Kỳ I Năm Học 2016- 2017
A64: Khóa: VIII Lớp: Đ8B1
A65: Môn học: An toàn điện Số tiết: 30 Số ĐVHT: 2 Ngày thi:
A66: Họ và tên giáo viên: Đỗ Phương Anh
A67: TT | B67: Họ và tên | D67: Ngày Sinh | E67: Nơi Sinh | F67: HS2 | K67: L1 | L67: L2 | M67: Tổng kết | O67: An toàn điện
M68: L1 | N68: L2 | O68: 2
A69: 1 | B69: Nguyễn Thế | C69: Ánh | D69: 05.10.2001 | E69: Đội 1- Nguyên Bình- Tĩnh Gia - Thanh Hóa | F69: 6 | G69: 5 | K69: 5 | M69: =(SUM(F69:G69)*2+K69*3)/7 -> 5.2857143 | O69: =MAX(M69,N69) -> 5.2857143
A70: 2 | B70: Lê Hữu | C70: Chiến | D70: 11.07.2000 | E70: Thị Trấn - Tĩnh Gia - Thanh Hóa | F70: 5 | G70: 6 | K70: 7 | M70: =(SUM(F70:G70)*2+K70*3)/7 -> 6.1428571 | O70: =MAX(M70,N70) -> 6.1428571
A71: 3 | B71: Lê Công | C71: Chính | D71: 16/09/2000 | E71: Đội 16- Nguyên Bình- Tĩnh Gia- Thanh Hóa | F71: 5 | G71: 6 | K71: 5 | M71: =(SUM(F71:G71)*2+K71*3)/7 -> 5.2857143 | O71: =MAX(M71,N71) -> 5.2857143
A72: 4 | B72: Lê Đức | C72: Chung | D72: 37142 | E72: Đông Hải - Hải Hòa- Tĩnh Gia - Thanh Hóa | F72: 5 | G72: 6 | K72: 7 | M72: =(SUM(F72:G72)*2+K72*3)/7 -> 6.1428571 | O72: =MAX(M72,N72) -> 6.1428571
A73: 5 | B73: Lê Văn | C73: Cương | D73: 16/10/2000 | E73: Hữu Nam– Mai Lâm – Tĩnh Gia – Thanh Hóa | F73: 5 | G73: 5 | K73: 6 | M73: =(SUM(F73:G73)*2+K73*3)/7 -> 5.4285714 | O73: =MAX(M73,N73) -> 5.4285714
A74: 6 | B74: Lê Văn | C74: Đại | D74: 19/02/2001 | E74: Sơn Trà- Trúc Lâm- Tĩnh Gia - Thanh Hóa | F74: 6 | G74: 5 | K74: 6 | M74: =(SUM(F74:G74)*2+K74*3)/7 -> 5.7142857 | O74: =MAX(M74,N74) -> 5.7142857
A75: 7 | B75: Lê Công | C75: Đạt | D75: 36929 | E75: Đồng Minh - Hải Ninh - Tĩnh Gia - Thanh Hóa | F75: 5 | G75: 5 | K75: 5 | M75: =(SUM(F75:G75)*2+K75*3)/7 -> 5 | O75: =MAX(M75,N75) -> 5
A76: 8 | B76: Bùi Văn | C76: Dũng | D76: 16.09.2000 | E76: Hải Hà - Tĩnh Gia - Thanh Hóa | F76: 5 | G76: 6 | K76: 7 | M76: =(SUM(F76:G76)*2+K76*3)/7 -> 6.1428571 | O76: =MAX(M76,N76) -> 6.1428571
A77: 9 | B77: Vũ Trọng | C77: Dương | D77: 10.12.2001 | E77: Hải Nhân - Tĩnh Gia - Thanh Hóa | F77: 7 | G77: 6 | K77: 6 | M77: =(SUM(F77:G77)*2+K77*3)/7 -> 6.2857143 | O77: =MAX(M77,N77) -> 6.2857143
A78: 10 | B78: Trương Bá | C78: Hạnh | D78: 37231 | E78: Thôn 10- Tân Trường- Tĩnh Gia- Thanh Hóa | F78: 5 | G78: 5 | K78: 6 | M78: =(SUM(F78:G78)*2+K78*3)/7 -> 5.4285714 | O78: =MAX(M78,N78) -> 5.4285714
A79: 11 | B79: Nguyễn Đắc | C79: Hiếu | D79: 19/02/2000 | E79: Thôn 6- Hải Lĩnh-Tĩnh Gia- Thanh Hóa | F79: 5 | G79: 6 | K79: 5 | M79: =(SUM(F79:G79)*2+K79*3)/7 -> 5.2857143 | O79: =MAX(M79,N79) -> 5.2857143
A80: 12 | B80: Mai Xuân | C80: Hinh | D80: 37205 | E80: Ninh Sơn- Trường Lâm- Tĩnh Gia- Thanh Hóa | F80: 5 | G80: 5 | K80: 4 | O80: bỏ
A81: 13 | B81: Phạm Đình | C81: Hoàng | D81: 13.02.2001 | E81: Nguyên Bình - Tĩnh Gia - Thanh Hóa | F81: 5 | G81: 5 | K81: 4 | L81: 5 | N81: =(SUM(F81:G81)*2+L81*3)/7 -> 5 | O81: =MAX(M81,N81) -> 5
A82: 14 | B82: Lê Văn | C82: Hùng | D82: 09.08.2000 | E82: Bình Minh - Tĩnh Gia - Thanh Hóa | F82: 5 | G82: 5 | K82: 6 | M82: =(SUM(F82:G82)*2+K82*3)/7 -> 5.4285714 | O82: =MAX(M82,N82) -> 5.4285714
A83: 15 | B83: Trương Đình | C83: Hùng | D83: 15.06.2001 | E83: Ninh Hải - Tĩnh Gia - Thanh Hóa | F83: 5 | G83: 6 | K83: 6 | M83: =(SUM(F83:G83)*2+K83*3)/7 -> 5.7142857 | O83: =MAX(M83,N83) -> 5.7142857
A84: 16 | B84: Trần Văn | C84: Huy | D84: 24.08.2001 | E84: Tân Trường - Tĩnh Gia - Thanh Hóa | F84: 5 | G84: 6 | O84: bỏ
A85: 17 | B85: Mai Xuân | C85: Huy | D85: 25.10.2001 | E85: Trường Lâm - Tĩnh Gia - Thanh Hóa | F85: 6 | G85: 5 | K85: 5 | M85: =(SUM(F85:G85)*2+K85*3)/7 -> 5.2857143 | O85: =MAX(M85,N85) -> 5.2857143
A86: 18 | B86: Lê Vinh | C86: Huy | D86: 36739 | E86: Bản Cát – Mai Lâm – Tĩnh Gia – Thanh Hóa | F86: 5 | G86: 5 | K86: 6 | M86: =(SUM(F86:G86)*2+K86*3)/7 -> 5.4285714 | O86: =MAX(M86,N86) -> 5.4285714
A87: 19 | B87: Nguyễn Xuân | C87: Lâm | D87: 22.11.2001 | E87: Nguyên Bình - Tĩnh Gia - Thanh Hóa | F87: 5 | G87: 5 | K87: 6 | M87: =(SUM(F87:G87)*2+K87*3)/7 -> 5.4285714 | O87: =MAX(M87,N87) -> 5.4285714
A88: 20 | B88: Phạm Nhật | C88: Linh | D88: 02.05.2001 | E88: Hải Ninh - Tĩnh Gia - Thanh Hóa | O88: bỏ
A89: 21 | B89: Lê Văn | C89: Long | D89: 27.04.2001 | E89: Hải Thanh - Tĩnh Gia - Thanh Hóa | F89: 5 | G89: 5 | K89: 5 | M89: =(SUM(F89:G89)*2+K89*3)/7 -> 5 | O89: =MAX(M89,N89) -> 5
A90: 22 | B90: Đồng Xuân | C90: Mạnh | D90: 36923 | E90: Bình Minh- Trường Lâm- Tĩnh Gia- Thanh Hóa | F90: 6 | G90: 6 | K90: 6 | M90: =(SUM(F90:G90)*2+K90*3)/7 -> 6 | O90: =MAX(M90,N90) -> 6
A91: 23 | B91: Nguyễn Văn | C91: Minh | D91: 18.05.2001 | E91: Thượng Hải - Hải Thanh – Tĩnh Gia – Thanh Hóa | F91: 7 | G91: 7 | K91: 6 | M91: =(SUM(F91:G91)*2+K91*3)/7 -> 6.5714286 | O91: =MAX(M91,N91) -> 6.5714286
A92: 24 | B92: Hồ Sĩ | C92: Minh | D92: 10.12.2000 | E92: Phú Sơn - Tĩnh Gia - Thanh Hóa | F92: 5 | G92: 6 | K92: 5 | M92: =(SUM(F92:G92)*2+K92*3)/7 -> 5.2857143 | O92: =MAX(M92,N92) -> 5.2857143
A93: 25 | B93: Nguyễn Thị | C93: Mừng | D93: 37014 | E93: Giảng Tín - Trúc Lâm- Tĩnh Gia- Thanh Hóa | F93: 7 | G93: 7 | K93: 7 | M93: =(SUM(F93:G93)*2+K93*3)/7 -> 7 | O93: =MAX(M93,N93) -> 7
A94: 26 | B94: Lê Văn | C94: Nam a | D94: 23.07.2001 | E94: Nguyên Bình - Tĩnh Gia - Thanh Hóa | F94: 5 | G94: 6 | K94: 6 | M94: =(SUM(F94:G94)*2+K94*3)/7 -> 5.7142857 | O94: =MAX(M94,N94) -> 5.7142857
A95: 27 | B95: Lê Văn | C95: Nam b | D95: 16.08.2001 | E95: Hải Châu - Tĩnh Gia - Thanh Hóa | F95: 5 | G95: 6 | K95: 7 | M95: =(SUM(F95:G95)*2+K95*3)/7 -> 6.1428571 | O95: =MAX(M95,N95) -> 6.1428571
A96: 28 | B96: Ngô Khải | C96: Phong | D96: 15.08.2001 | E96: Hải Thanh - Tĩnh Gia - Thanh Hóa | F96: 5 | G96: 6 | K96: 7 | M96: =(SUM(F96:G96)*2+K96*3)/7 -> 6.1428571 | O96: =MAX(M96,N96) -> 6.1428571
A97: 29 | B97: Đỗ Ngọc | C97: Sơn | D97: 21.11.2000 | E97: Hoa Lư - Ninh Bình | F97: 5 | G97: 5 | K97: 4 | O97: TL
A98: 30 | B98: Hoàng Văn | C98: Thái | D98: 25/4/2001 | E98: Đại Tiến- Ninh Hải- Tĩnh Gia- Thanh Hóa | F98: 5 | G98: 6 | K98: 6 | M98: =(SUM(F98:G98)*2+K98*3)/7 -> 5.7142857 | O98: =MAX(M98,N98) -> 5.7142857
A99: 31 | B99: Lê Doãn | C99: Thái | D99: 18/09/2001 | E99: Thôn 2 - Định Hải - Tĩnh Gia - Thanh Hóa | F99: 6 | G99: 8 | K99: 7 | M99: =(SUM(F99:G99)*2+K99*3)/7 -> 7 | O99: =MAX(M99,N99) -> 7
A100: 32 | B100: Lê Hữu | C100: Thành | D100: 37231 | E100: Thống Nhất- Ninh Hải- Tĩnh Gia- Thanh Hóa | F100: 6 | G100: 6 | K100: 8 | M100: =(SUM(F100:G100)*2+K100*3)/7 -> 6.8571429 | O100: =MAX(M100,N100) -> 6.8571429
A101: 33 | B101: Mai Xuân | C101: Thiện | D101: 10.07.2001 | E101: Ninh Hải - Tĩnh Gia - Thanh Hóa | F101: 6 | G101: 5 | K101: 5 | M101: =(SUM(F101:G101)*2+K101*3)/7 -> 5.2857143 | O101: =MAX(M101,N101) -> 5.2857143
...

Sheet TKHK1
C1: ĐiỂM TỔNG KẾT HỌC KỲ 1 NĂM HỌC 2016 - 2017
E2: LỚP Đ8B1
A3: TT | B3: Họ và tên | D3: Ngày Sinh | E3: Nơi Sinh | F3: =tphk1!O6 -> Vật liệu điện | G3: =tphk1!O67 -> An toàn điện | H3: =tphk1!O127 -> Pháp luật | I3: =tphk1!O189 -> vẽ điện | J3: =tphk1!O252 -> mạch điện | K3: =tphk1!O314 -> Vẽ kỹ thuật | L3: =tphk1!O377 -> Chính trị | M3: =tphk1!O439 -> Tiếng Anh | N3: =tphk1!O518 -> Tin học | O3: =tphk1!O619 -> giáo dục thể chất | P3: TB CHUNG | Q3: Xếp loại
F4: =tphk1!O7 -> 2 | G4: =tphk1!O68 -> 2 | H4: =tphk1!O128 -> 1 | I4: =tphk1!O190 -> 2 | J4: =tphk1!O253 -> 4 | K4: =tphk1!O315 -> 2 | L4: =tphk1!O378 -> 2 | M4: =tphk1!O440 -> 2 | N4: =tphk1!O519 -> 2 | O4: =tphk1!O620 -> 2 | P4: =SUM(F4:O4) -> 21
A5: 1 | B5: Nguyễn Thế | C5: Ánh | D5: 05.10.2001 | E5: Đội 1- Nguyên Bình- Tĩnh Gia - Thanh Hóa | F5: =tphk1!O8 -> 6.1428571 | G5: =tphk1!O69 -> 5.2857143 | H5: =tphk1!O129 -> 7.8 | I5: =tphk1!O191 -> 7 | J5: =tphk1!O254 -> 5.5555556 | K5: =tphk1!O316 -> 5.5714286 | L5: =tphk1!O379 -> 5.7142857 | M5: =tphk1!O441 -> 5.6363636 | N5: =tphk1!O520 -> 6.4285714 | O5: =tphk1!O621 -> 6 | P5: =(F5*2+G5*2+H5*1+I5*2+J5*4+K5*2+L5*2+M5*2+N5*2+O5*2)/21 -> 5.9800316 | Q5: =(IF(P5>=8,"Giỏi",IF(P5>=7,"Khá",IF(P5>=6,"TB","yếu")))) -> yếu
A6: 2 | B6: Lê Hữu | C6: Chiến | D6: 11.07.2000 | E6: Thị Trấn - Tĩnh Gia - Thanh Hóa | F6: =tphk1!O9 -> 6.5714286 | G6: =tphk1!O70 -> 6.1428571 | H6: =tphk1!O130 -> 8.2 | I6: =tphk1!O192 -> 7 | J6: =tphk1!O255 -> 5.7777778 | K6: =tphk1!O317 -> 7.4285714 | L6: =tphk1!O380 -> 6.2857143 | M6: =tphk1!O442 -> 6.1818182 | N6: =tphk1!O521 -> 6 | O6: =tphk1!O622 -> 5.2857143 | P6: =(F6*2+G6*2+H6*1+I6*2+J6*4+K6*2+L6*2+M6*2+N6*2+O6*2)/21 -> 6.3382533 | Q6: =(IF(P6>=8,"Giỏi",IF(P6>=7,"Khá",IF(P6>=6,"TB","yếu")))) -> TB
A7: 3 | B7: Lê Công | C7: Chính | D7: 16/09/2000 | E7: Đội 16- Nguyên Bình- Tĩnh Gia- Thanh Hóa | F7: =tphk1!O10 -> 6 | G7: =tphk1!O71 -> 5.2857143 | H7: =tphk1!O131 -> 8 | I7: =tphk1!O193 -> 5 | J7: =tphk1!O256 -> 5.3333333 | K7: =tphk1!O318 -> 6.4285714 | L7: =tphk1!O381 -> 6 | M7: =tphk1!O443 -> 6.1818182 | N7: =tphk1!O522 -> 6 | O7: =tphk1!O623 -> 6.7142857 | P7: =(F7*2+G7*2+H7*1+I7*2+J7*4+K7*2+L7*2+M7*2+N7*2+O7*2)/21 -> 5.9311482 | Q7: =(IF(P7>=8,"Giỏi",IF(P7>=7,"Khá",IF(P7>=6,"TB","yếu")))) -> yếu
A8: 4 | B8: Lê Đức | C8: Chung | D8: 37142 | E8: Đông Hải - Hải Hòa- Tĩnh Gia - Thanh Hóa | F8: =tphk1!O11 -> 6.1428571 | G8: =tphk1!O72 -> 6.1428571 | H8: =tphk1!O132 -> 7.8 | I8: =tphk1!O194 -> 6.4285714 | J8: =tphk1!O257 -> 7.2222222 | K8: =tphk1!O319 -> 6.2857143 | L8: =tphk1!O382 -> 7 | M8: =tphk1!O444 -> 6.1818182 | N8: =tphk1!O523 -> 6.4285714 | O8: =tphk1!O624 -> 5.5714286 | P8: =(F8*2+G8*2+H8*1+I8*2+J8*4+K8*2+L8*2+M8*2+N8*2+O8*2)/21 -> 6.5263107 | Q8: =(IF(P8>=8,"Giỏi",IF(P8>=7,"Khá",IF(P8>=6,"TB","yếu")))) -> TB
A9: 5 | B9: Lê Văn | C9: Cương | D9: 16/10/2000 | E9: Hữu Nam– Mai Lâm – Tĩnh Gia – Thanh Hóa | F9: =tphk1!O12 -> 6.4285714 | G9: =tphk1!O73 -> 5.4285714 | H9: =tphk1!O133 -> 7.6 | I9: =tphk1!O195 -> 7.5714286 | J9: =tphk1!O258 -> 7.5555556 | K9: =tphk1!O320 -> 8.2857143 | L9: =tphk1!O383 -> 7 | M9: =tphk1!O445 -> 5.6363636 | N9: =tphk1!O524 -> 6.2857143 | O9: =tphk1!O625 -> 5.8571429 | P9: =(F9*2+G9*2+H9*1+I9*2+J9*4+K9*2+L9*2+M9*2+N9*2+O9*2)/21 -> 6.8004398 | Q9: =(IF(P9>=8,"Giỏi",IF(P9>=7,"Khá",IF(P9>=6,"TB","yếu")))) -> TB
A10: 6 | B10: Lê Văn | C10: Đại | D10: 19/02/2001 | E10: Sơn Trà- Trúc Lâm- Tĩnh Gia - Thanh Hóa | F10: =tphk1!O13 -> 5.5714286 | G10: =tphk1!O74 -> 5.7142857 | H10: =tphk1!O134 -> 8 | I10: =tphk1!O196 -> 6 | J10: =tphk1!O259 -> 5.7777778 | K10: =tphk1!O321 -> 7 | L10: =tphk1!O384 -> 7 | M10: =tphk1!O446 -> 5.8181818 | N10: =tphk1!O525 -> 6 | O10: =tphk1!O626 -> 6.4285714 | P10: =(F10*2+G10*2+H10*1+I10*2+J10*4+K10*2+L10*2+M10*2+N10*2+O10*2)/21 -> 6.1988593 | Q10: =(IF(P10>=8,"Giỏi",IF(P10>=7,"Khá",IF(P10>=6,"TB","yếu")))) -> TB | S10: Giỏi | T10: =COUNTIF(Q5:Q52,"Giỏi") -> 0
A11: 7 | B11: Lê Công | C11: Đạt | D11: 36929 | E11: Đồng Minh - Hải Ninh - Tĩnh Gia - Thanh Hóa | F11: =tphk1!O14 -> 6.1428571 | G11: =tphk1!O75 -> 5 | H11: =tphk1!O135 -> 7.2 | I11: =tphk1!O197 -> 5.2857143 | J11: =tphk1!O260 -> 6 | K11: =tphk1!O322 -> 6.2857143 | L11: =tphk1!O385 -> 6.7142857 | M11: =tphk1!O447 -> 5.9090909 | N11: =tphk1!O526 -> 5.7142857 | O11: =tphk1!O627 -> 7.2857143 | P11: =(F11*2+G11*2+H11*1+I11*2+J11*4+K11*2+L11*2+M11*2+N11*2+O11*2)/21 -> 6.0893012 | Q11: =(IF(P11>=8,"Giỏi",IF(P11>=7,"Khá",IF(P11>=6,"TB","yếu")))) -> TB | S11: Khá | T11: =COUNTIF(Q6:Q53,"Khá") -> 3
A12: 8 | B12: Bùi Văn | C12: Dũng | D12: 16.09.2000 | E12: Hải Hà - Tĩnh Gia - Thanh Hóa | F12: =tphk1!O15 -> 6 | G12: =tphk1!O76 -> 6.1428571 | H12: =tphk1!O136 -> 8 | I12: =tphk1!O198 -> 6.7142857 | J12: =tphk1!O261 -> 6.5555556 | K12: =tphk1!O323 -> 7 | L12: =tphk1!O386 -> 7 | M12: =tphk1!O448 -> 6 | N12: =tphk1!O527 -> 7 | O12: =tphk1!O628 -> 5.8571429 | P12: =(F12*2+G12*2+H12*1+I12*2+J12*4+K12*2+L12*2+M12*2+N12*2+O12*2)/21 -> 6.5547997 | Q12: =(IF(P12>=8,"Giỏi",IF(P12>=7,"Khá",IF(P12>=6,"TB","yếu")))) -> TB | S12: TB | T12: =COUNTIF(Q7:Q54,"TB") -> 23
A13: 9 | B13: Vũ Trọng | C13: Dương | D13: 10.12.2001 | E13: Hải Nhân - Tĩnh Gia - Thanh Hóa | F13: =tphk1!O16 -> 6.4285714 | G13: =tphk1!O77 -> 6.2857143 | H13: =tphk1!O137 -> 8 | I13: =tphk1!O199 -> 6.4285714 | J13: =tphk1!O262 -> 7.4444444 | K13: =tphk1!O324 -> 7 | L13: =tphk1!O387 -> 7 | M13: =tphk1!O449 -> 6.3636364 | N13: =tphk1!O528 -> 6.2857143 | O13: =tphk1!O629 -> 6.4285714 | P13: =(F13*2+G13*2+H13*1+I13*2+J13*4+K13*2+L13*2+M13*2+N13*2+O13*2)/21 -> 6.7723493 | Q13: =(IF(P13>=8,"Giỏi",IF(P13>=7,"Khá",IF(P13>=6,"TB","yếu")))) -> TB | S13: Yếu | T13: =COUNTIF(Q5:Q52,"Yếu") -> 11
A14: 10 | B14: Trương Bá | C14: Hạnh | D14: 37231 | E14: Thôn 10- Tân Trường- Tĩnh Gia- Thanh Hóa | F14: =tphk1!O17 -> 6 | G14: =tphk1!O78 -> 5.4285714 | H14: =tphk1!O138 -> 7.6 | I14: =tphk1!O200 -> 5.7142857 | J14: =tphk1!O263 -> 5.5555556 | K14: =tphk1!O325 -> 6 | L14: =tphk1!O388 -> 6.2857143 | M14: =tphk1!O450 -> 5.8181818 | N14: =tphk1!O529 -> 5.8571429 | O14: =tphk1!O630 -> 7.2857143 | P14: =(F14*2+G14*2+H14*1+I14*2+J14*4+K14*2+L14*2+M14*2+N14*2+O14*2)/21 -> 6.0286401 | Q14: =(IF(P14>=8,"Giỏi",IF(P14>=7,"Khá",IF(P14>=6,"TB","yếu")))) -> TB
A15: 11 | B15: Nguyễn Đắc | C15: Hiếu | D15: 19/02/2000 | E15: Thôn 6- Hải Lĩnh-Tĩnh Gia- Thanh Hóa | F15: =tphk1!O18 -> 5.7142857 | G15: =tphk1!O79 -> 5.2857143 | H15: =tphk1!O139 -> 6.2 | I15: =tphk1!O201 -> 5.7142857 | J15: =tphk1!O264 -> 5 | K15: =tphk1!O326 -> 5.7142857 | L15: =tphk1!O389 -> 6.2857143 | M15: =tphk1!O451 -> 6.3636364 | N15: =tphk1!O530 -> 6 | O15: =tphk1!O631 -> 8.1428571 | P15: =(F15*2+G15*2+H15*1+I15*2+J15*4+K15*2+L15*2+M15*2+N15*2+O15*2)/21 -> 5.9353123 | Q15: =(IF(P15>=8,"Giỏi",IF(P15>=7,"Khá",IF(P15>=6,"TB","yếu")))) -> yếu
A16: 12 | B16: Mai Xuân | C16: Hinh | D16: 37205 | E16: Ninh Sơn- Trường Lâm- Tĩnh Gia- Thanh Hóa | F16: =tphk1!O19 -> bỏ | G16: =tphk1!O80 -> bỏ | H16: =tphk1!O140 -> BỎ | I16: =tphk1!O202 -> BỎ | J16: =tphk1!O265 -> BỎ | K16: =tphk1!O327 -> BỎ | L16: =tphk1!O390 -> BỎ | M16: =tphk1!O452 -> hl | N16: =tphk1!O531 -> HL | O16: =tphk1!O632 -> 6.4285714 | P16: =(F16*2+G16*2+H16*1+I16*2+J16*4+K16*2+L16*2+M16*2+N16*2+O16*2)/21 -> #VALUE! | Q16: =(IF(P16>=8,"Giỏi",IF(P16>=7,"Khá",IF(P16>=6,"TB","yếu")))) -> #VALUE!
A17: 13 | B17: Phạm Đình | C17: Hoàng | D17: 13.02.2001 | E17: Nguyên Bình - Tĩnh Gia - Thanh Hóa | F17: =tphk1!O20 -> 6 | G17: =tphk1!O81 -> 5 | H17: =tphk1!O141 -> 5.8 | I17: =tphk1!O203 -> BỎ | J17: =tphk1!O266 -> HL | K17: =tphk1!O328 -> 5 | L17: =tphk1!O391 -> HL | M17: =tphk1!O453 -> 6.3636364 | N17: =tphk1!O532 -> 6.1428571 | O17: =tphk1!O633 -> TL | P17: =(F17*2+G17*2+H17*1+I17*2+J17*4+K17*2+L17*2+M17*2+N17*2+O17*2)/21 -> #VALUE! | Q17: =(IF(P17>=8,"Giỏi",IF(P17>=7,"Khá",IF(P17>=6,"TB","yếu")))) -> #VALUE!
A18: 14 | B18: Lê Văn | C18: Hùng | D18: 09.08.2000 | E18: Bình Minh - Tĩnh Gia - Thanh Hóa | F18: =tphk1!O21 -> 6 | G18: =tphk1!O82 -> 5.4285714 | H18: =tphk1!O142 -> 7 | I18: =tphk1!O204 -> 6.1428571 | J18: =tphk1!O267 -> 6.2222222 | K18: =tphk1!O329 -> 5.7142857 | L18: =tphk1!O392 -> 6.2857143 | M18: =tphk1!O454 -> 6.3636364 | N18: =tphk1!O533 -> 6.4285714 | O18: =tphk1!O634 -> 5.5714286 | P18: =(F18*2+G18*2+H18*1+I18*2+J18*4+K18*2+L18*2+M18*2+N18*2+O18*2)/21 -> 6.0837628 | Q18: =(IF(P18>=8,"Giỏi",IF(P18>=7,"Khá",IF(P18>=6,"TB","yếu")))) -> TB
A19: 15 | B19: Trương Đình | C19: Hùng | D19: 15.06.2001 | E19: Ninh Hải - Tĩnh Gia - Thanh Hóa | F19: =tphk1!O22 -> 5.4285714 | G19: =tphk1!O83 -> 5.7142857 | H19: =tphk1!O143 -> 7.6 | I19: =tphk1!O205 -> 6 | J19: =tphk1!O268 -> 5 | K19: =tphk1!O330 -> 6 | L19: =tphk1!O393 -> 6 | M19: =tphk1!O455 -> 6.3636364 | N19: =tphk1!O534 -> 5.8571429 | O19: =tphk1!O635 -> 5.8571429 | P19: =(F19*2+G19*2+H19*1+I19*2+J19*4+K19*2+L19*2+M19*2+N19*2+O19*2)/21 -> 5.8115028 | Q19: =(IF(P19>=8,"Giỏi",IF(P19>=7,"Khá",IF(P19>=6,"TB","yếu")))) -> yếu
A20: 16 | B20: Trần Văn | C20: Huy | D20: 24.08.2001 | E20: Tân Trường - Tĩnh Gia - Thanh Hóa | F20: =tphk1!O23 -> bỏ | G20: =tphk1!O84 -> bỏ | H20: =tphk1!O144 -> BỎ | I20: =tphk1!O206 -> BỎ | J20: =tphk1!O269 -> HL | K20: =tphk1!O331 -> BỎ | L20: =tphk1!O394 -> BỎ | M20: =tphk1!O456 -> hl | N20: =tphk1!O535 -> HL | O20: =tphk1!O636 -> HL | P20: =(F20*2+G20*2+H20*1+I20*2+J20*4+K20*2+L20*2+M20*2+N20*2+O20*2)/21 -> #VALUE! | Q20: =(IF(P20>=8,"Giỏi",IF(P20>=7,"Khá",IF(P20>=6,"TB","yếu")))) -> #VALUE!
A21: 17 | B21: Mai Xuân | C21: Huy | D21: 25.10.2001 | E21: Trường Lâm - Tĩnh Gia - Thanh Hóa | F21: =tphk1!O24 -> 5.7142857 | G21: =tphk1!O85 -> 5.2857143 | H21: =tphk1!O145 -> 7.6 | I21: =tphk1!O207 -> 5.7142857 | J21: =tphk1!O270 -> 5.3333333 | K21: =tphk1!O332 -> 5.7142857 | L21: =tphk1!O395 -> 6.7142857 | M21: =tphk1!O457 -> 6.1818182 | N21: =tphk1!O536 -> 6 | O21: =tphk1!O637 -> 6.5714286 | P21: =(F21*2+G21*2+H21*1+I21*2+J21*4+K21*2+L21*2+M21*2+N21*2+O21*2)/21 -> 5.9393115 | Q21: =(IF(P21>=8,"Giỏi",IF(P21>=7,"Khá",IF(P21>=6,"TB","yếu")))) -> yếu
A22: 18 | B22: Lê Vinh | C22: Huy | D22: 36739 | E22: Bản Cát – Mai Lâm – Tĩnh Gia – Thanh Hóa | F22: =tphk1!O25 -> 6.1428571 | G22: =tphk1!O86 -> 5.4285714 | H22: =tphk1!O146 -> 8.2 | I22: =tphk1!O208 -> 5.7142857 | J22: =tphk1!O271 -> 5.5555556 | K22: =tphk1!O333 -> 7.4285714 | L22: =tphk1!O396 -> 6 | M22: =tphk1!O458 -> 6 | N22: =tphk1!O537 -> 5 | O22: =tphk1!O638 -> 6.5714286 | P22: =(F22*2+G22*2+H22*1+I22*2+J22*4+K22*2+L22*2+M22*2+N22*2+O22*2)/21 -> 6.0473167 | Q22: =(IF(P22>=8,"Giỏi",IF(P22>=7,"Khá",IF(P22>=6,"TB","yếu")))) -> TB
A23: 19 | B23: Nguyễn Xuân | C23: Lâm | D23: 22.11.2001 | E23: Nguyên Bình - Tĩnh Gia - Thanh Hóa | F23: =tphk1!O26 -> 6.4285714 | G23: =tphk1!O87 -> 5.4285714 | H23: =tphk1!O147 -> 6.6 | I23: =tphk1!O209 -> 5 | J23: =tphk1!O272 -> 5.2222222 | K23: =tphk1!O334 -> 6 | L23: =tphk1!O397 -> HL | M23: =tphk1!O459 -> 6.0909091 | N23: =tphk1!O538 -> 7 | O23: =tphk1!O639 -> HL | P23: =(F23*2+G23*2+H23*1+I23*2+J23*4+K23*2+L23*2+M23*2+N23*2+O23*2)/21 -> #VALUE! | Q23: =(IF(P23>=8,"Giỏi",IF(P23>=7,"Khá",IF(P23>=6,"TB","yếu")))) -> #VALUE!
A24: 20 | B24: Phạm Nhật | C24: Linh | D24: 02.05.2001 | E24: Hải Ninh - Tĩnh Gia - Thanh Hóa | F24: =tphk1!O27 -> bỏ | G24: =tphk1!O88 -> bỏ | H24: =tphk1!O148 -> BỎ | I24: =tphk1!O210 -> BỎ | J24: =tphk1!O273 -> BỎ | K24: =tphk1!O335 -> BỎ | L24: =tphk1!O398 -> 7 | M24: =tphk1!O460 -> tl | N24: =tphk1!O539 -> HL | O24: =tphk1!O640 -> HL | P24: =(F24*2+G24*2+H24*1+I24*2+J24*4+K24*2+L24*2+M24*2+N24*2+O24*2)/21 -> #VALUE! | Q24: =(IF(P24>=8,"Giỏi",IF(P24>=7,"Khá",IF(P24>=6,"TB","yếu")))) -> #VALUE!
A25: 21 | B25: Lê Văn | C25: Long | D25: 27.04.2001 | E25: Hải Thanh - Tĩnh Gia - Thanh Hóa | F25: =tphk1!O28 -> 5.7142857 | G25: =tphk1!O89 -> 5 | H25: =tphk1!O149 -> 5.8 | I25: =tphk1!O211 -> 7 | J25: =tphk1!O274 -> 5.3333333 | K25: =tphk1!O336 -> 6 | L25: =tphk1!O399 -> 6.7142857 | M25: =tphk1!O461 -> 6.0909091 | N25: =tphk1!O540 -> 6.7142857 | O25: =tphk1!O641 -> 5.2857143 | P25: =(F25*2+G25*2+H25*1+I25*2+J25*4+K25*2+L25*2+M25*2+N25*2+O25*2)/21 -> 5.9129664 | Q25: =(IF(P25>=8,"Giỏi",IF(P25>=7,"Khá",IF(P25>=6,"TB","yếu")))) -> yếu
A26: 22 | B26: Đồng Xuân | C26: Mạnh | D26: 36923 | E26: Bình Minh- Trường Lâm- Tĩnh Gia- Thanh Hóa | F26: =tphk1!O29 -> 5.5714286 | G26: =tphk1!O90 -> 6 | H26: =tphk1!O150 -> 7.2 | I26: =tphk1!O212 -> 5.7142857 | J26: =tphk1!O275 -> 6.4444444 | K26: =tphk1!O337 -> 6.7142857 | L26: =tphk1!O400 -> 7 | M26: =tphk1!O462 -> 6 | N26: =tphk1!O541 -> 5.8571429 | O26: =tphk1!O642 -> 5.7142857 | P26: =(F26*2+G26*2+H26*1+I26*2+J26*4+K26*2+L26*2+M26*2+N26*2+O26*2)/21 -> 6.1962207 | Q26: =(IF(P26>=8,"Giỏi",IF(P26>=7,"Khá",IF(P26>=6,"TB","yếu")))) -> TB
A27: 23 | B27: Nguyễn Văn | C27: Minh | D27: 18.05.2001 | E27: Thượng Hải - Hải Thanh – Tĩnh Gia – Thanh Hóa | F27: =tphk1!O30 -> 6.4285714 | G27: =tphk1!O91 -> 6.5714286 | H27: =tphk1!O151 -> 8.6 | I27: =tphk1!O213 -> 6.7142857 | J27: =tphk1!O276 -> 6 | K27: =tphk1!O338 -> 7.5714286 | L27: =tphk1!O401 -> 6.7142857 | M27: =tphk1!O463 -> 6.5454545 | N27: =tphk1!O542 -> 6 | O27: =tphk1!O643 -> 6.7142857 | P27: =(F27*2+G27*2+H27*1+I27*2+J27*4+K27*2+L27*2+M27*2+N27*2+O27*2)/21 -> 6.6247372 | Q27: =(IF(P27>=8,"Giỏi",IF(P27>=7,"Khá",IF(P27>=6,"TB","yếu")))) -> TB
A28: 24 | B28: Hồ Sĩ | C28: Minh | D28: 10.12.2000 | E28: Phú Sơn - Tĩnh Gia - Thanh Hóa | F28: =tphk1!O31 -> 6 | G28: =tphk1!O92 -> 5.2857143 | H28: =tphk1!O152 -> 7.6 | I28: =tphk1!O214 -> 7.2857143 | J28: =tphk1!O277 -> 5.5555556 | K28: =tphk1!O339 -> 6.1428571 | L28: =tphk1!O402 -> 7 | M28: =tphk1!O464 -> 5.8181818 | N28: =tphk1!O543 -> 6 | O28: =tphk1!O644 -> 6.7142857 | P28: =(F28*2+G28*2+H28*1+I28*2+J28*4+K28*2+L28*2+M28*2+N28*2+O28*2)/21 -> 6.2055109 | Q28: =(IF(P28>=8,"Giỏi",IF(P28>=7,"Khá",IF(P28>=6,"TB","yếu")))) -> TB
A29: 25 | B29: Nguyễn Thị | C29: Mừng | D29: 37014 | E29: Giảng Tín - Trúc Lâm- Tĩnh Gia- Thanh Hóa | F29: =tphk1!O32 -> 7.7142857 | G29: =tphk1!O93 -> 7 | H29: =tphk1!O153 -> 9 | I29: =tphk1!O215 -> 7.2857143 | J29: =tphk1!O278 -> 6.7777778 | K29: =tphk1!O340 -> 9 | L29: =tphk1!O403 -> 8 | M29: =tphk1!O465 -> 7.5454545 | N29: =tphk1!O544 -> 8 | O29: =tphk1!O645 -> 6.7142857 | P29: =(F29*2+G29*2+H29*1+I29*2+J29*4+K29*2+L29*2+M29*2+N29*2+O29*2)/21 -> 7.5538377 | Q29: =(IF(P29>=8,"Giỏi",IF(P29>=7,"Khá",IF(P29>=6,"TB","yếu")))) -> Khá
A30: 26 | B30: Lê Văn | C30: Nam | D30: 23.07.2001 | E30: Nguyên Bình - Tĩnh Gia - Thanh Hóa | F30: =tphk1!O33 -> 5.7142857 | G30: =tphk1!O94 -> 5.7142857 | H30: =tphk1!O154 -> 8.2 | I30: =tphk1!O216 -> 5.2857143 | J30: =tphk1!O279 -> 5.7777778 | K30: =tphk1!O341 -> 6.2857143 | L30: =tphk1!O404 -> 7 | M30: =tphk1!O466 -> 5.8181818 | N30: =tphk1!O545 -> 5.7142857 | O30: =tphk1!O646 -> 5 | P30: =(F30*2+G30*2+H30*1+I30*2+J30*4+K30*2+L30*2+M30*2+N30*2+O30*2)/21 -> 5.9226689 | Q30: =(IF(P30>=8,"Giỏi",IF(P30>=7,"Khá",IF(P30>=6,"TB","yếu")))) -> yếu
A31: 27 | B31: Lê Văn | C31: Nam | D31: 16.08.2001 | E31: Hải Châu - Tĩnh Gia - Thanh Hóa | F31: =tphk1!O34 -> 6.1428571 | G31: =tphk1!O95 -> 6.1428571 | H31: =tphk1!O155 -> 8.6 | I31: =tphk1!O217 -> 6.1428571 | J31: =tphk1!O280 -> 6.2222222 | K31: =tphk1!O342 -> 7.2857143 | L31: =tphk1!O405 -> 7 | M31: =tphk1!O467 -> 6.1818182 | N31: =tphk1!O546 -> 5.2857143 | O31: =tphk1!O647 -> 5.2857143 | P31: =(F31*2+G31*2+H31*1+I31*2+J31*4+K31*2+L31*2+M31*2+N31*2+O31*2)/21 -> 6.3059026 | Q31: =(IF(P31>=8,"Giỏi",IF(P31>=7,"Khá",IF(P31>=6,"TB","yếu")))) -> TB
A32: 28 | B32: Ngô Khải | C32: Phong | D32: 15.08.2001 | E32: Hải Thanh - Tĩnh Gia - Thanh Hóa | F32: =tphk1!O35 -> 7.2857143 | G32: =tphk1!O96 -> 6.1428571 | H32: =tphk1!O156 -> 7.6 | I32: =tphk1!O218 -> 6.7142857 | J32: =tphk1!O281 -> 7 | K32: =tphk1!O343 -> 6.1428571 | L32: =tphk1!O406 -> 7 | M32: =tphk1!O468 -> 7 | N32: =tphk1!O547 -> 6.4285714 | O32: =tphk1!O648 -> 6.1428571 | P32: =(F32*2+G32*2+H32*1+I32*2+J32*4+K32*2+L32*2+M32*2+N32*2+O32*2)/21 -> 6.7292517 | Q32: =(IF(P32>=8,"Giỏi",IF(P32>=7,"Khá",IF(P32>=6,"TB","yếu")))) -> TB
A33: 29 | B33: Đỗ Ngọc | C33: Sơn | D33: 21.11.2000 | E33: Hoa Lư - Ninh Bình | F33: =tphk1!O36 -> 5.2857143 | G33: =tphk1!O97 -> TL | H33: =tphk1!O157 -> HL | I33: =tphk1!O219 -> 5 | J33: =tphk1!O282 -> 5.3333333 | K33: =tphk1!O344 -> 5 | L33: =tphk1!O407 -> 7 | M33: =tphk1!O469 -> 5.9090909 | N33: =tphk1!O548 -> TL | O33: =tphk1!O649 -> 5 | P33: =(F33*2+G33*2+H33*1+I33*2+J33*4+K33*2+L33*2+M33*2+N33*2+O33*2)/21 -> #VALUE! | Q33: =(IF(P33>=8,"Giỏi",IF(P33>=7,"Khá",IF(P33>=6,"TB","yếu")))) -> #VALUE!
A34: 30 | B34: Hoàng Văn | C34: Thái | D34: 25/4/2001 | E34: Đại Tiến- Ninh Hải- Tĩnh Gia- Thanh Hóa | F34: =tphk1!O37 -> 6.1428571 | G34: =tphk1!O98 -> 5.7142857 | H34: =tphk1!O158 -> 8 | I34: =tphk1!O220 -> 6 | J34: =tphk1!O283 -> 5.7777778 | K34: =tphk1!O345 -> 6.5714286 | L34: =tphk1!O408 -> 6.2857143 | M34: =tphk1!O470 -> 6.7272727 | N34: =tphk1!O549 -> 6.4285714 | O34: =tphk1!O650 -> 5.5714286 | P34: =(F34*2+G34*2+H34*1+I34*2+J34*4+K34*2+L34*2+M34*2+N34*2+O34*2)/21 -> 6.1902013 | Q34: =(IF(P34>=8,"Giỏi",IF(P34>=7,"Khá",IF(P34>=6,"TB","yếu")))) -> TB
A35: 31 | B35: Lê Doãn | C35: Thái | D35: 18/09/2001 | E35: Thôn 2 - Định Hải - Tĩnh Gia - Thanh Hóa | F35: =tphk1!O38 -> 6.7142857 | G35: =tphk1!O99 -> 7 | H35: =tphk1!O159 -> 8.6 | I35: =tphk1!O221 -> 7.7142857 | J35: =tphk1!O284 -> 7.7777778 | K35: =tphk1!O346 -> 8.2857143 | L35: =tphk1!O409 -> 6.2857143 | M35: =tphk1!O471 -> 6 | N35: =tphk1!O550 -> 5.7142857 | O35: =tphk1!O651 -> 8.1428571 | P35: =(F35*2+G35*2+H35*1+I35*2+J35*4+K35*2+L35*2+M35*2+N35*2+O35*2)/21 -> 7.2107332 | Q35: =(IF(P35>=8,"Giỏi",IF(P35>=7,"Khá",IF(P35>=6,"TB","yếu")))) -> Khá
A36: 32 | B36: Lê Hữu | C36: Thành | D36: 37231 | E36: Thống Nhất- Ninh Hải- Tĩnh Gia- Thanh Hóa | F36: =tphk1!O39 -> 6.4285714 | G36: =tphk1!O100 -> 6.8571429 | H36: =tphk1!O160 -> 8.2 | I36: =tphk1!O222 -> 6.7142857 | J36: =tphk1!O285 -> 7.4444444 | K36: =tphk1!O347 -> 7.4285714 | L36: =tphk1!O410 -> 7 | M36: =tphk1!O472 -> 7.1818182 | N36: =tphk1!O551 -> 6.2857143 | O36: =tphk1!O652 -> 6.4285714 | P36: =(F36*2+G36*2+H36*1+I36*2+J36*4+K36*2+L36*2+M36*2+N36*2+O36*2)/21 -> 6.9822442 | Q36: =(IF(P36>=8,"Giỏi",IF(P36>=7,"Khá",IF(P36>=6,"TB","yếu")))) -> TB
A37: 33 | B37: Mai Xuân | C37: Thiện | D37: 10.07.2001 | E37: Ninh Hải - Tĩnh Gia - Thanh Hóa | F37: =tphk1!O40 -> 6 | G37: =tphk1!O101 -> 5.2857143 | H37: =tphk1!O161 -> 7.6 | I37: =tphk1!O223 -> 5.7142857 | J37: =tphk1!O286 -> 6 | K37: =tphk1!O348 -> 6.2857143 | L37: =tphk1!O411 -> 6 | M37: =tphk1!O473 -> 5.6363636 | N37: =tphk1!O552 -> 6 | O37: =tphk1!O653 -> 5 | P37: =(F37*2+G37*2+H37*1+I37*2+J37*4+K37*2+L37*2+M37*2+N37*2+O37*2)/21 -> 5.8782931 | Q37: =(IF(P37>=8,"Giỏi",IF(P37>=7,"Khá",IF(P37>=6,"TB","yếu")))) -> yếu
A38: 34 | B38: Lê Đình | C38: Tình | D38: 08.04.2001 | E38: Trường Lâm - Tĩnh Gia - Thanh Hóa | F38: =tphk1!O41 -> 5.7142857 | G38: =tphk1!O102 -> 5 | H38: =tphk1!O162 -> 7.6 | I38: =tphk1!O224 -> 6.4285714 | J38: =tphk1!O287 -> 5.3333333 | K38: =tphk1!O349 -> 5 | L38: =tphk1!O412 -> 6.2857143 | M38: =tphk1!O474 -> 6 | N38: =tphk1!O553 -> TL | O38: =tphk1!O654 -> 6.1428571 | P38: =(F38*2+G38*2+H38*1+I38*2+J38*4+K38*2+L38*2+M38*2+N38*2+O38*2)/21 -> #VALUE! | Q38: =(IF(P38>=8,"Giỏi",IF(P38>=7,"Khá",IF(P38>=6,"TB","yếu")))) -> #VALUE!
A39: 35 | B39: Đậu Xuân | C39: Toàn | D39: 13/08/2001 | E39: Trường Thanh- Trường Lâm- Tĩnh Gia- Thanh Hóa | F39: =tphk1!O42 -> bỏ | G39: =tphk1!O103 -> bỏ | H39: =tphk1!O163 -> BỎ | I39: =tphk1!O225 -> BỎ | J39: =tphk1!O288 -> BỎ | K39: =tphk1!O350 -> BỎ | L39: =tphk1!O413 -> BỎ | M39: =tphk1!O475 -> tl | N39: =tphk1!O554 -> HL | O39: =tphk1!O655 -> HL | P39: =(F39*2+G39*2+H39*1+I39*2+J39*4+K39*2+L39*2+M39*2+N39*2+O39*2)/21 -> #VALUE! | Q39: =(IF(P39>=8,"Giỏi",IF(P39>=7,"Khá",IF(P39>=6,"TB","yếu")))) -> #VALUE!
A40: 36 | B40: Nguyễn Như | C40: Trọng | D40: 26/06/2001 | E40: Thôn 9- Tân Trường- Tĩnh Gia- Thanh Hóa | F40: =tphk1!O43 -> 6.1428571 | G40: =tphk1!O104 -> 5.5714286 | H40: =tphk1!O164 -> 7.2 | I40: =tphk1!O226 -> 8 | J40: =tphk1!O289 -> 6 | K40: =tphk1!O351 -> 7.2857143 | L40: =tphk1!O414 -> 6.7142857 | M40: =tphk1!O476 -> 6.2727273 | N40: =tphk1!O555 -> 6 | O40: =tphk1!O656 -> 8.4285714 | P40: =(F40*2+G40*2+H40*1+I40*2+J40*4+K40*2+L40*2+M40*2+N40*2+O40*2)/21 -> 6.6681509 | Q40: =(IF(P40>=8,"Giỏi",IF(P40>=7,"Khá",IF(P40>=6,"TB","yếu")))) -> TB
A41: 37 | B41: Lê Văn | C41: Trọng | D41: 15.07.1999 | E41: Tân Trường - Tĩnh Gia - Thanh Hóa | F41: =tphk1!O44 -> 5.5714286 | G41: =tphk1!O105 -> 5.4285714 | H41: =tphk1!O165 -> 7 | I41: =tphk1!O227 -> 5.7142857 | J41: =tphk1!O290 -> 6 | K41: =tphk1!O352 -> 5.7142857 | L41: =tphk1!O415 -> 7 | M41: =tphk1!O477 -> 5.8181818 | N41: =tphk1!O556 -> 5.7142857 | O41: =tphk1!O657 -> 5.2857143 | P41: =(F41*2+G41*2+H41*1+I41*2+J41*4+K41*2+L41*2+M41*2+N41*2+O41*2)/21 -> 5.8806432 | Q41: =(IF(P41>=8,"Giỏi",IF(P41>=7,"Khá",IF(P41>=6,"TB","yếu")))) -> yếu
A42: 38 | B42: Lê Kim | C42: Trường | D42: 37014 | E42: Thôn 3- Hải An- Tĩnh Gia- Thanh Hóa | F42: =tphk1!O45 -> 6 | G42: =tphk1!O106 -> 5.2857143 | H42: =tphk1!O166 -> 7.6 | I42: =tphk1!O228 -> 5.4285714 | J42: =tphk1!O291 -> 5.5555556 | K42: =tphk1!O353 -> 6 | L42: =tphk1!O416 -> 8 | M42: =tphk1!O478 -> 6 | N42: =tphk1!O557 -> 7.2857143 | O42: =tphk1!O658 -> 6.4285714 | P42: =(F42*2+G42*2+H42*1+I42*2+J42*4+K42*2+L42*2+M42*2+N42*2+O42*2)/21 -> 6.2228269 | Q42: =(IF(P42>=8,"Giỏi",IF(P42>=7,"Khá",IF(P42>=6,"TB","yếu")))) -> TB
A43: 39 | B43: Nguyễn Văn | C43: Trưởng | D43: 25.04.2001 | E43: Trường Lâm - Tĩnh Gia - Thanh Hóa | F43: =tphk1!O46 -> bỏ | G43: =tphk1!O107 -> bỏ | H43: =tphk1!O167 -> BỎ | I43: =tphk1!O229 -> BỎ | J43: =tphk1!O292 -> BỎ | K43: =tphk1!O354 -> BỎ | L43: =tphk1!O417 -> BỎ | M43: =tphk1!O479 -> 6.1818182 | N43: =tphk1!O558 -> HL | O43: =tphk1!O659 -> HL | P43: =(F43*2+G43*2+H43*1+I43*2+J43*4+K43*2+L43*2+M43*2+N43*2+O43*2)/21 -> #VALUE! | Q43: =(IF(P43>=8,"Giỏi",IF(P43>=7,"Khá",IF(P43>=6,"TB","yếu")))) -> #VALUE!
A44: 40 | B44: Lê Văn | C44: Tuân | D44: 21.09.2001 | E44: Ninh Hải - Tĩnh Gia - Thanh Hóa | F44: =tphk1!O47 -> 5.4285714 | G44: =tphk1!O108 -> 5 | H44: =tphk1!O168 -> 8 | I44: =tphk1!O230 -> 6.4285714 | J44: =tphk1!O293 -> 5.4444444 | K44: =tphk1!O355 -> 5.7142857 | L44: =tphk1!O418 -> 6 | M44: =tphk1!O480 -> 6.1818182 | N44: =tphk1!O559 -> 5.5714286 | O44: =tphk1!O660 -> 7.1428571 | P44: =(F44*2+G44*2+H44*1+I44*2+J44*4+K44*2+L44*2+M44*2+N44*2+O44*2)/21 -> 5.9387068 | Q44: =(IF(P44>=8,"Giỏi",IF(P44>=7,"Khá",IF(P44>=6,"TB","yếu")))) -> yếu
A45: 41 | B45: Phạm Văn | C45: Tuấn | D45: 37175 | E45: Thanh Biình- Hải Ninh- Tĩnh Gia- Thanh Hóa | F45: =tphk1!O48 -> 6.1428571 | G45: =tphk1!O109 -> 5.2857143 | H45: =tphk1!O169 -> 7.4 | I45: =tphk1!O231 -> 7 | J45: =tphk1!O294 -> 5.7777778 | K45: =tphk1!O356 -> 6.1428571 | L45: =tphk1!O419 -> 7 | M45: =tphk1!O481 -> 6.4545455 | N45: =tphk1!O560 -> 5.2857143 | O45: =tphk1!O661 -> 5.8571429 | P45: =(F45*2+G45*2+H45*1+I45*2+J45*4+K45*2+L45*2+M45*2+N45*2+O45*2)/21 -> 6.1356559 | Q45: =(IF(P45>=8,"Giỏi",IF(P45>=7,"Khá",IF(P45>=6,"TB","yếu")))) -> TB
A46: 42 | B46: Lê Thị | C46: Tuyết | D46: 20.10.2001 | E46: Trung tâm hy vọng - Tĩnh Gia - Thanh Hóa | F46: =tphk1!O49 -> 7.4285714 | G46: =tphk1!O110 -> 6.7142857 | H46: =tphk1!O170 -> 8 | I46: =tphk1!O232 -> 6.5714286 | J46: =tphk1!O295 -> 6.2222222 | K46: =tphk1!O357 -> 8 | L46: =tphk1!O420 -> 8 | M46: =tphk1!O482 -> 6.7272727 | N46: =tphk1!O561 -> 7.2857143 | O46: =tphk1!O662 -> 6.8571429 | P46: =(F46*2+G46*2+H46*1+I46*2+J46*4+K46*2+L46*2+M46*2+N46*2+O46*2)/21 -> 7.0503676 | Q46: =(IF(P46>=8,"Giỏi",IF(P46>=7,"Khá",IF(P46>=6,"TB","yếu")))) -> Khá
A47: 43 | B47: Mai Huy | C47: Việt | D47: 15/2/2000 | E47: TK2- TT Tĩnh Gia- Thanh Hóa | F47: =tphk1!O50 -> 7 | G47: =tphk1!O111 -> 5.8571429 | H47: =tphk1!O171 -> 8.2 | I47: =tphk1!O233 -> 7 | J47: =tphk1!O296 -> 6 | K47: =tphk1!O358 -> 7 | L47: =tphk1!O421 -> 7 | M47: =tphk1!O483 -> 5.8181818 | N47: =tphk1!O562 -> 6 | O47: =tphk1!O663 -> 6 | P47: =(F47*2+G47*2+H47*1+I47*2+J47*4+K47*2+L47*2+M47*2+N47*2+O47*2)/21 -> 6.4547928 | Q47: =(IF(P47>=8,"Giỏi",IF(P47>=7,"Khá",IF(P47>=6,"TB","yếu")))) -> TB
A48: 44 | B48: Lê Xuân | C48: Vinh | D48: 22.02.2001 | E48: Nguyên Bình - Tĩnh Gia - Thanh Hóa | F48: =tphk1!O51 -> 5.2857143 | G48: =tphk1!O112 -> 5 | H48: =tphk1!O172 -> 7.2 | I48: =tphk1!O234 -> 5 | J48: =tphk1!O297 -> 5.5555556 | K48: =tphk1!O359 -> 5 | L48: =tphk1!O422 -> 6 | M48: =tphk1!O484 -> 5.9090909 | N48: =tphk1!O563 -> 5.7142857 | O48: =tphk1!O664 -> 5.8571429 | P48: =(F48*2+G48*2+H48*1+I48*2+J48*4+K48*2+L48*2+M48*2+N48*2+O48*2)/21 -> 5.5692709 | Q48: =(IF(P48>=8,"Giỏi",IF(P48>=7,"Khá",IF(P48>=6,"TB","yếu")))) -> yếu
A49: 45 | B49: Đỗ Tuấn | C49: Vương | D49: 03.01.2001 | E49: Trường Lâm - Tĩnh Gia - Thanh Hóa | F49: =tphk1!O52 -> 6.4285714 | G49: =tphk1!O113 -> 6 | H49: =tphk1!O173 -> 8 | I49: =tphk1!O235 -> 6.7142857 | J49: =tphk1!O298 -> 6 | K49: =tphk1!O360 -> 6.4285714 | L49: =tphk1!O423 -> 6.7142857 | M49: =tphk1!O485 -> 5.8181818 | N49: =tphk1!O564 -> 6.8571429 | O49: =tphk1!O665 -> 6.8571429 | P49: =(F49*2+G49*2+H49*1+I49*2+J49*4+K49*2+L49*2+M49*2+N49*2+O49*2)/21 -> 6.4588745 | Q49: =(IF(P49>=8,"Giỏi",IF(P49>=7,"Khá",IF(P49>=6,"TB","yếu")))) -> TB
A50: 46 | B50: Nguyễn Bá Trần | C50: Danh | F50: =tphk1!O53 -> 6.4285714 | G50: =tphk1!O114 -> 5 | H50: =tphk1!O174 -> 6 | I50: =tphk1!O236 -> 5 | J50: =tphk1!O299 -> HL | K50: =tphk1!O361 -> 5.2857143 | L50: =tphk1!O424 -> HL | M50: =tphk1!O486 -> 5.3636364 | N50: =tphk1!O565 -> 6.7142857 | O50: =tphk1!O666 -> HL | P50: =(F50*2+G50*2+H50*1+I50*2+J50*4+K50*2+L50*2+M50*2+N50*2+O50*2)/21 -> #VALUE! | Q50: =(IF(P50>=8,"Giỏi",IF(P50>=7,"Khá",IF(P50>=6,"TB","yếu")))) -> #VALUE!
A51: 47 | B51: Nguyễn Đình | C51: Nhật | F51: =tphk1!O54 -> 5.7142857 | G51: =tphk1!O115 -> 5.7142857 | H51: =tphk1!O175 -> 8.6 | I51: =tphk1!O237 -> 5.8571429 | J51: =tphk1!O300 -> 7 | K51: =tphk1!O362 -> 7.7142857 | L51: =tphk1!O425 -> 6 | M51: =tphk1!O487 -> 5.6363636 | N51: =tphk1!O566 -> 6.5714286 | O51: =tphk1!O667 -> 7.2857143 | P51: =(F51*2+G51*2+H51*1+I51*2+J51*4+K51*2+L51*2+M51*2+N51*2+O51*2)/21 -> 6.5517625 | Q51: =(IF(P51>=8,"Giỏi",IF(P51>=7,"Khá",IF(P51>=6,"TB","yếu")))) -> TB
A52: 48 | B52: Nguyễn Xuân | C52: Đức | F52: =tphk1!O55 -> 6 | G52: =tphk1!O116 -> 5 | H52: =tphk1!O176 -> 7.6 | I52: =tphk1!O238 -> HL | J52: =tphk1!O301 -> 5.5555556 | K52: =tphk1!O363 -> 6 | L52: =tphk1!O426 -> 6 | M52: =tphk1!O488 -> 6.1818182 | N52: =tphk1!O567 -> 6 | O52: =tphk1!O668 -> 5.2857143 | P52: =(F52*2+G52*2+H52*1+I52*2+J52*4+K52*2+L52*2+M52*2+N52*2+O52*2)/21 -> #VALUE! | Q52: =(IF(P52>=8,"Giỏi",IF(P52>=7,"Khá",IF(P52>=6,"TB","yếu")))) -> #VALUE!
A53: 49 | B53: Bùi Quốc | C53: Cường | F53: =tphk1!O56 -> 5.2857143 | G53: =tphk1!O117 -> 6 | H53: =tphk1!O177 -> 7.4 | I53: =tphk1!O239 -> 5.4285714 | J53: =tphk1!O302 -> 5.7777778 | K53: =tphk1!O364 -> 5.2857143 | L53: =tphk1!O427 -> 7.4285714 | M53: =tphk1!O489 -> 5.8636364 | N53: =tphk1!O568 -> 6.7142857 | O53: =tphk1!O669 -> 7 | P53: =(F53*2+G53*2+H53*1+I53*2+J53*4+K53*2+L53*2+M53*2+N53*2+O53*2)/21 -> 6.1201951 | Q53: =(IF(P53>=8,"Giỏi",IF(P53>=7,"Khá",IF(P53>=6,"TB","yếu")))) -> TB
A54: 50 | B54: Nguyễn Tuấn | C54: Hưng | F54: =tphk1!O57 -> 5.2857143 | G54: =tphk1!O118 -> 6 | H54: =tphk1!O178 -> 0 | I54: =tphk1!O240 -> 5.7142857 | J54: =tphk1!O303 -> 2.6666667 | K54: =tphk1!O365 -> TL | L54: =tphk1!O428 -> 7 | M54: =tphk1!O490 -> hl | N54: =tphk1!O569 -> 0 | O54: =tphk1!O670 -> 6.4285714 | P54: =(F54*2+G54*2+H54*1+I54*2+J54*4+K54*2+L54*2+M54*2+N54*2+O54*2)/21 -> #VALUE! | Q54: =(IF(P54>=8,"Giỏi",IF(P54>=7,"Khá",IF(P54>=6,"TB","yếu")))) -> #VALUE!
A55: 51 | B55: Nguyễn Văn Tuấn | C55: Anh | F55: =tphk1!O58 -> 6 | G55: =tphk1!O119 -> 6 | H55: =tphk1!O179 -> 0 | I55: =tphk1!O241 -> 0 | J55: =tphk1!O304 -> 0 | K55: =tphk1!O366 -> 0 | L55: =tphk1!O429 -> 6 | M55: =tphk1!O491 -> hl | N55: =tphk1!O570 -> 0 | O55: =tphk1!O671 -> 6.1428571 | P55: =(F55*2+G55*2+H55*1+I55*2+J55*4+K55*2+L55*2+M55*2+N55*2+O55*2)/21 -> #VALUE! | Q55: =(IF(P55>=8,"Giỏi",IF(P55>=7,"Khá",IF(P55>=6,"TB","yếu")))) -> #VALUE!
A56: 52 | B56: Cao Ngọc | C56: Hoàng | F56: =tphk1!O59 -> 0 | G56: =tphk1!O120 -> 0 | H56: =tphk1!O180 -> 0 | I56: =tphk1!O242 -> 0 | J56: =tphk1!O305 -> 0 | K56: =tphk1!O367 -> 0 | L56: =tphk1!O430 -> 0 | M56: =tphk1!O492 -> 0 | N56: =tphk1!O571 -> 0 | O56: =tphk1!O672 -> 0 | P56: =(F56*2+G56*2+H56*1+I56*2+J56*4+K56*2+L56*2+M56*2+N56*2+O56*2)/21 -> 0 | Q56: =(IF(P56>=8,"Giỏi",IF(P56>=7,"Khá",IF(P56>=6,"TB","yếu")))) -> yếu
A57: 53 | B57: Nguyễn Văn | C57: Anh | F57: =tphk1!O60 -> 0 | G57: =tphk1!O121 -> 0 | H57: =tphk1!O181 -> 0 | I57: =tphk1!O243 -> 0 | J57: =tphk1!O306 -> 0 | K57: =tphk1!O368 -> 0 | L57: =tphk1!O431 -> 0 | M57: =tphk1!O493 -> 0 | N57: =tphk1!O572 -> 0 | O57: =tphk1!O673 -> 0 | P57: =(F57*2+G57*2+H57*1+I57*2+J57*4+K57*2+L57*2+M57*2+N57*2+O57*2)/21 -> 0 | Q57: =(IF(P57>=8,"Giỏi",IF(P57>=7,"Khá",IF(P57>=6,"TB","yếu")))) -> yếu

Sheet tphk2
A1: BẢNG GHI ĐIỂM MÔĐUN / MÔN HỌC
A2: Học Kỳ ...... Năm Học 2016- 2017
A3: Khóa: VIII Lớp: Đ8B1
A4: Môn học: Đo lường điện Số tiết: 60 Số ĐVHT: 4 Ngày thi: 29/05/2017
A5: Họ và tên giáo viên: Ngô Ngọc Hoàng + Nguyễn Thị Mỹ Lệ
A6: TT | B6: Họ và tên | D6: Ngày Sinh | E6: Nơi Sinh | F6: HS2 | K6: L1 | L6: L2 | M6: Tổng kết | O6: Đo lường điện
M7: L1 | N7: L2 | O7: 4
A8: 1 | B8: Nguyễn Thế | C8: Ánh | D8: 05.10.2001 | E8: Đội 1- Nguyên Bình- Tĩnh Gia - Thanh Hóa | F8: 7 | G8: 6 | H8: 7 | K8: 7 | M8: =(F8*2+G8*2+H8*2+K8*3)/9 -> 6.7777778 | O8: =MAX(M8,N8) -> 6.7777778
A9: 2 | B9: Lê Hữu | C9: Chiến | D9: 11.07.2000 | E9: Thị Trấn - Tĩnh Gia - Thanh Hóa | F9: 8 | G9: 6 | H9: 7 | K9: 8 | M9: =(F9*2+G9*2+H9*2+K9*3)/9 -> 7.3333333 | O9: =MAX(M9,N9) -> 7.3333333
A10: 3 | B10: Lê Công | C10: Chính | D10: 16/09/2000 | E10: Đội 16- Nguyên Bình- Tĩnh Gia- Thanh Hóa | F10: 8 | G10: 7 | H10: 6 | K10: 8 | M10: =(F10*2+G10*2+H10*2+K10*3)/9 -> 7.3333333 | O10: =MAX(M10,N10) -> 7.3333333
A11: 4 | B11: Lê Đức | C11: Chung | D11: 37142 | E11: Đông Hải - Hải Hòa- Tĩnh Gia - Thanh Hóa | F11: 8 | G11: 8 | H11: 7 | K11: 8 | M11: =(F11*2+G11*2+H11*2+K11*3)/9 -> 7.7777778 | O11: =MAX(M11,N11) -> 7.7777778
A12: 5 | B12: Lê Văn | C12: Cương | D12: 16/10/2000 | E12: Hữu Nam– Mai Lâm – Tĩnh Gia – Thanh Hóa | F12: 8 | G12: 7 | H12: 8 | K12: 8 | M12: =(F12*2+G12*2+H12*2+K12*3)/9 -> 7.7777778 | O12: =MAX(M12,N12) -> 7.7777778
A13: 6 | B13: Lê Văn | C13: Đại | D13: 19/02/2001 | E13: Sơn Trà- Trúc Lâm- Tĩnh Gia - Thanh Hóa | O13: hl
A14: 7 | B14: Lê Công | C14: Đạt | D14: 36929 | E14: Đồng Minh - Hải Ninh - Tĩnh Gia - Thanh Hóa | F14: 7 | G14: 5 | H14: 6 | K14: 6 | M14: =(F14*2+G14*2+H14*2+K14*3)/9 -> 6 | O14: =MAX(M14,N14) -> 6
A15: 8 | B15: Bùi Văn | C15: Dũng | D15: 16.09.2000 | E15: Hải Hà - Tĩnh Gia - Thanh Hóa | F15: 8 | G15: 8 | H15: 6 | K15: 8 | M15: =(F15*2+G15*2+H15*2+K15*3)/9 -> 7.5555556 | O15: =MAX(M15,N15) -> 7.5555556
A16: 9 | B16: Vũ Trọng | C16: Dương | D16: 10.12.2001 | E16: Hải Nhân - Tĩnh Gia - Thanh Hóa | F16: 8 | G16: 8 | H16: 8 | K16: 8 | M16: =(F16*2+G16*2+H16*2+K16*3)/9 -> 8 | O16: =MAX(M16,N16) -> 8
A17: 10 | B17: Trương Bá | C17: Hạnh | D17: 37231 | E17: Thôn 10- Tân Trường- Tĩnh Gia- Thanh Hóa | F17: 8 | G17: 6 | H17: 7 | K17: 8 | M17: =(F17*2+G17*2+H17*2+K17*3)/9 -> 7.3333333 | O17: =MAX(M17,N17) -> 7.3333333
A18: 11 | B18: Nguyễn Đắc | C18: Hiếu | D18: 19/02/2000 | E18: Thôn 6- Hải Lĩnh-Tĩnh Gia- Thanh Hóa | F18: 8 | G18: 6 | H18: 7 | K18: 6 | M18: =(F18*2+G18*2+H18*2+K18*3)/9 -> 6.6666667 | O18: =MAX(M18,N18) -> 6.6666667
A19: 12 | B19: Mai Xuân | C19: Hinh | D19: 37205 | E19: Ninh Sơn- Trường Lâm- Tĩnh Gia- Thanh Hóa | O19: hl
A20: 13 | B20: Phạm Đình | C20: Hoàng | D20: 13.02.2001 | E20: Nguyên Bình - Tĩnh Gia - Thanh Hóa | O20: hl
A21: 14 | B21: Lê Văn | C21: Hùng | D21: 09.08.2000 | E21: Bình Minh - Tĩnh Gia - Thanh Hóa | F21: 8 | G21: 8 | H21: 7 | K21: 7 | M21: =(F21*2+G21*2+H21*2+K21*3)/9 -> 7.4444444 | O21: =MAX(M21,N21) -> 7.4444444
A22: 15 | B22: Trương Đình | C22: Hùng | D22: 15.06.2001 | E22: Ninh Hải - Tĩnh Gia - Thanh Hóa | F22: 6 | G22: 7 | H22: 7 | K22: 6 | M22: =(F22*2+G22*2+H22*2+K22*3)/9 -> 6.4444444 | O22: =MAX(M22,N22) -> 6.4444444
A23: 16 | B23: Trần Văn | C23: Huy | D23: 24.08.2001 | E23: Tân Trường - Tĩnh Gia - Thanh Hóa | O23: hl
A24: 17 | B24: Mai Xuân | C24: Huy | D24: 25.10.2001 | E24: Trường Lâm - Tĩnh Gia - Thanh Hóa | F24: 6 | G24: 6 | H24: 7 | K24: 6 | M24: =(F24*2+G24*2+H24*2+K24*3)/9 -> 6.2222222 | O24: =MAX(M24,N24) -> 6.2222222
A25: 18 | B25: Lê Vinh | C25: Huy | D25: 36739 | E25: Bản Cát – Mai Lâm – Tĩnh Gia – Thanh Hóa | F25: 8 | G25: 9 | H25: 8 | K25: 9 | M25: =(F25*2+G25*2+H25*2+K25*3)/9 -> 8.5555556 | O25: =MAX(M25,N25) -> 8.5555556
A26: 19 | B26: Nguyễn Xuân | C26: Lâm | D26: 22.11.2001 | E26: Nguyên Bình - Tĩnh Gia - Thanh Hóa | O26: hl
A27: 20 | B27: Phạm Nhật | C27: Linh | D27: 02.05.2001 | E27: Hải Ninh - Tĩnh Gia - Thanh Hóa | O27: hl
A28: 21 | B28: Lê Văn | C28: Long | D28: 27.04.2001 | E28: Hải Thanh - Tĩnh Gia - Thanh Hóa | F28: 8 | G28: 8 | H28: 6 | K28: 8 | M28: =(F28*2+G28*2+H28*2+K28*3)/9 -> 7.5555556 | O28: =MAX(M28,N28) -> 7.5555556
A29: 22 | B29: Đồng Xuân | C29: Mạnh | D29: 36923 | E29: Bình Minh- Trường Lâm- Tĩnh Gia- Thanh Hóa | O29: hl
A30: 23 | B30: Nguyễn Văn | C30: Minh | D30: 18.05.2001 | E30: Thượng Hải - Hải Thanh – Tĩnh Gia – Thanh Hóa | F30: 8 | G30: 8 | H30: 8 | K30: 8 | M30: =(F30*2+G30*2+H30*2+K30*3)/9 -> 8 | O30: =MAX(M30,N30) -> 8
A31: 24 | B31: Hồ Sĩ | C31: Minh | D31: 10.12.2000 | E31: Phú Sơn - Tĩnh Gia - Thanh Hóa | F31: 7 | G31: 8 | H31: 8 | K31: 8 | M31: =(F31*2+G31*2+H31*2+K31*3)/9 -> 7.7777778 | O31: =MAX(M31,N31) -> 7.7777778
A32: 25 | B32: Nguyễn Thị | C32: Mừng | D32: 37014 | E32: Giảng Tín - Trúc Lâm- Tĩnh Gia- Thanh Hóa | F32: 8 | G32: 9 | H32: 8 | K32: 9 | M32: =(F32*2+G32*2+H32*2+K32*3)/9 -> 8.5555556 | O32: =MAX(M32,N32) -> 8.5555556
A33: 26 | B33: Lê Văn | C33: Nam | D33: 23.07.2001 | E33: Nguyên Bình - Tĩnh Gia - Thanh Hóa | F33: 7 | G33: 8 | H33: 8 | K33: 7 | M33: =(F33*2+G33*2+H33*2+K33*3)/9 -> 7.4444444 | O33: =MAX(M33,N33) -> 7.4444444
A34: 27 | B34: Lê Văn | C34: Nam | D34: 16.08.2001 | E34: Hải Châu - Tĩnh Gia - Thanh Hóa | F34: 8 | G34: 7 | H34: 9 | K34: 7 | M34: =(F34*2+G34*2+H34*2+K34*3)/9 -> 7.6666667 | O34: =MAX(M34,N34) -> 7.6666667
A35: 28 | B35: Ngô Khải | C35: Phong | D35: 15.08.2001 | E35: Hải Thanh - Tĩnh Gia - Thanh Hóa | F35: 7 | G35: 8 | H35: 8 | K35: 7 | M35: =(F35*2+G35*2+H35*2+K35*3)/9 -> 7.4444444 | O35: =MAX(M35,N35) -> 7.4444444
A36: 29 | B36: Đỗ Ngọc | C36: Sơn | D36: 21.11.2000 | E36: Hoa Lư - Ninh Bình | F36: 7 | M36: =(F36*2+G36*2+H36*2+K36*3)/9 -> 1.5555556 | O36: hl
A37: 30 | B37: Hoàng Văn | C37: Thái | D37: 25/4/2001 | E37: Đại Tiến- Ninh Hải- Tĩnh Gia- Thanh Hóa | F37: 7 | G37: 7 | H37: 6 | K37: 7 | M37: =(F37*2+G37*2+H37*2+K37*3)/9 -> 6.7777778 | O37: =MAX(M37,N37) -> 6.7777778
A38: 31 | B38: Lê Doãn | C38: Thái | D38: 18/09/2001 | E38: Thôn 2 - Định Hải - Tĩnh Gia - Thanh Hóa | F38: 7 | G38: 8 | H38: 9 | K38: 8 | M38: =(F38*2+G38*2+H38*2+K38*3)/9 -> 8 | O38: =MAX(M38,N38) -> 8
A39: 32 | B39: Lê Hữu | C39: Thành | D39: 37231 | E39: Thống Nhất- Ninh Hải- Tĩnh Gia- Thanh Hóa | F39: 7 | G39: 7 | H39: 8 | K39: 7 | M39: =(F39*2+G39*2+H39*2+K39*3)/9 -> 7.2222222 | O39: =MAX(M39,N39) -> 7.2222222
A40: 33 | B40: Mai Xuân | C40: Thiện | D40: 10.07.2001 | E40: Ninh Hải - Tĩnh Gia - Thanh Hóa | F40: 7 | G40: 5 | H40: 7 | K40: 6 | M40: =(F40*2+G40*2+H40*2+K40*3)/9 -> 6.2222222 | O40: =MAX(M40,N40) -> 6.2222222
A41: 34 | B41: Lê Đình | C41: Tình | D41: 08.04.2001 | E41: Trường Lâm - Tĩnh Gia - Thanh Hóa | O41: hl
A42: 35 | B42: Đậu Xuân | C42: Toàn | D42: 13/08/2001 | E42: Trường Thanh- Trường Lâm- Tĩnh Gia- Thanh Hóa | O42: hl
A43: 36 | B43: Nguyễn Như | C43: Trọng | D43: 26/06/2001 | E43: Thôn 9- Tân Trường- Tĩnh Gia- Thanh Hóa | F43: 5 | G43: 6 | H43: 8 | K43: 8 | M43: =(F43*2+G43*2+H43*2+K43*3)/9 -> 6.8888889 | O43: =MAX(M43,N43) -> 6.8888889
A44: 37 | B44: Lê Văn | C44: Trọng | D44: 15.07.1999 | E44: Tân Trường - Tĩnh Gia - Thanh Hóa | F44: 7 | G44: 7 | H44: 6 | K44: 6 | M44: =(F44*2+G44*2+H44*2+K44*3)/9 -> 6.4444444 | O44: =MAX(M44,N44) -> 6.4444444
A45: 38 | B45: Lê Kim | C45: Trường | D45: 37014 | E45: Thôn 3- Hải An- Tĩnh Gia- Thanh Hóa | F45: 6 | G45: 7 | H45: 8 | K45: 6 | M45: =(F45*2+G45*2+H45*2+K45*3)/9 -> 6.6666667 | O45: =MAX(M45,N45) -> 6.6666667
A46: 39 | B46: Nguyễn Văn | C46: Trưởng | D46: 25.04.2001 | E46: Trường Lâm - Tĩnh Gia - Thanh Hóa | O46: hl
A47: 40 | B47: Lê Văn | C47: Tuân | D47: 21.09.2001 | E47: Ninh Hải - Tĩnh Gia - Thanh Hóa | F47: 7 | G47: 6 | H47: 6 | K47: 6 | M47: =(F47*2+G47*2+H47*2+K47*3)/9 -> 6.2222222 | O47: =MAX(M47,N47) -> 6.2222222
A48: 41 | B48: Phạm Văn | C48: Tuấn | D48: 37175 | E48: Thanh Biình- Hải Ninh- Tĩnh Gia- Thanh Hóa | F48: 6 | G48: 6 | H48: 5 | K48: 6 | M48: =(F48*2+G48*2+H48*2+K48*3)/9 -> 5.7777778 | O48: =MAX(M48,N48) -> 5.7777778
A49: 42 | B49: Lê Thị | C49: Tuyết | D49: 20.10.2001 | E49: Trung tâm hy vọng - Tĩnh Gia - Thanh Hóa | F49: 8 | G49: 8 | H49: 8 | K49: 8 | M49: =(F49*2+G49*2+H49*2+K49*3)/9 -> 8 | O49: =MAX(M49,N49) -> 8
A50: 43 | B50: Mai Huy | C50: Việt | D50: 15/2/2000 | E50: TK2- TT Tĩnh Gia- Thanh Hóa | F50: 6 | G50: 7 | H50: 8 | K50: 8 | M50: =(F50*2+G50*2+H50*2+K50*3)/9 -> 7.3333333 | O50: =MAX(M50,N50) -> 7.3333333
A51: 44 | B51: Lê Xuân | C51: Vinh | D51: 22.02.2001 | E51: Nguyên Bình - Tĩnh Gia - Thanh Hóa | F51: 6 | G51: 6 | H51: 7 | K51: 6 | M51: =(F51*2+G51*2+H51*2+K51*3)/9 -> 6.2222222 | O51: =MAX(M51,N51) -> 6.2222222
A52: 45 | B52: Đỗ Tuấn | C52: Vương | D52: 03.01.2001 | E52: Trường Lâm - Tĩnh Gia - Thanh Hóa | F52: 7 | G52: 6 | H52: 6 | K52: 6 | M52: =(F52*2+G52*2+H52*2+K52*3)/9 -> 6.2222222 | O52: =MAX(M52,N52) -> 6.2222222
A53: 46 | B53: Nguyễn Bá Trần | C53: Danh | O53: hl
A54: 47 | B54: Nguyễn Đình | C54: Nhật | F54: 7 | G54: 5 | H54: 5 | K54: 6 | M54: =(F54*2+G54*2+H54*2+K54*3)/9 -> 5.7777778 | O54: =MAX(M54,N54) -> 5.7777778
A55: 48 | B55: Nguyễn Xuân | C55: Đức | F55: 5 | G55: 5 | H55: 5 | K55: 5 | M55: =(F55*2+G55*2+H55*2+K55*3)/9 -> 5 | O55: =MAX(M55,N55) -> 5
A56: 49 | B56: Bùi Quốc | C56: Cường | F56: 5 | G56: 6 | H56: 6 | K56: 5 | M56: =(F56*2+G56*2+H56*2+K56*3)/9 -> 5.4444444 | O56: =MAX(M56,N56) -> 5.4444444
B57: Nguyễn Tuấn | C57: Hưng
B58: Nguyễn Văn Tuấn | C58: Anh
B59: Cao Ngọc | C59: Hoàng
B60: Nguyễn Văn | C60: Anh
A63: BẢNG GHI ĐIỂM MÔĐUN / MÔN HỌC
A64: Học Kỳ II Năm Học 2016- 2017
A65: Khóa: VIII Lớp: Đ8B1
A66: Môn học: Điện tử cơ bản. Số tiết: 75h Số ĐVHT: 5. Ngày thi: 5/6/2017
A67: Họ và tên giáo viên: Nguyễn Quốc Anh
A68: TT | B68: Họ và tên | D68: Ngày Sinh | E68: Nơi Sinh | F68: HS2 | K68: L1 | L68: L2 | M68: Tổng kết | O68: Điện tử cơ bản
M69: L1 | N69: L2 | O69: 5
A70: 1 | B70: Nguyễn Thế | C70: Ánh | D70: 05.10.2001 | E70: Đội 1- Nguyên Bình- Tĩnh Gia - Thanh Hóa | F70: 6 | G70: 7 | H70: 8 | I70: 7 | K70: 8 | M70: =(SUM(F70:I70)*2+K70*3)/11 -> 7.2727273 | O70: =MAX(M70,N70) -> 7.2727273
A71: 2 | B71: Lê Hữu | C71: Chiến | D71: 11.07.2000 | E71: Thị Trấn - Tĩnh Gia - Thanh Hóa | F71: 6 | G71: 7 | H71: 7 | I71: 7 | K71: 8 | M71: =(SUM(F71:I71)*2+K71*3)/11 -> 7.0909091 | O71: =MAX(M71,N71) -> 7.0909091
A72: 3 | B72: Lê Công | C72: Chính | D72: 16/09/2000 | E72: Đội 16- Nguyên Bình- Tĩnh Gia- Thanh Hóa | F72: 6 | G72: 7 | H72: 7 | I72: 7 | K72: 7 | M72: =(SUM(F72:I72)*2+K72*3)/11 -> 6.8181818 | O72: =MAX(M72,N72) -> 6.8181818
A73: 4 | B73: Lê Đức | C73: Chung | D73: 37142 | E73: Đông Hải - Hải Hòa- Tĩnh Gia - Thanh Hóa | F73: 7 | G73: 6 | H73: 8 | I73: 8 | K73: 8 | M73: =(SUM(F73:I73)*2+K73*3)/11 -> 7.4545455 | O73: =MAX(M73,N73) -> 7.4545455
A74: 5 | B74: Lê Văn | C74: Cương | D74: 16/10/2000 | E74: Hữu Nam– Mai Lâm – Tĩnh Gia – Thanh Hóa | F74: 6 | G74: 7 | H74: 8 | I74: 8 | K74: 8 | M74: =(SUM(F74:I74)*2+K74*3)/11 -> 7.4545455 | O74: =MAX(M74,N74) -> 7.4545455
A75: 6 | B75: Lê Văn | C75: Đại | D75: 19/02/2001 | E75: Sơn Trà- Trúc Lâm- Tĩnh Gia - Thanh Hóa | F75: 6 | G75: 7 | M75: =(SUM(F75:I75)*2+K75*3)/11 -> 2.3636364 | O75: hl
A76: 7 | B76: Lê Công | C76: Đạt | D76: 36929 | E76: Đồng Minh - Hải Ninh - Tĩnh Gia - Thanh Hóa | F76: 5 | G76: 6 | H76: 8 | I76: 7 | K76: 7 | M76: =(SUM(F76:I76)*2+K76*3)/11 -> 6.6363636 | O76: =MAX(M76,N76) -> 6.6363636
A77: 8 | B77: Bùi Văn | C77: Dũng | D77: 16.09.2000 | E77: Hải Hà - Tĩnh Gia - Thanh Hóa | F77: 7 | G77: 7 | H77: 8 | I77: 7 | K77: 9 | M77: =(SUM(F77:I77)*2+K77*3)/11 -> 7.7272727 | O77: =MAX(M77,N77) -> 7.7272727
A78: 9 | B78: Vũ Trọng | C78: Dương | D78: 10.12.2001 | E78: Hải Nhân - Tĩnh Gia - Thanh Hóa | F78: 7 | G78: 7 | H78: 8 | I78: 7 | K78: 9 | M78: =(SUM(F78:I78)*2+K78*3)/11 -> 7.7272727 | O78: =MAX(M78,N78) -> 7.7272727
A79: 10 | B79: Trương Bá | C79: Hạnh | D79: 37231 | E79: Thôn 10- Tân Trường- Tĩnh Gia- Thanh Hóa | F79: 6 | G79: 6 | H79: 7 | I79: 7 | K79: 7 | M79: =(SUM(F79:I79)*2+K79*3)/11 -> 6.6363636 | O79: =MAX(M79,N79) -> 6.6363636
A80: 11 | B80: Nguyễn Đắc | C80: Hiếu | D80: 19/02/2000 | E80: Thôn 6- Hải Lĩnh-Tĩnh Gia- Thanh Hóa | F80: 6 | G80: 6 | H80: 6 | I80: 7 | K80: 6 | M80: =(SUM(F80:I80)*2+K80*3)/11 -> 6.1818182 | O80: =MAX(M80,N80) -> 6.1818182
A81: 12 | B81: Mai Xuân | C81: Hinh | D81: 37205 | E81: Ninh Sơn- Trường Lâm- Tĩnh Gia- Thanh Hóa | M81: =(SUM(F81:I81)*2+K81*3)/11 -> 0 | O81: hl
A82: 13 | B82: Phạm Đình | C82: Hoàng | D82: 13.02.2001 | E82: Nguyên Bình - Tĩnh Gia - Thanh Hóa | M82: =(SUM(F82:I82)*2+K82*3)/11 -> 0 | O82: hl
A83: 14 | B83: Lê Văn | C83: Hùng | D83: 09.08.2000 | E83: Bình Minh - Tĩnh Gia - Thanh Hóa | F83: 6 | G83: 7 | H83: 8 | I83: 7 | K83: 8 | M83: =(SUM(F83:I83)*2+K83*3)/11 -> 7.2727273 | O83: =MAX(M83,N83) -> 7.2727273
A84: 15 | B84: Trương Đình | C84: Hùng | D84: 15.06.2001 | E84: Ninh Hải - Tĩnh Gia - Thanh Hóa | F84: 6 | G84: 6 | H84: 7 | I84: 7 | K84: 7 | M84: =(SUM(F84:I84)*2+K84*3)/11 -> 6.6363636 | O84: =MAX(M84,N84) -> 6.6363636
A85: 16 | B85: Trần Văn | C85: Huy | D85: 24.08.2001 | E85: Tân Trường - Tĩnh Gia - Thanh Hóa | M85: =(SUM(F85:I85)*2+K85*3)/11 -> 0 | O85: hl
A86: 17 | B86: Mai Xuân | C86: Huy | D86: 25.10.2001 | E86: Trường Lâm - Tĩnh Gia - Thanh Hóa | F86: 6 | G86: 7 | H86: 7 | I86: 7 | K86: 7 | M86: =(SUM(F86:I86)*2+K86*3)/11 -> 6.8181818 | O86: =MAX(M86,N86) -> 6.8181818
A87: 18 | B87: Lê Vinh | C87: Huy | D87: 36739 | E87: Bản Cát – Mai Lâm – Tĩnh Gia – Thanh Hóa | F87: 7 | G87: 7 | H87: 8 | I87: 8 | K87: 9 | M87: =(SUM(F87:I87)*2+K87*3)/11 -> 7.9090909 | O87: =MAX(M87,N87) -> 7.9090909
A88: 19 | B88: Nguyễn Xuân | C88: Lâm | D88: 22.11.2001 | E88: Nguyên Bình - Tĩnh Gia - Thanh Hóa | M88: =(SUM(F88:I88)*2+K88*3)/11 -> 0 | O88: hl
A89: 20 | B89: Phạm Nhật | C89: Linh | D89: 02.05.2001 | E89: Hải Ninh - Tĩnh Gia - Thanh Hóa | M89: =(SUM(F89:I89)*2+K89*3)/11 -> 0 | O89: hl
A90: 21 | B90: Lê Văn | C90: Long | D90: 27.04.2001 | E90: Hải Thanh - Tĩnh Gia - Thanh Hóa | F90: 6 | G90: 7 | H90: 8 | I90: 7 | K90: 8 | M90: =(SUM(F90:I90)*2+K90*3)/11 -> 7.2727273 | O90: =MAX(M90,N90) -> 7.2727273
A91: 22 | B91: Đồng Xuân | C91: Mạnh | D91: 36923 | E91: Bình Minh- Trường Lâm- Tĩnh Gia- Thanh Hóa | M91: =(SUM(F91:I91)*2+K91*3)/11 -> 0 | O91: hl
A92: 23 | B92: Nguyễn Văn | C92: Minh | D92: 18.05.2001 | E92: Thượng Hải - Hải Thanh – Tĩnh Gia – Thanh Hóa | F92: 7 | G92: 8 | H92: 8 | I92: 8 | K92: 8 | M92: =(SUM(F92:I92)*2+K92*3)/11 -> 7.8181818 | O92: =MAX(M92,N92) -> 7.8181818
A93: 24 | B93: Hồ Sĩ | C93: Minh | D93: 10.12.2000 | E93: Phú Sơn - Tĩnh Gia - Thanh Hóa | F93: 6 | G93: 7 | H93: 8 | I93: 8 | K93: 9 | M93: =(SUM(F93:I93)*2+K93*3)/11 -> 7.7272727 | O93: =MAX(M93,N93) -> 7.7272727
A94: 25 | B94: Nguyễn Thị | C94: Mừng | D94: 37014 | E94: Giảng Tín - Trúc Lâm- Tĩnh Gia- Thanh Hóa | F94: 7 | G94: 8 | H94: 8 | I94: 8 | K94: 9 | M94: =(SUM(F94:I94)*2+K94*3)/11 -> 8.0909091 | O94: =MAX(M94,N94) -> 8.0909091
A95: 26 | B95: Lê Văn | C95: Nam | D95: 23.07.2001 | E95: Nguyên Bình - Tĩnh Gia - Thanh Hóa | F95: 6 | G95: 7 | H95: 7 | I95: 7 | K95: 8 | M95: =(SUM(F95:I95)*2+K95*3)/11 -> 7.0909091 | O95: =MAX(M95,N95) -> 7.0909091
A96: 27 | B96: Lê Văn | C96: Nam | D96: 16.08.2001 | E96: Hải Châu - Tĩnh Gia - Thanh Hóa | F96: 6 | G96: 6 | H96: 7 | I96: 7 | K96: 8 | M96: =(SUM(F96:I96)*2+K96*3)/11 -> 6.9090909 | O96: =MAX(M96,N96) -> 6.9090909
A97: 28 | B97: Ngô Khải | C97: Phong | D97: 15.08.2001 | E97: Hải Thanh - Tĩnh Gia - Thanh Hóa | F97: 7 | G97: 8 | H97: 8 | I97: 8 | K97: 8 | M97: =(SUM(F97:I97)*2+K97*3)/11 -> 7.8181818 | O97: =MAX(M97,N97) -> 7.8181818
A98: 29 | B98: Đỗ Ngọc | C98: Sơn | D98: 21.11.2000 | E98: Hoa Lư - Ninh Bình | F98: 5 | M98: =(SUM(F98:I98)*2+K98*3)/11 -> 0.90909091 | O98: hl
A99: 30 | B99: Hoàng Văn | C99: Thái | D99: 25/4/2001 | E99: Đại Tiến- Ninh Hải- Tĩnh Gia- Thanh Hóa | F99: 6 | G99: 7 | H99: 7 | I99: 7 | K99: 8 | M99: =(SUM(F99:I99)*2+K99*3)/11 -> 7.0909091 | O99: =MAX(M99,N99) -> 7.0909091
A100: 31 | B100: Lê Doãn | C100: Thái | D100: 18/09/2001 | E100: Thôn 2 - Định Hải - Tĩnh Gia - Thanh Hóa | F100: 7 | G100: 8 | H100: 8 | I100: 9 | K100: 9 | M100: =(SUM(F100:I100)*2+K100*3)/11 -> 8.2727273 | O100: =MAX(M100,N100) -> 8.2727273
A101: 32 | B101: Lê Hữu | C101: Thành | D101: 37231 | E101: Thống Nhất- Ninh Hải- Tĩnh Gia- Thanh Hóa | F101: 6 | G101: 8 | H101: 8 | I101: 8 | K101: 8 | M101: =(SUM(F101:I101)*2+K101*3)/11 -> 7.6363636 | O101: =MAX(M101,N101) -> 7.6363636
A102: 33 | B102: Mai Xuân | C102: Thiện | D102: 10.07.2001 | E102: Ninh Hải - Tĩnh Gia - Thanh Hóa | F102: 6 | G102: 6 | H102: 7 | I102: 8 | K102: 8 | M102: =(SUM(F102:I102)*2+K102*3)/11 -> 7.0909091 | O102: =MAX(M102,N102) -> 7.0909091
...

Sheet TKHK2
E1: Đ8B1
A2: TT | B2: Họ và tên | D2: Ngày Sinh | E2: Nơi Sinh | F2: =tphk2!O6 -> Đo lường điện | G2: =tphk2!O68 -> Điện tử cơ bản | H2: =tphk2!O130 -> Khí cụ điện | I2: =tphk2!O190 -> Giáo dục quốc phòng | J2: TỔNG KẾT | K2: xẾP LoẠI
F3: =tphk2!O7 -> 4 | G3: =tphk2!O69 -> 5 | H3: =tphk2!O131 -> 2 | I3: =tphk2!O191 -> 3 | J3: =SUM(F3:I3) -> 14
A4: 1 | B4: Nguyễn Thế | C4: Ánh | D4: 05.10.2001 | E4: Đội 1- Nguyên Bình- Tĩnh Gia - Thanh Hóa | F4: =tphk2!O8 -> 6.7777778 | G4: =tphk2!O70 -> 7.2727273 | H4: =tphk2!O132 -> 8 | I4: =tphk2!O192 -> 6.7777778 | J4: =(F4*4+G4*5+H4*2+I4*3)/14 -> 7.1291486 | K4: =(IF(J4>=8,"Giỏi",IF(J4>=7,"Khá",IF(J4>=6,"TB","Yếu")))) -> Khá
A5: 2 | B5: Lê Hữu | C5: Chiến | D5: 11.07.2000 | E5: Thị Trấn - Tĩnh Gia - Thanh Hóa | F5: =tphk2!O9 -> 7.3333333 | G5: =tphk2!O71 -> 7.0909091 | H5: =tphk2!O133 -> 7.7142857 | I5: =tphk2!O193 -> 7.4444444 | J5: =(F5*4+G5*5+H5*2+I5*3)/14 -> 7.3249845 | K5: =(IF(J5>=8,"Giỏi",IF(J5>=7,"Khá",IF(J5>=6,"TB","Yếu")))) -> Khá
A6: 3 | B6: Lê Công | C6: Chính | D6: 16/09/2000 | E6: Đội 16- Nguyên Bình- Tĩnh Gia- Thanh Hóa | F6: =tphk2!O10 -> 7.3333333 | G6: =tphk2!O72 -> 6.8181818 | H6: =tphk2!O134 -> 7.7142857 | I6: =tphk2!O194 -> 6.6666667 | J6: =(F6*4+G6*5+H6*2+I6*3)/14 -> 7.0609153 | K6: =(IF(J6>=8,"Giỏi",IF(J6>=7,"Khá",IF(J6>=6,"TB","Yếu")))) -> Khá
A7: 4 | B7: Lê Đức | C7: Chung | D7: 37142 | E7: Đông Hải - Hải Hòa- Tĩnh Gia - Thanh Hóa | F7: =tphk2!O11 -> 7.7777778 | G7: =tphk2!O73 -> 7.4545455 | H7: =tphk2!O135 -> 8 | I7: =tphk2!O195 -> 7.6666667 | J7: =(F7*4+G7*5+H7*2+I7*3)/14 -> 7.6702742 | K7: =(IF(J7>=8,"Giỏi",IF(J7>=7,"Khá",IF(J7>=6,"TB","Yếu")))) -> Khá
A8: 5 | B8: Lê Văn | C8: Cương | D8: 16/10/2000 | E8: Hữu Nam– Mai Lâm – Tĩnh Gia – Thanh Hóa | F8: =tphk2!O12 -> 7.7777778 | G8: =tphk2!O74 -> 7.4545455 | H8: =tphk2!O136 -> 7 | I8: =tphk2!O196 -> 6.6666667 | J8: =(F8*4+G8*5+H8*2+I8*3)/14 -> 7.3131313 | K8: =(IF(J8>=8,"Giỏi",IF(J8>=7,"Khá",IF(J8>=6,"TB","Yếu")))) -> Khá
A9: 6 | B9: Lê Văn | C9: Đại | D9: 19/02/2001 | E9: Sơn Trà- Trúc Lâm- Tĩnh Gia - Thanh Hóa | F9: =tphk2!O13 -> hl | G9: =tphk2!O75 -> hl | H9: =tphk2!O137 -> 6.4285714 | I9: =tphk2!O197 -> bỏ | J9: =(F9*4+G9*5+H9*2+I9*3)/14 -> #VALUE! | K9: =(IF(J9>=8,"Giỏi",IF(J9>=7,"Khá",IF(J9>=6,"TB","Yếu")))) -> #VALUE!
A10: 7 | B10: Lê Công | C10: Đạt | D10: 36929 | E10: Đồng Minh - Hải Ninh - Tĩnh Gia - Thanh Hóa | F10: =tphk2!O14 -> 6 | G10: =tphk2!O76 -> 6.6363636 | H10: =tphk2!O138 -> 6.1428571 | I10: =tphk2!O198 -> 5.7777778 | J10: =(F10*4+G10*5+H10*2+I10*3)/14 -> 6.2000618 | K10: =(IF(J10>=8,"Giỏi",IF(J10>=7,"Khá",IF(J10>=6,"TB","Yếu")))) -> TB
A11: 8 | B11: Bùi Văn | C11: Dũng | D11: 16.09.2000 | E11: Hải Hà - Tĩnh Gia - Thanh Hóa | F11: =tphk2!O15 -> 7.5555556 | G11: =tphk2!O77 -> 7.7272727 | H11: =tphk2!O139 -> 7.7142857 | I11: =tphk2!O199 -> 7.7777778 | J11: =(F11*4+G11*5+H11*2+I11*3)/14 -> 7.6871779 | K11: =(IF(J11>=8,"Giỏi",IF(J11>=7,"Khá",IF(J11>=6,"TB","Yếu")))) -> Khá
A12: 9 | B12: Vũ Trọng | C12: Dương | D12: 10.12.2001 | E12: Hải Nhân - Tĩnh Gia - Thanh Hóa | F12: =tphk2!O16 -> 8 | G12: =tphk2!O78 -> 7.7272727 | H12: =tphk2!O140 -> 8 | I12: =tphk2!O200 -> 7.4444444 | J12: =(F12*4+G12*5+H12*2+I12*3)/14 -> 7.7835498 | K12: =(IF(J12>=8,"Giỏi",IF(J12>=7,"Khá",IF(J12>=6,"TB","Yếu")))) -> Khá
A13: 10 | B13: Trương Bá | C13: Hạnh | D13: 37231 | E13: Thôn 10- Tân Trường- Tĩnh Gia- Thanh Hóa | F13: =tphk2!O17 -> 7.3333333 | G13: =tphk2!O79 -> 6.6363636 | H13: =tphk2!O141 -> 5.5714286 | I13: =tphk2!O201 -> 7.6666667 | J13: =(F13*4+G13*5+H13*2+I13*3)/14 -> 6.9041435 | K13: =(IF(J13>=8,"Giỏi",IF(J13>=7,"Khá",IF(J13>=6,"TB","Yếu")))) -> TB
A14: 11 | B14: Nguyễn Đắc | C14: Hiếu | D14: 19/02/2000 | E14: Thôn 6- Hải Lĩnh-Tĩnh Gia- Thanh Hóa | F14: =tphk2!O18 -> 6.6666667 | G14: =tphk2!O80 -> 6.1818182 | H14: =tphk2!O142 -> 6.1428571 | I14: =tphk2!O202 -> 6.4444444 | J14: =(F14*4+G14*5+H14*2+I14*3)/14 -> 6.3710575 | K14: =(IF(J14>=8,"Giỏi",IF(J14>=7,"Khá",IF(J14>=6,"TB","Yếu")))) -> TB
A15: 12 | B15: Mai Xuân | C15: Hinh | D15: 37205 | E15: Ninh Sơn- Trường Lâm- Tĩnh Gia- Thanh Hóa | F15: =tphk2!O19 -> hl | G15: =tphk2!O81 -> hl | H15: =tphk2!O143 -> HL | I15: =tphk2!O203 -> bỏ | J15: =(F15*4+G15*5+H15*2+I15*3)/14 -> #VALUE! | K15: =(IF(J15>=8,"Giỏi",IF(J15>=7,"Khá",IF(J15>=6,"TB","Yếu")))) -> #VALUE!
A16: 13 | B16: Phạm Đình | C16: Hoàng | D16: 13.02.2001 | E16: Nguyên Bình - Tĩnh Gia - Thanh Hóa | F16: =tphk2!O20 -> hl | G16: =tphk2!O82 -> hl | H16: =tphk2!O144 -> HL | I16: =tphk2!O204 -> bỏ | J16: =(F16*4+G16*5+H16*2+I16*3)/14 -> #VALUE! | K16: =(IF(J16>=8,"Giỏi",IF(J16>=7,"Khá",IF(J16>=6,"TB","Yếu")))) -> #VALUE!
A17: 14 | B17: Lê Văn | C17: Hùng | D17: 09.08.2000 | E17: Bình Minh - Tĩnh Gia - Thanh Hóa | F17: =tphk2!O21 -> 7.4444444 | G17: =tphk2!O83 -> 7.2727273 | H17: =tphk2!O145 -> 7.2857143 | I17: =tphk2!O205 -> 7.7777778 | J17: =(F17*4+G17*5+H17*2+I17*3)/14 -> 7.4318697 | K17: =(IF(J17>=8,"Giỏi",IF(J17>=7,"Khá",IF(J17>=6,"TB","Yếu")))) -> Khá
A18: 15 | B18: Trương Đình | C18: Hùng | D18: 15.06.2001 | E18: Ninh Hải - Tĩnh Gia - Thanh Hóa | F18: =tphk2!O22 -> 6.4444444 | G18: =tphk2!O84 -> 6.6363636 | H18: =tphk2!O146 -> 6.4285714 | I18: =tphk2!O206 -> 6.2222222 | J18: =(F18*4+G18*5+H18*2+I18*3)/14 -> 6.4631004 | K18: =(IF(J18>=8,"Giỏi",IF(J18>=7,"Khá",IF(J18>=6,"TB","Yếu")))) -> TB
A19: 16 | B19: Trần Văn | C19: Huy | D19: 24.08.2001 | E19: Tân Trường - Tĩnh Gia - Thanh Hóa | F19: =tphk2!O23 -> hl | G19: =tphk2!O85 -> hl | H19: =tphk2!O147 -> HL | I19: =tphk2!O207 -> bỏ | J19: =(F19*4+G19*5+H19*2+I19*3)/14 -> #VALUE! | K19: =(IF(J19>=8,"Giỏi",IF(J19>=7,"Khá",IF(J19>=6,"TB","Yếu")))) -> #VALUE!
A20: 17 | B20: Mai Xuân | C20: Huy | D20: 25.10.2001 | E20: Trường Lâm - Tĩnh Gia - Thanh Hóa | F20: =tphk2!O24 -> 6.2222222 | G20: =tphk2!O86 -> 6.8181818 | H20: =tphk2!O148 -> 6.5714286 | I20: =tphk2!O208 -> 7.1111111 | J20: =(F20*4+G20*5+H20*2+I20*3)/14 -> 6.6754277 | K20: =(IF(J20>=8,"Giỏi",IF(J20>=7,"Khá",IF(J20>=6,"TB","Yếu")))) -> TB
A21: 18 | B21: Lê Vinh | C21: Huy | D21: 36739 | E21: Bản Cát – Mai Lâm – Tĩnh Gia – Thanh Hóa | F21: =tphk2!O25 -> 8.5555556 | G21: =tphk2!O87 -> 7.9090909 | H21: =tphk2!O149 -> 7.2857143 | I21: =tphk2!O209 -> 7.8888889 | J21: =(F21*4+G21*5+H21*2+I21*3)/14 -> 8.0004123 | K21: =(IF(J21>=8,"Giỏi",IF(J21>=7,"Khá",IF(J21>=6,"TB","Yếu")))) -> Giỏi
A22: 19 | B22: Nguyễn Xuân | C22: Lâm | D22: 22.11.2001 | E22: Nguyên Bình - Tĩnh Gia - Thanh Hóa | F22: =tphk2!O26 -> hl | G22: =tphk2!O88 -> hl | H22: =tphk2!O150 -> TL | I22: =tphk2!O210 -> bỏ | J22: =(F22*4+G22*5+H22*2+I22*3)/14 -> #VALUE! | K22: =(IF(J22>=8,"Giỏi",IF(J22>=7,"Khá",IF(J22>=6,"TB","Yếu")))) -> #VALUE!
A23: 20 | B23: Phạm Nhật | C23: Linh | D23: 02.05.2001 | E23: Hải Ninh - Tĩnh Gia - Thanh Hóa | F23: =tphk2!O27 -> hl | G23: =tphk2!O89 -> hl | H23: =tphk2!O151 -> HL | I23: =tphk2!O211 -> bỏ | J23: =(F23*4+G23*5+H23*2+I23*3)/14 -> #VALUE! | K23: =(IF(J23>=8,"Giỏi",IF(J23>=7,"Khá",IF(J23>=6,"TB","Yếu")))) -> #VALUE!
A24: 21 | B24: Lê Văn | C24: Long | D24: 27.04.2001 | E24: Hải Thanh - Tĩnh Gia - Thanh Hóa | F24: =tphk2!O28 -> 7.5555556 | G24: =tphk2!O90 -> 7.2727273 | H24: =tphk2!O152 -> 6.4285714 | I24: =tphk2!O212 -> 6.6666667 | J24: =(F24*4+G24*5+H24*2+I24*3)/14 -> 7.1030715 | K24: =(IF(J24>=8,"Giỏi",IF(J24>=7,"Khá",IF(J24>=6,"TB","Yếu")))) -> Khá
A25: 22 | B25: Đồng Xuân | C25: Mạnh | D25: 36923 | E25: Bình Minh- Trường Lâm- Tĩnh Gia- Thanh Hóa | F25: =tphk2!O29 -> hl | G25: =tphk2!O91 -> hl | H25: =tphk2!O153 -> HL | I25: =tphk2!O213 -> bỏ | J25: =(F25*4+G25*5+H25*2+I25*3)/14 -> #VALUE! | K25: =(IF(J25>=8,"Giỏi",IF(J25>=7,"Khá",IF(J25>=6,"TB","Yếu")))) -> #VALUE!
A26: 23 | B26: Nguyễn Văn | C26: Minh | D26: 18.05.2001 | E26: Thượng Hải - Hải Thanh – Tĩnh Gia – Thanh Hóa | F26: =tphk2!O30 -> 8 | G26: =tphk2!O92 -> 7.8181818 | H26: =tphk2!O154 -> 8 | I26: =tphk2!O214 -> 8.4444444 | J26: =(F26*4+G26*5+H26*2+I26*3)/14 -> 8.030303 | K26: =(IF(J26>=8,"Giỏi",IF(J26>=7,"Khá",IF(J26>=6,"TB","Yếu")))) -> Giỏi
A27: 24 | B27: Hồ Sĩ | C27: Minh | D27: 10.12.2000 | E27: Phú Sơn - Tĩnh Gia - Thanh Hóa | F27: =tphk2!O31 -> 7.7777778 | G27: =tphk2!O93 -> 7.7272727 | H27: =tphk2!O155 -> 8.7142857 | I27: =tphk2!O215 -> 7.4444444 | J27: =(F27*4+G27*5+H27*2+I27*3)/14 -> 7.8220985 | K27: =(IF(J27>=8,"Giỏi",IF(J27>=7,"Khá",IF(J27>=6,"TB","Yếu")))) -> Khá
A28: 25 | B28: Nguyễn Thị | C28: Mừng | D28: 37014 | E28: Giảng Tín - Trúc Lâm- Tĩnh Gia- Thanh Hóa | F28: =tphk2!O32 -> 8.5555556 | G28: =tphk2!O94 -> 8.0909091 | H28: =tphk2!O156 -> 8 | I28: =tphk2!O216 -> 8.3333333 | J28: =(F28*4+G28*5+H28*2+I28*3)/14 -> 8.2626263 | K28: =(IF(J28>=8,"Giỏi",IF(J28>=7,"Khá",IF(J28>=6,"TB","Yếu")))) -> Giỏi
A29: 26 | B29: Lê Văn | C29: Nam | D29: 23.07.2001 | E29: Nguyên Bình - Tĩnh Gia - Thanh Hóa | F29: =tphk2!O33 -> 7.4444444 | G29: =tphk2!O95 -> 7.0909091 | H29: =tphk2!O157 -> 6.7142857 | I29: =tphk2!O217 -> 7.7777778 | J29: =(F29*4+G29*5+H29*2+I29*3)/14 -> 7.285302 | K29: =(IF(J29>=8,"Giỏi",IF(J29>=7,"Khá",IF(J29>=6,"TB","Yếu")))) -> Khá
A30: 27 | B30: Lê Văn | C30: Nam | D30: 16.08.2001 | E30: Hải Châu - Tĩnh Gia - Thanh Hóa | F30: =tphk2!O34 -> 7.6666667 | G30: =tphk2!O96 -> 6.9090909 | H30: =tphk2!O158 -> 5.8571429 | I30: =tphk2!O218 -> 7.4444444 | J30: =(F30*4+G30*5+H30*2+I30*3)/14 -> 7.0899814 | K30: =(IF(J30>=8,"Giỏi",IF(J30>=7,"Khá",IF(J30>=6,"TB","Yếu")))) -> Khá
A31: 28 | B31: Ngô Khải | C31: Phong | D31: 15.08.2001 | E31: Hải Thanh - Tĩnh Gia - Thanh Hóa | F31: =tphk2!O35 -> 7.4444444 | G31: =tphk2!O97 -> 7.8181818 | H31: =tphk2!O159 -> 6.8571429 | I31: =tphk2!O219 -> 6.7777778 | J31: =(F31*4+G31*5+H31*2+I31*3)/14 -> 7.3511647 | K31: =(IF(J31>=8,"Giỏi",IF(J31>=7,"Khá",IF(J31>=6,"TB","Yếu")))) -> Khá
A32: 29 | B32: Đỗ Ngọc | C32: Sơn | D32: 21.11.2000 | E32: Hoa Lư - Ninh Bình | F32: =tphk2!O36 -> hl | G32: =tphk2!O98 -> hl | H32: =tphk2!O160 -> HL | I32: =tphk2!O220 -> bỏ | J32: =(F32*4+G32*5+H32*2+I32*3)/14 -> #VALUE! | K32: =(IF(J32>=8,"Giỏi",IF(J32>=7,"Khá",IF(J32>=6,"TB","Yếu")))) -> #VALUE!
A33: 30 | B33: Hoàng Văn | C33: Thái | D33: 25/4/2001 | E33: Đại Tiến- Ninh Hải- Tĩnh Gia- Thanh Hóa | F33: =tphk2!O37 -> 6.7777778 | G33: =tphk2!O99 -> 7.0909091 | H33: =tphk2!O161 -> 7.2857143 | I33: =tphk2!O221 -> 7.1111111 | J33: =(F33*4+G33*5+H33*2+I33*3)/14 -> 7.0336013 | K33: =(IF(J33>=8,"Giỏi",IF(J33>=7,"Khá",IF(J33>=6,"TB","Yếu")))) -> Khá
A34: 31 | B34: Lê Doãn | C34: Thái | D34: 18/09/2001 | E34: Thôn 2 - Định Hải - Tĩnh Gia - Thanh Hóa | F34: =tphk2!O38 -> 8 | G34: =tphk2!O100 -> 8.2727273 | H34: =tphk2!O162 -> 8 | I34: =tphk2!O222 -> 7.6666667 | J34: =(F34*4+G34*5+H34*2+I34*3)/14 -> 8.025974 | K34: =(IF(J34>=8,"Giỏi",IF(J34>=7,"Khá",IF(J34>=6,"TB","Yếu")))) -> Giỏi
A35: 32 | B35: Lê Hữu | C35: Thành | D35: 37231 | E35: Thống Nhất- Ninh Hải- Tĩnh Gia- Thanh Hóa | F35: =tphk2!O39 -> 7.2222222 | G35: =tphk2!O101 -> 7.6363636 | H35: =tphk2!O163 -> 7.1428571 | I35: =tphk2!O223 -> 7.4444444 | J35: =(F35*4+G35*5+H35*2+I35*3)/14 -> 7.406411 | K35: =(IF(J35>=8,"Giỏi",IF(J35>=7,"Khá",IF(J35>=6,"TB","Yếu")))) -> Khá
A36: 33 | B36: Mai Xuân | C36: Thiện | D36: 10.07.2001 | E36: Ninh Hải - Tĩnh Gia - Thanh Hóa | F36: =tphk2!O40 -> 6.2222222 | G36: =tphk2!O102 -> 7.0909091 | H36: =tphk2!O164 -> 7.2857143 | I36: =tphk2!O224 -> 6.7777778 | J36: =(F36*4+G36*5+H36*2+I36*3)/14 -> 6.8034426 | K36: =(IF(J36>=8,"Giỏi",IF(J36>=7,"Khá",IF(J36>=6,"TB","Yếu")))) -> TB
A37: 34 | B37: Lê Đình | C37: Tình | D37: 08.04.2001 | E37: Trường Lâm - Tĩnh Gia - Thanh Hóa | F37: =tphk2!O41 -> hl | G37: =tphk2!O103 -> hl | H37: =tphk2!O165 -> HL | I37: =tphk2!O225 -> 0 | J37: =(F37*4+G37*5+H37*2+I37*3)/14 -> #VALUE! | K37: =(IF(J37>=8,"Giỏi",IF(J37>=7,"Khá",IF(J37>=6,"TB","Yếu")))) -> #VALUE!
A38: 35 | B38: Đậu Xuân | C38: Toàn | D38: 13/08/2001 | E38: Trường Thanh- Trường Lâm- Tĩnh Gia- Thanh Hóa | F38: =tphk2!O42 -> hl | G38: =tphk2!O104 -> hl | H38: =tphk2!O166 -> HL | I38: =tphk2!O226 -> bỏ | J38: =(F38*4+G38*5+H38*2+I38*3)/14 -> #VALUE! | K38: =(IF(J38>=8,"Giỏi",IF(J38>=7,"Khá",IF(J38>=6,"TB","Yếu")))) -> #VALUE!
A39: 36 | B39: Nguyễn Như | C39: Trọng | D39: 26/06/2001 | E39: Thôn 9- Tân Trường- Tĩnh Gia- Thanh Hóa | F39: =tphk2!O43 -> 6.8888889 | G39: =tphk2!O105 -> 7.0909091 | H39: =tphk2!O167 -> 7.7142857 | I39: =tphk2!O227 -> 7 | J39: =(F39*4+G39*5+H39*2+I39*3)/14 -> 7.1027623 | K39: =(IF(J39>=8,"Giỏi",IF(J39>=7,"Khá",IF(J39>=6,"TB","Yếu")))) -> Khá
A40: 37 | B40: Lê Văn | C40: Trọng | D40: 15.07.1999 | E40: Tân Trường - Tĩnh Gia - Thanh Hóa | F40: =tphk2!O44 -> 6.4444444 | G40: =tphk2!O106 -> 7.0909091 | H40: =tphk2!O168 -> 7.4285714 | I40: =tphk2!O228 -> 7 | J40: =(F40*4+G40*5+H40*2+I40*3)/14 -> 6.9349619 | K40: =(IF(J40>=8,"Giỏi",IF(J40>=7,"Khá",IF(J40>=6,"TB","Yếu")))) -> TB
A41: 38 | B41: Lê Kim | C41: Trường | D41: 37014 | E41: Thôn 3- Hải An- Tĩnh Gia- Thanh Hóa | F41: =tphk2!O45 -> 6.6666667 | G41: =tphk2!O107 -> 7.0909091 | H41: =tphk2!O169 -> 7.7142857 | I41: =tphk2!O229 -> 6.6666667 | J41: =(F41*4+G41*5+H41*2+I41*3)/14 -> 6.9678417 | K41: =(IF(J41>=8,"Giỏi",IF(J41>=7,"Khá",IF(J41>=6,"TB","Yếu")))) -> TB
A42: 39 | B42: Nguyễn Văn | C42: Trưởng | D42: 25.04.2001 | E42: Trường Lâm - Tĩnh Gia - Thanh Hóa | F42: =tphk2!O46 -> hl | G42: =tphk2!O108 -> hl | H42: =tphk2!O170 -> HL | I42: =tphk2!O230 -> bỏ | J42: =(F42*4+G42*5+H42*2+I42*3)/14 -> #VALUE! | K42: =(IF(J42>=8,"Giỏi",IF(J42>=7,"Khá",IF(J42>=6,"TB","Yếu")))) -> #VALUE!
A43: 40 | B43: Lê Văn | C43: Tuân | D43: 21.09.2001 | E43: Ninh Hải - Tĩnh Gia - Thanh Hóa | F43: =tphk2!O47 -> 6.2222222 | G43: =tphk2!O109 -> 7.2727273 | H43: =tphk2!O171 -> 7 | I43: =tphk2!O231 -> 7.1111111 | J43: =(F43*4+G43*5+H43*2+I43*3)/14 -> 6.8989899 | K43: =(IF(J43>=8,"Giỏi",IF(J43>=7,"Khá",IF(J43>=6,"TB","Yếu")))) -> TB
A44: 41 | B44: Phạm Văn | C44: Tuấn | D44: 37175 | E44: Thanh Biình- Hải Ninh- Tĩnh Gia- Thanh Hóa | F44: =tphk2!O48 -> 5.7777778 | G44: =tphk2!O110 -> 6.4545455 | H44: =tphk2!O172 -> 7.4285714 | I44: =tphk2!O232 -> 6.7777778 | J44: =(F44*4+G44*5+H44*2+I44*3)/14 -> 6.4695939 | K44: =(IF(J44>=8,"Giỏi",IF(J44>=7,"Khá",IF(J44>=6,"TB","Yếu")))) -> TB
A45: 42 | B45: Lê Thị | C45: Tuyết | D45: 20.10.2001 | E45: Trung tâm hy vọng - Tĩnh Gia - Thanh Hóa | F45: =tphk2!O49 -> 8 | G45: =tphk2!O111 -> 7.8181818 | H45: =tphk2!O173 -> 7.2857143 | I45: =tphk2!O233 -> 7.6666667 | J45: =(F45*4+G45*5+H45*2+I45*3)/14 -> 7.7615955 | K45: =(IF(J45>=8,"Giỏi",IF(J45>=7,"Khá",IF(J45>=6,"TB","Yếu")))) -> Khá
A46: 43 | B46: Mai Huy | C46: Việt | D46: 15/2/2000 | E46: TK2- TT Tĩnh Gia- Thanh Hóa | F46: =tphk2!O50 -> 7.3333333 | G46: =tphk2!O112 -> 7.8181818 | H46: =tphk2!O174 -> 7.2857143 | I46: =tphk2!O234 -> 7.7777778 | J46: =(F46*4+G46*5+H46*2+I46*3)/14 -> 7.5949289 | K46: =(IF(J46>=8,"Giỏi",IF(J46>=7,"Khá",IF(J46>=6,"TB","Yếu")))) -> Khá
A47: 44 | B47: Lê Xuân | C47: Vinh | D47: 22.02.2001 | E47: Nguyên Bình - Tĩnh Gia - Thanh Hóa | F47: =tphk2!O51 -> 6.2222222 | G47: =tphk2!O113 -> 5.3636364 | H47: =tphk2!O175 -> 6.4285714 | I47: =tphk2!O235 -> HL | J47: =(F47*4+G47*5+H47*2+I47*3)/14 -> #VALUE! | K47: =(IF(J47>=8,"Giỏi",IF(J47>=7,"Khá",IF(J47>=6,"TB","Yếu")))) -> #VALUE!
A48: 45 | B48: Đỗ Tuấn | C48: Vương | D48: 03.01.2001 | E48: Trường Lâm - Tĩnh Gia - Thanh Hóa | F48: =tphk2!O52 -> 6.2222222 | G48: =tphk2!O114 -> 6.8181818 | H48: =tphk2!O176 -> 6.4285714 | I48: =tphk2!O236 -> 7 | J48: =(F48*4+G48*5+H48*2+I48*3)/14 -> 6.6312101 | K48: =(IF(J48>=8,"Giỏi",IF(J48>=7,"Khá",IF(J48>=6,"TB","Yếu")))) -> TB
A49: 46 | B49: Nguyễn Bá Trần | C49: Danh | F49: =tphk2!O53 -> hl | G49: =tphk2!O115 -> 6.7272727 | H49: =tphk2!O177 -> TL | I49: =tphk2!O237 -> HL | J49: =(F49*4+G49*5+H49*2+I49*3)/14 -> #VALUE! | K49: =(IF(J49>=8,"Giỏi",IF(J49>=7,"Khá",IF(J49>=6,"TB","Yếu")))) -> #VALUE!
A50: 47 | B50: Nguyễn Đình | C50: Nhật | F50: =tphk2!O54 -> 5.7777778 | G50: =tphk2!O116 -> 6.6363636 | H50: =tphk2!O178 -> 6 | I50: =tphk2!O238 -> 7.3333333 | J50: =(F50*4+G50*5+H50*2+I50*3)/14 -> 6.4494949 | K50: =(IF(J50>=8,"Giỏi",IF(J50>=7,"Khá",IF(J50>=6,"TB","Yếu")))) -> TB
A51: 48 | B51: Nguyễn Xuân | C51: Đức | F51: =tphk2!O55 -> 5 | G51: =tphk2!O117 -> 5.8181818 | H51: =tphk2!O179 -> 8.7142857 | I51: =tphk2!O239 -> HL | J51: =(F51*4+G51*5+H51*2+I51*3)/14 -> #VALUE! | K51: =(IF(J51>=8,"Giỏi",IF(J51>=7,"Khá",IF(J51>=6,"TB","Yếu")))) -> #VALUE!
A52: 49 | B52: Bùi Quốc | C52: Cường | F52: =tphk2!O56 -> 5.4444444 | G52: =tphk2!O118 -> 5.1818182 | H52: =tphk2!O180 -> 6 | I52: =tphk2!O240 -> 6.7777778 | J52: =(F52*4+G52*5+H52*2+I52*3)/14 -> 5.7157287 | K52: =(IF(J52>=8,"Giỏi",IF(J52>=7,"Khá",IF(J52>=6,"TB","Yếu")))) -> Yếu
B53: Nguyễn Tuấn | C53: Hưng | F53: =tphk2!O57 -> 0 | G53: =tphk2!O119 -> 0 | H53: =tphk2!O181 -> 0 | I53: =tphk2!O241 -> 0 | J53: =(F53*4+G53*5+H53*2+I53*3)/14 -> 0 | K53: =(IF(J53>=8,"Giỏi",IF(J53>=7,"Khá",IF(J53>=6,"TB","Yếu")))) -> Yếu
B54: Nguyễn Văn Tuấn | C54: Anh | F54: =tphk2!O58 -> 0 | G54: =tphk2!O120 -> 0 | H54: =tphk2!O182 -> 0 | I54: =tphk2!O242 -> 0 | J54: =(F54*4+G54*5+H54*2+I54*3)/14 -> 0 | K54: =(IF(J54>=8,"Giỏi",IF(J54>=7,"Khá",IF(J54>=6,"TB","Yếu")))) -> Yếu
B55: Cao Ngọc | C55: Hoàng | F55: =tphk2!O59 -> 0 | G55: =tphk2!O121 -> 0 | H55: =tphk2!O183 -> 0 | I55: =tphk2!O243 -> 0 | J55: =(F55*4+G55*5+H55*2+I55*3)/14 -> 0 | K55: =(IF(J55>=8,"Giỏi",IF(J55>=7,"Khá",IF(J55>=6,"TB","Yếu")))) -> Yếu
B56: Nguyễn Văn | C56: Anh | F56: =tphk2!O60 -> 0 | G56: =tphk2!O122 -> 0 | H56: =tphk2!O184 -> 0 | I56: =tphk2!O244 -> 0 | J56: =(F56*4+G56*5+H56*2+I56*3)/14 -> 0 | K56: =(IF(J56>=8,"Giỏi",IF(J56>=7,"Khá",IF(J56>=6,"TB","Yếu")))) -> Yếu

Sheet hb
A4: TT | B4: Họ và tên | D4: Ngày Sinh | E4: Nơi Sinh | F4: =tphk2!O6 -> Đo lường điện | G4: =tphk2!O68 -> Điện tử cơ bản | H4: =tphk2!O130 -> Khí cụ điện | I4: =tphk2!O190 -> Giáo dục quốc phòng | J4: TỔNG KẾT | K4: hk1 | L4: cả năm
F5: =tphk2!O7 -> 4 | G5: =tphk2!O69 -> 5 | H5: =tphk2!O131 -> 2 | I5: =tphk2!O191 -> 3 | J5: =SUM(F5:I5) -> 14
A6: 4 | B6: Lê Đức | C6: Chung | D6: 37142 | E6: Đông Hải - Hải Hòa- Tĩnh Gia - Thanh Hóa | F6: =tphk2!O11 -> 7.7777778 | G6: =tphk2!O73 -> 7.4545455 | H6: =tphk2!O135 -> 8 | I6: =tphk2!O195 -> 7.6666667 | J6: =(F6*4+G6*5+H6*2+I6*3)/14 -> 7.6702742 | K6: =TKHK1!P8 -> 6.5263107 | L6: =(J6+K6)/2 -> 7.0982924
A7: 5 | B7: Lê Văn | C7: Cương | D7: 16/10/2000 | E7: Hữu Nam– Mai Lâm – Tĩnh Gia – Thanh Hóa | F7: =tphk2!O12 -> 7.7777778 | G7: =tphk2!O74 -> 7.4545455 | H7: =tphk2!O136 -> 7 | I7: =tphk2!O196 -> 6.6666667 | J7: =(F7*4+G7*5+H7*2+I7*3)/14 -> 7.3131313 | K7: =TKHK1!P9 -> 6.8004398 | L7: =(J7+K7)/2 -> 7.0567855
A8: 8 | B8: Bùi Văn | C8: Dũng | D8: 16.09.2000 | E8: Hải Hà - Tĩnh Gia - Thanh Hóa | F8: =tphk2!O15 -> 7.5555556 | G8: =tphk2!O77 -> 7.7272727 | H8: =tphk2!O139 -> 7.7142857 | I8: =tphk2!O199 -> 7.7777778 | J8: =(F8*4+G8*5+H8*2+I8*3)/14 -> 7.6871779 | K8: =TKHK1!P12 -> 6.5547997 | L8: =(J8+K8)/2 -> 7.1209888
A9: 9 | B9: Vũ Trọng | C9: Dương | D9: 10.12.2001 | E9: Hải Nhân - Tĩnh Gia - Thanh Hóa | F9: =tphk2!O16 -> 8 | G9: =tphk2!O78 -> 7.7272727 | H9: =tphk2!O140 -> 8 | I9: =tphk2!O200 -> 7.4444444 | J9: =(F9*4+G9*5+H9*2+I9*3)/14 -> 7.7835498 | K9: =TKHK1!P13 -> 6.7723493 | L9: =(J9+K9)/2 -> 7.2779496
A10: 18 | B10: Lê Vinh | C10: Huy | D10: 36739 | E10: Bản Cát – Mai Lâm – Tĩnh Gia – Thanh Hóa | F10: =tphk2!O25 -> 8.5555556 | G10: =tphk2!O87 -> 7.9090909 | H10: =tphk2!O149 -> 7.2857143 | I10: =tphk2!O209 -> 7.8888889 | J10: =(F10*4+G10*5+H10*2+I10*3)/14 -> 8.0004123 | K10: =TKHK1!P22 -> 6.0473167 | L10: =(J10+K10)/2 -> 7.0238645
A11: 24 | B11: Hồ Sĩ | C11: Minh | D11: 10.12.2000 | E11: Phú Sơn - Tĩnh Gia - Thanh Hóa | F11: =tphk2!O31 -> 7.7777778 | G11: =tphk2!O93 -> 7.7272727 | H11: =tphk2!O155 -> 8.7142857 | I11: =tphk2!O215 -> 7.4444444 | J11: =(F11*4+G11*5+H11*2+I11*3)/14 -> 7.8220985 | K11: =TKHK1!P28 -> 6.2055109 | L11: =(J11+K11)/2 -> 7.0138047
A12: 25 | B12: Nguyễn Thị | C12: Mừng | D12: 37014 | E12: Giảng Tín - Trúc Lâm- Tĩnh Gia- Thanh Hóa | F12: =tphk2!O32 -> 8.5555556 | G12: =tphk2!O94 -> 8.0909091 | H12: =tphk2!O156 -> 8 | I12: =tphk2!O216 -> 8.3333333 | J12: =(F12*4+G12*5+H12*2+I12*3)/14 -> 8.2626263 | K12: =TKHK1!P29 -> 7.5538377 | L12: =(J12+K12)/2 -> 7.908232
A13: 28 | B13: Ngô Khải | C13: Phong | D13: 15.08.2001 | E13: Hải Thanh - Tĩnh Gia - Thanh Hóa | F13: =tphk2!O35 -> 7.4444444 | G13: =tphk2!O97 -> 7.8181818 | H13: =tphk2!O159 -> 6.8571429 | I13: =tphk2!O219 -> 6.7777778 | J13: =(F13*4+G13*5+H13*2+I13*3)/14 -> 7.3511647 | K13: =TKHK1!P32 -> 6.7292517 | L13: =(J13+K13)/2 -> 7.0402082
A14: 31 | B14: Lê Doãn | C14: Thái | D14: 18/09/2001 | E14: Thôn 2 - Định Hải - Tĩnh Gia - Thanh Hóa | F14: =tphk2!O38 -> 8 | G14: =tphk2!O100 -> 8.2727273 | H14: =tphk2!O162 -> 8 | I14: =tphk2!O222 -> 7.6666667 | J14: =(F14*4+G14*5+H14*2+I14*3)/14 -> 8.025974 | K14: =TKHK1!P35 -> 7.2107332 | L14: =(J14+K14)/2 -> 7.6183536
A15: 32 | B15: Lê Hữu | C15: Thành | D15: 37231 | E15: Thống Nhất- Ninh Hải- Tĩnh Gia- Thanh Hóa | F15: =tphk2!O39 -> 7.2222222 | G15: =tphk2!O101 -> 7.6363636 | H15: =tphk2!O163 -> 7.1428571 | I15: =tphk2!O223 -> 7.4444444 | J15: =(F15*4+G15*5+H15*2+I15*3)/14 -> 7.406411 | K15: =TKHK1!P36 -> 6.9822442 | L15: =(J15+K15)/2 -> 7.1943276
A16: 42 | B16: Lê Thị | C16: Tuyết | D16: 20.10.2001 | E16: Trung tâm hy vọng - Tĩnh Gia - Thanh Hóa | F16: =tphk2!O49 -> 8 | G16: =tphk2!O111 -> 7.8181818 | H16: =tphk2!O173 -> 7.2857143 | I16: =tphk2!O233 -> 7.6666667 | J16: =(F16*4+G16*5+H16*2+I16*3)/14 -> 7.7615955 | K16: =TKHK1!P46 -> 7.0503676 | L16: =(J16+K16)/2 -> 7.4059816

Sheet tphk3
A1: BẢNG GHI ĐIỂM MÔĐUN / MÔN HỌC
A2: Học Kỳ: I Năm Học 2016- 2017
A3: Khóa: VIII Lớp: Đ8B1
A4: Môn học: Điện khí nén Số tiết: 90 Số ĐVHT: 6 Ngày thi: 29/12/2017
A5: Họ và tên giáo viên: Ngô Ngọc Hoàng
A6: TT | B6: Họ và tên | D6: Ngày Sinh | E6: Nơi Sinh | F6: HS2 | L6: L1 | M6: L2 | N6: Tổng kết | P6: Điện khí nén
N7: L1 | O7: L2 | P7: 6
A8: 1 | B8: Nguyễn Thế | C8: Ánh | D8: 05.10.2001 | E8: Đội 1- Nguyên Bình- Tĩnh Gia - Thanh Hóa | F8: 6 | G8: 7 | H8: 8 | I8: 7 | L8: 7 | N8: =(((F8+G8+H8+I8)*2)+L8*3)/11 -> 7 | P8: =MAX(N8,O8) -> 7
A9: 2 | B9: Lê Hữu | C9: Chiến | D9: 11.07.2000 | E9: Thị Trấn - Tĩnh Gia - Thanh Hóa | F9: 6 | G9: 8 | H9: 7 | I9: 7 | L9: 6 | N9: =(((F9+G9+H9+I9)*2)+L9*3)/11 -> 6.7272727 | P9: =MAX(N9,O9) -> 6.7272727
A10: 3 | B10: Lê Công | C10: Chính | D10: 16/09/2000 | E10: Đội 16- Nguyên Bình- Tĩnh Gia- Thanh Hóa | F10: 6 | G10: 7 | H10: 6 | I10: 7 | L10: 7 | N10: =(((F10+G10+H10+I10)*2)+L10*3)/11 -> 6.6363636 | P10: =MAX(N10,O10) -> 6.6363636
A11: 4 | B11: Lê Đức | C11: Chung | D11: 37142 | E11: Đông Hải - Hải Hòa- Tĩnh Gia - Thanh Hóa | F11: 7 | G11: 8 | H11: 8 | I11: 10 | L11: 8 | N11: =(((F11+G11+H11+I11)*2)+L11*3)/11 -> 8.1818182 | P11: =MAX(N11,O11) -> 8.1818182
A12: 5 | B12: Lê Văn | C12: Cương | D12: 16/10/2000 | E12: Hữu Nam– Mai Lâm – Tĩnh Gia – Thanh Hóa | F12: 8 | G12: 8 | H12: 9 | I12: 7 | L12: 7 | N12: =(((F12+G12+H12+I12)*2)+L12*3)/11 -> 7.7272727 | P12: =MAX(N12,O12) -> 7.7272727
A13: 6 | B13: Lê Văn | C13: Đại | D13: 19/02/2001 | E13: Sơn Trà- Trúc Lâm- Tĩnh Gia - Thanh Hóa | P13: hl
A14: 7 | B14: Lê Công | C14: Đạt | D14: 36929 | E14: Đồng Minh - Hải Ninh - Tĩnh Gia - Thanh Hóa | F14: 6 | G14: 7 | H14: 7 | I14: 7 | L14: 7 | N14: =(((F14+G14+H14+I14)*2)+L14*3)/11 -> 6.8181818 | P14: =MAX(N14,O14) -> 6.8181818
A15: 8 | B15: Bùi Văn | C15: Dũng | D15: 16.09.2000 | E15: Hải Hà - Tĩnh Gia - Thanh Hóa | F15: 7 | G15: 7 | H15: 7 | I15: 7 | L15: 7 | N15: =(((F15+G15+H15+I15)*2)+L15*3)/11 -> 7 | P15: =MAX(N15,O15) -> 7
A16: 9 | B16: Vũ Trọng | C16: Dương | D16: 10.12.2001 | E16: Hải Nhân - Tĩnh Gia - Thanh Hóa | F16: 7 | G16: 7 | H16: 8 | I16: 8 | L16: 7 | N16: =(((F16+G16+H16+I16)*2)+L16*3)/11 -> 7.3636364 | P16: =MAX(N16,O16) -> 7.3636364
A17: 10 | B17: Trương Bá | C17: Hạnh | D17: 37231 | E17: Thôn 10- Tân Trường- Tĩnh Gia- Thanh Hóa | P17: hl
A18: 11 | B18: Nguyễn Đắc | C18: Hiếu | D18: 19/02/2000 | E18: Thôn 6- Hải Lĩnh-Tĩnh Gia- Thanh Hóa | F18: 6 | G18: 6 | H18: 7 | I18: 6 | L18: 6 | N18: =(((F18+G18+H18+I18)*2)+L18*3)/11 -> 6.1818182 | P18: =MAX(N18,O18) -> 6.1818182
A19: 12 | B19: Mai Xuân | C19: Hinh | D19: 37205 | E19: Ninh Sơn- Trường Lâm- Tĩnh Gia- Thanh Hóa | P19: hl
A20: 13 | B20: Phạm Đình | C20: Hoàng | D20: 13.02.2001 | E20: Nguyên Bình - Tĩnh Gia - Thanh Hóa | P20: hl
A21: 14 | B21: Lê Văn | C21: Hùng | D21: 09.08.2000 | E21: Bình Minh - Tĩnh Gia - Thanh Hóa | F21: 6 | G21: 7 | H21: 8 | I21: 7 | L21: 6 | N21: =(((F21+G21+H21+I21)*2)+L21*3)/11 -> 6.7272727 | P21: =MAX(N21,O21) -> 6.7272727
A22: 15 | B22: Trương Đình | C22: Hùng | D22: 15.06.2001 | E22: Ninh Hải - Tĩnh Gia - Thanh Hóa | F22: 7 | G22: 7 | H22: 7 | I22: 7 | L22: 6 | N22: =(((F22+G22+H22+I22)*2)+L22*3)/11 -> 6.7272727 | P22: =MAX(N22,O22) -> 6.7272727
A23: 16 | B23: Trần Văn | C23: Huy | D23: 24.08.2001 | E23: Tân Trường - Tĩnh Gia - Thanh Hóa | P23: hl
A24: 17 | B24: Mai Xuân | C24: Huy | D24: 25.10.2001 | E24: Trường Lâm - Tĩnh Gia - Thanh Hóa | F24: 5 | G24: 5 | H24: 6 | I24: 6 | L24: 5 | N24: =(((F24+G24+H24+I24)*2)+L24*3)/11 -> 5.3636364 | P24: =MAX(N24,O24) -> 5.3636364
A25: 18 | B25: Lê Vinh | C25: Huy | D25: 36739 | E25: Bản Cát – Mai Lâm – Tĩnh Gia – Thanh Hóa | F25: 8 | G25: 8 | H25: 9 | I25: 9 | L25: 8 | N25: =(((F25+G25+H25+I25)*2)+L25*3)/11 -> 8.3636364 | P25: =MAX(N25,O25) -> 8.3636364
A26: 19 | B26: Nguyễn Xuân | C26: Lâm | D26: 22.11.2001 | E26: Nguyên Bình - Tĩnh Gia - Thanh Hóa | P26: hl
A27: 20 | B27: Phạm Nhật | C27: Linh | D27: 02.05.2001 | E27: Hải Ninh - Tĩnh Gia - Thanh Hóa | P27: hl
A28: 21 | B28: Lê Văn | C28: Long | D28: 27.04.2001 | E28: Hải Thanh - Tĩnh Gia - Thanh Hóa | F28: 7 | G28: 7 | H28: 7 | I28: 7 | L28: 7 | N28: =(((F28+G28+H28+I28)*2)+L28*3)/11 -> 7 | P28: =MAX(N28,O28) -> 7
A29: 22 | B29: Đồng Xuân | C29: Mạnh | D29: 36923 | E29: Bình Minh- Trường Lâm- Tĩnh Gia- Thanh Hóa | P29: hl
A30: 23 | B30: Nguyễn Văn | C30: Minh | D30: 18.05.2001 | E30: Thượng Hải - Hải Thanh – Tĩnh Gia – Thanh Hóa | F30: 9 | G30: 8 | H30: 9 | I30: 8 | L30: 8 | N30: =(((F30+G30+H30+I30)*2)+L30*3)/11 -> 8.3636364 | P30: =MAX(N30,O30) -> 8.3636364
A31: 24 | B31: Hồ Sĩ | C31: Minh | D31: 10.12.2000 | E31: Phú Sơn - Tĩnh Gia - Thanh Hóa | F31: 8 | G31: 8 | H31: 9 | I31: 10 | L31: 8 | N31: =(((F31+G31+H31+I31)*2)+L31*3)/11 -> 8.5454545 | P31: =MAX(N31,O31) -> 8.5454545
A32: 25 | B32: Nguyễn Thị | C32: Mừng | D32: 37014 | E32: Giảng Tín - Trúc Lâm- Tĩnh Gia- Thanh Hóa | F32: 8 | G32: 8 | H32: 8 | I32: 8 | L32: 8 | N32: =(((F32+G32+H32+I32)*2)+L32*3)/11 -> 8 | P32: =MAX(N32,O32) -> 8
A33: 26 | B33: Lê Văn | C33: Nam | D33: 23.07.2001 | E33: Nguyên Bình - Tĩnh Gia - Thanh Hóa | F33: 8 | G33: 8 | H33: 8 | I33: 8 | L33: 8 | N33: =(((F33+G33+H33+I33)*2)+L33*3)/11 -> 8 | P33: =MAX(N33,O33) -> 8
A34: 27 | B34: Lê Văn | C34: Nam | D34: 16.08.2001 | E34: Hải Châu - Tĩnh Gia - Thanh Hóa | F34: 8 | G34: 7 | H34: 7 | I34: 7 | L34: 7 | N34: =(((F34+G34+H34+I34)*2)+L34*3)/11 -> 7.1818182 | P34: =MAX(N34,O34) -> 7.1818182
A35: 28 | B35: Ngô Khải | C35: Phong | D35: 15.08.2001 | E35: Hải Thanh - Tĩnh Gia - Thanh Hóa | F35: 8 | G35: 8 | H35: 8 | I35: 9 | L35: 8 | N35: =(((F35+G35+H35+I35)*2)+L35*3)/11 -> 8.1818182 | P35: =MAX(N35,O35) -> 8.1818182
A36: 29 | B36: Đỗ Ngọc | C36: Sơn | D36: 21.11.2000 | E36: Hoa Lư - Ninh Bình | P36: hl
A37: 30 | B37: Hoàng Văn | C37: Thái | D37: 25/4/2001 | E37: Đại Tiến- Ninh Hải- Tĩnh Gia- Thanh Hóa | F37: 8 | G37: 8 | H37: 7 | I37: 7 | L37: 8 | N37: =(((F37+G37+H37+I37)*2)+L37*3)/11 -> 7.6363636 | P37: =MAX(N37,O37) -> 7.6363636
A38: 31 | B38: Lê Doãn | C38: Thái | D38: 18/09/2001 | E38: Thôn 2 - Định Hải - Tĩnh Gia - Thanh Hóa | F38: 9 | G38: 9 | H38: 8 | I38: 9 | L38: 8 | N38: =(((F38+G38+H38+I38)*2)+L38*3)/11 -> 8.5454545 | P38: =MAX(N38,O38) -> 8.5454545
A39: 32 | B39: Lê Hữu | C39: Thành | D39: 37231 | E39: Thống Nhất- Ninh Hải- Tĩnh Gia- Thanh Hóa | F39: 8 | G39: 7 | H39: 8 | I39: 7 | L39: 7 | N39: =(((F39+G39+H39+I39)*2)+L39*3)/11 -> 7.3636364 | P39: =MAX(N39,O39) -> 7.3636364
A40: 33 | B40: Mai Xuân | C40: Thiện | D40: 10.07.2001 | E40: Ninh Hải - Tĩnh Gia - Thanh Hóa | F40: 7 | G40: 8 | H40: 9 | I40: 8 | L40: 7 | N40: =(((F40+G40+H40+I40)*2)+L40*3)/11 -> 7.7272727 | P40: =MAX(N40,O40) -> 7.7272727
A41: 34 | B41: Lê Đình | C41: Tình | D41: 08.04.2001 | E41: Trường Lâm - Tĩnh Gia - Thanh Hóa | P41: hl
A42: 35 | B42: Đậu Xuân | C42: Toàn | D42: 13/08/2001 | E42: Trường Thanh- Trường Lâm- Tĩnh Gia- Thanh Hóa | P42: hl
A43: 36 | B43: Nguyễn Như | C43: Trọng | D43: 26/06/2001 | E43: Thôn 9- Tân Trường- Tĩnh Gia- Thanh Hóa | F43: 7 | G43: 8 | H43: 7 | I43: 7 | L43: 7 | N43: =(((F43+G43+H43+I43)*2)+L43*3)/11 -> 7.1818182 | P43: =MAX(N43,O43) -> 7.1818182
A44: 37 | B44: Lê Văn | C44: Trọng | D44: 15.07.1999 | E44: Tân Trường - Tĩnh Gia - Thanh Hóa | F44: 7 | G44: 7 | H44: 6 | I44: 7 | L44: 6 | N44: =(((F44+G44+H44+I44)*2)+L44*3)/11 -> 6.5454545 | P44: =MAX(N44,O44) -> 6.5454545
A45: 38 | B45: Lê Kim | C45: Trường | D45: 37014 | E45: Thôn 3- Hải An- Tĩnh Gia- Thanh Hóa | F45: 7 | G45: 8 | H45: 8 | I45: 8 | L45: 7 | N45: =(((F45+G45+H45+I45)*2)+L45*3)/11 -> 7.5454545 | P45: =MAX(N45,O45) -> 7.5454545
A46: 39 | B46: Nguyễn Văn | C46: Trưởng | D46: 25.04.2001 | E46: Trường Lâm - Tĩnh Gia - Thanh Hóa | P46: hl
A47: 40 | B47: Lê Văn | C47: Tuân | D47: 21.09.2001 | E47: Ninh Hải - Tĩnh Gia - Thanh Hóa | F47: 7 | G47: 8 | H47: 8 | I47: 7 | L47: 7 | N47: =(((F47+G47+H47+I47)*2)+L47*3)/11 -> 7.3636364 | P47: =MAX(N47,O47) -> 7.3636364
A48: 41 | B48: Phạm Văn | C48: Tuấn | D48: 37175 | E48: Thanh Biình- Hải Ninh- Tĩnh Gia- Thanh Hóa | F48: 7 | G48: 7 | H48: 7 | I48: 8 | L48: 7 | N48: =(((F48+G48+H48+I48)*2)+L48*3)/11 -> 7.1818182 | P48: =MAX(N48,O48) -> 7.1818182
A49: 42 | B49: Lê Thị | C49: Tuyết | D49: 20.10.2001 | E49: Trung tâm hy vọng - Tĩnh Gia - Thanh Hóa | F49: 8 | G49: 7 | H49: 8 | I49: 8 | L49: 8 | N49: =(((F49+G49+H49+I49)*2)+L49*3)/11 -> 7.8181818 | P49: =MAX(N49,O49) -> 7.8181818
A50: 43 | B50: Mai Huy | C50: Việt | D50: 15/2/2000 | E50: TK2- TT Tĩnh Gia- Thanh Hóa | F50: 8 | G50: 8 | H50: 9 | I50: 9 | L50: 8 | N50: =(((F50+G50+H50+I50)*2)+L50*3)/11 -> 8.3636364 | P50: =MAX(N50,O50) -> 8.3636364
A51: 44 | B51: Lê Xuân | C51: Vinh | D51: 22.02.2001 | E51: Nguyên Bình - Tĩnh Gia - Thanh Hóa | F51: 6 | G51: 6 | H51: 6 | I51: 6 | L51: 5 | N51: =(((F51+G51+H51+I51)*2)+L51*3)/11 -> 5.7272727 | P51: =MAX(N51,O51) -> 5.7272727
A52: 45 | B52: Đỗ Tuấn | C52: Vương | D52: 03.01.2001 | E52: Trường Lâm - Tĩnh Gia - Thanh Hóa | F52: 7 | G52: 8 | H52: 8 | I52: 7 | L52: 7 | N52: =(((F52+G52+H52+I52)*2)+L52*3)/11 -> 7.3636364 | P52: =MAX(N52,O52) -> 7.3636364
A53: 46 | B53: Nguyễn Bá Trần | C53: Danh | P53: hl
A54: 47 | B54: Nguyễn Đình | C54: Nhật | F54: 7 | G54: 7 | H54: 8 | I54: 8 | L54: 7 | N54: =(((F54+G54+H54+I54)*2)+L54*3)/11 -> 7.3636364 | P54: =MAX(N54,O54) -> 7.3636364
A55: 48 | B55: Nguyễn Xuân | C55: Đức | F55: 6 | G55: 6 | H55: 6 | I55: 6 | L55: 5 | N55: =(((F55+G55+H55+I55)*2)+L55*3)/11 -> 5.7272727 | P55: =MAX(N55,O55) -> 5.7272727
A56: 49 | B56: Bùi Quốc | C56: Cường | F56: 8 | G56: 8 | H56: 7 | I56: 7 | L56: 7 | N56: =(((F56+G56+H56+I56)*2)+L56*3)/11 -> 7.3636364 | P56: =MAX(N56,O56) -> 7.3636364
A57: 50 | B57: Nguyễn Tuấn | C57: Hưng
A58: 51 | B58: Nguyễn Văn Tuấn | C58: Anh | F58: 5 | G58: 6 | H58: 6 | I58: 7 | L58: 6 | N58: =(((F58+G58+H58+I58)*2)+L58*3)/11 -> 6 | P58: =MAX(N58,O58) -> 6
A59: 52 | B59: Cao Ngọc | C59: Hoàng
A60: 53 | B60: Nguyễn Văn | C60: Anh | F60: 5 | G60: 6 | H60: 6 | I60: 7 | L60: 6 | N60: =(((F60+G60+H60+I60)*2)+L60*3)/11 -> 6 | P60: =MAX(N60,O60) -> 6
A62: BẢNG GHI ĐIỂM MÔĐUN / MÔN HỌC
A63: Học Kỳ: I Năm Học 2016- 2017
A64: Khóa: VIII Lớp: Đ8B1
A65: Môn học: Thiết bị điện gia dụng Số tiết: 75 Số ĐVHT: 5 Ngày thi: 29/12/2017
A66: Họ và tên giáo viên: Bùi Văn Huy
A67: TT | B67: Họ và tên | D67: Ngày Sinh | E67: Nơi Sinh | F67: HS2 | L67: L1 | M67: L2 | N67: Tổng kết | P67: Thiết bị điện gia dụng
N68: L1 | O68: L2 | P68: 5
A69: 1 | B69: Nguyễn Thế | C69: Ánh | D69: 05.10.2001 | E69: Đội 1- Nguyên Bình- Tĩnh Gia - Thanh Hóa | F69: 8 | G69: 8 | H69: 8 | I69: 8 | L69: 8 | N69: =(((F69+G69+H69+I69)*2)+L69*3)/11 -> 8 | P69: =MAX(N69,O69) -> 8
A70: 2 | B70: Lê Hữu | C70: Chiến | D70: 11.07.2000 | E70: Thị Trấn - Tĩnh Gia - Thanh Hóa | F70: 7 | G70: 6 | H70: 7 | I70: 7 | L70: 6 | N70: =(((F70+G70+H70+I70)*2)+L70*3)/11 -> 6.5454545 | P70: =MAX(N70,O70) -> 6.5454545
A71: 3 | B71: Lê Công | C71: Chính | D71: 16/09/2000 | E71: Đội 16- Nguyên Bình- Tĩnh Gia- Thanh Hóa | F71: 8 | G71: 6 | H71: 6 | I71: 7 | L71: 6 | N71: =(((F71+G71+H71+I71)*2)+L71*3)/11 -> 6.5454545 | P71: =MAX(N71,O71) -> 6.5454545
A72: 4 | B72: Lê Đức | C72: Chung | D72: 37142 | E72: Đông Hải - Hải Hòa- Tĩnh Gia - Thanh Hóa | F72: 8 | G72: 8 | H72: 8 | I72: 8 | L72: 8 | N72: =(((F72+G72+H72+I72)*2)+L72*3)/11 -> 8 | P72: =MAX(N72,O72) -> 8
A73: 5 | B73: Lê Văn | C73: Cương | D73: 16/10/2000 | E73: Hữu Nam– Mai Lâm – Tĩnh Gia – Thanh Hóa | F73: 8 | G73: 6 | H73: 7 | I73: 7 | L73: 7 | N73: =(((F73+G73+H73+I73)*2)+L73*3)/11 -> 7 | P73: =MAX(N73,O73) -> 7
A74: 6 | B74: Lê Văn | C74: Đại | D74: 19/02/2001 | E74: Sơn Trà- Trúc Lâm- Tĩnh Gia - Thanh Hóa | F74: 6 | G74: 6 | H74: 5 | I74: 5 | L74: 6 | N74: =(((F74+G74+H74+I74)*2)+L74*3)/11 -> 5.6363636 | P74: =MAX(N74,O74) -> 5.6363636
A75: 7 | B75: Lê Công | C75: Đạt | D75: 36929 | E75: Đồng Minh - Hải Ninh - Tĩnh Gia - Thanh Hóa | F75: 5 | G75: 7 | H75: 7 | I75: 7 | L75: 7 | N75: =(((F75+G75+H75+I75)*2)+L75*3)/11 -> 6.6363636 | P75: =MAX(N75,O75) -> 6.6363636
A76: 8 | B76: Bùi Văn | C76: Dũng | D76: 16.09.2000 | E76: Hải Hà - Tĩnh Gia - Thanh Hóa | F76: 8 | G76: 8 | H76: 7 | I76: 8 | L76: 8 | N76: =(((F76+G76+H76+I76)*2)+L76*3)/11 -> 7.8181818 | P76: =MAX(N76,O76) -> 7.8181818
A77: 9 | B77: Vũ Trọng | C77: Dương | D77: 10.12.2001 | E77: Hải Nhân - Tĩnh Gia - Thanh Hóa | F77: 8 | G77: 8 | H77: 7 | I77: 8 | L77: 8 | N77: =(((F77+G77+H77+I77)*2)+L77*3)/11 -> 7.8181818 | P77: =MAX(N77,O77) -> 7.8181818
A78: 10 | B78: Trương Bá | C78: Hạnh | D78: 37231 | E78: Thôn 10- Tân Trường- Tĩnh Gia- Thanh Hóa | P78: hl
A79: 11 | B79: Nguyễn Đắc | C79: Hiếu | D79: 19/02/2000 | E79: Thôn 6- Hải Lĩnh-Tĩnh Gia- Thanh Hóa | F79: 5 | G79: 6 | H79: 6 | I79: 6 | L79: 6 | N79: =(((F79+G79+H79+I79)*2)+L79*3)/11 -> 5.8181818 | P79: =MAX(N79,O79) -> 5.8181818
A80: 12 | B80: Mai Xuân | C80: Hinh | D80: 37205 | E80: Ninh Sơn- Trường Lâm- Tĩnh Gia- Thanh Hóa | P80: hl
A81: 13 | B81: Phạm Đình | C81: Hoàng | D81: 13.02.2001 | E81: Nguyên Bình - Tĩnh Gia - Thanh Hóa | P81: hl
A82: 14 | B82: Lê Văn | C82: Hùng | D82: 09.08.2000 | E82: Bình Minh - Tĩnh Gia - Thanh Hóa | F82: 7 | G82: 7 | H82: 7 | I82: 7 | L82: 7 | N82: =(((F82+G82+H82+I82)*2)+L82*3)/11 -> 7 | P82: =MAX(N82,O82) -> 7
A83: 15 | B83: Trương Đình | C83: Hùng | D83: 15.06.2001 | E83: Ninh Hải - Tĩnh Gia - Thanh Hóa | F83: 6 | G83: 6 | H83: 7 | I83: 7 | L83: 7 | N83: =(((F83+G83+H83+I83)*2)+L83*3)/11 -> 6.6363636 | P83: =MAX(N83,O83) -> 6.6363636
A84: 16 | B84: Trần Văn | C84: Huy | D84: 24.08.2001 | E84: Tân Trường - Tĩnh Gia - Thanh Hóa | P84: hl
A85: 17 | B85: Mai Xuân | C85: Huy | D85: 25.10.2001 | E85: Trường Lâm - Tĩnh Gia - Thanh Hóa | F85: 5 | G85: 6 | H85: 7 | I85: 6 | L85: 6 | N85: =(((F85+G85+H85+I85)*2)+L85*3)/11 -> 6 | P85: =MAX(N85,O85) -> 6
A86: 18 | B86: Lê Vinh | C86: Huy | D86: 36739 | E86: Bản Cát – Mai Lâm – Tĩnh Gia – Thanh Hóa | F86: 6 | G86: 7 | H86: 8 | I86: 7 | L86: 7 | N86: =(((F86+G86+H86+I86)*2)+L86*3)/11 -> 7 | P86: =MAX(N86,O86) -> 7
A87: 19 | B87: Nguyễn Xuân | C87: Lâm | D87: 22.11.2001 | E87: Nguyên Bình - Tĩnh Gia - Thanh Hóa | P87: hl
A88: 20 | B88: Phạm Nhật | C88: Linh | D88: 02.05.2001 | E88: Hải Ninh - Tĩnh Gia - Thanh Hóa | P88: hl
A89: 21 | B89: Lê Văn | C89: Long | D89: 27.04.2001 | E89: Hải Thanh - Tĩnh Gia - Thanh Hóa | F89: 7 | G89: 7 | H89: 7 | I89: 7 | L89: 7 | N89: =(((F89+G89+H89+I89)*2)+L89*3)/11 -> 7 | P89: =MAX(N89,O89) -> 7
A90: 22 | B90: Đồng Xuân | C90: Mạnh | D90: 36923 | E90: Bình Minh- Trường Lâm- Tĩnh Gia- Thanh Hóa | P90: hl
A91: 23 | B91: Nguyễn Văn | C91: Minh | D91: 18.05.2001 | E91: Thượng Hải - Hải Thanh – Tĩnh Gia – Thanh Hóa | F91: 8 | G91: 8 | H91: 7 | I91: 7 | L91: 8 | N91: =(((F91+G91+H91+I91)*2)+L91*3)/11 -> 7.6363636 | P91: =MAX(N91,O91) -> 7.6363636
A92: 24 | B92: Hồ Sĩ | C92: Minh | D92: 10.12.2000 | E92: Phú Sơn - Tĩnh Gia - Thanh Hóa | F92: 9 | G92: 8 | H92: 8 | I92: 8 | L92: 9 | N92: =(((F92+G92+H92+I92)*2)+L92*3)/11 -> 8.4545455 | P92: =MAX(N92,O92) -> 8.4545455
A93: 25 | B93: Nguyễn Thị | C93: Mừng | D93: 37014 | E93: Giảng Tín - Trúc Lâm- Tĩnh Gia- Thanh Hóa | F93: 8 | G93: 7 | H93: 7 | I93: 7 | L93: 7 | N93: =(((F93+G93+H93+I93)*2)+L93*3)/11 -> 7.1818182 | P93: =MAX(N93,O93) -> 7.1818182
A94: 26 | B94: Lê Văn | C94: Nam | D94: 23.07.2001 | E94: Nguyên Bình - Tĩnh Gia - Thanh Hóa | F94: 6 | G94: 7 | H94: 6 | I94: 6 | L94: 6 | N94: =(((F94+G94+H94+I94)*2)+L94*3)/11 -> 6.1818182 | P94: =MAX(N94,O94) -> 6.1818182
A95: 27 | B95: Lê Văn | C95: Nam | D95: 16.08.2001 | E95: Hải Châu - Tĩnh Gia - Thanh Hóa | F95: 7 | G95: 7 | H95: 7 | I95: 7 | L95: 7 | N95: =(((F95+G95+H95+I95)*2)+L95*3)/11 -> 7 | P95: =MAX(N95,O95) -> 7
A96: 28 | B96: Ngô Khải | C96: Phong | D96: 15.08.2001 | E96: Hải Thanh - Tĩnh Gia - Thanh Hóa | F96: 8 | G96: 8 | H96: 8 | I96: 8 | L96: 8 | N96: =(((F96+G96+H96+I96)*2)+L96*3)/11 -> 8 | P96: =MAX(N96,O96) -> 8
A97: 29 | B97: Đỗ Ngọc | C97: Sơn | D97: 21.11.2000 | E97: Hoa Lư - Ninh Bình | P97: hl
A98: 30 | B98: Hoàng Văn | C98: Thái | D98: 25/4/2001 | E98: Đại Tiến- Ninh Hải- Tĩnh Gia- Thanh Hóa | F98: 8 | G98: 8 | H98: 7 | I98: 7 | L98: 8 | N98: =(((F98+G98+H98+I98)*2)+L98*3)/11 -> 7.6363636 | P98: =MAX(N98,O98) -> 7.6363636
A99: 31 | B99: Lê Doãn | C99: Thái | D99: 18/09/2001 | E99: Thôn 2 - Định Hải - Tĩnh Gia - Thanh Hóa | F99: 9 | G99: 8 | H99: 8 | I99: 8 | L99: 8 | N99: =(((F99+G99+H99+I99)*2)+L99*3)/11 -> 8.1818182 | P99: =MAX(N99,O99) -> 8.1818182
A100: 32 | B100: Lê Hữu | C100: Thành | D100: 37231 | E100: Thống Nhất- Ninh Hải- Tĩnh Gia- Thanh Hóa | F100: 7 | G100: 8 | H100: 7 | I100: 8 | L100: 8 | N100: =(((F100+G100+H100+I100)*2)+L100*3)/11 -> 7.6363636 | P100: =MAX(N100,O100) -> 7.6363636
A101: 33 | B101: Mai Xuân | C101: Thiện | D101: 10.07.2001 | E101: Ninh Hải - Tĩnh Gia - Thanh Hóa | F101: 7 | G101: 7 | H101: 7 | I101: 7 | L101: 7 | N101: =(((F101+G101+H101+I101)*2)+L101*3)/11 -> 7 | P101: =MAX(N101,O101) -> 7
...

Sheet tkhk3
A1: ĐiỂM TỔNG KẾT HỌC KỲ I NĂM HỌC 201 7 -2018
A2: LỚP Đ8B1
A4: TT | B4: Họ và tên | D4: Ngày Sinh | E4: Nơi Sinh | F4: =tphk3!P6 -> Điện khí nén | G4: =tphk3!P67 -> Thiết bị điện gia dụng | H4: Tổng kết | I4: Xêp loại
F5: =tphk3!P7 -> 6 | G5: =tphk3!P68 -> 5 | H5: =SUM(F5:G5) -> 11
A6: 1 | B6: Nguyễn Thế | C6: Ánh | D6: 05.10.2001 | E6: Đội 1- Nguyên Bình- Tĩnh Gia - Thanh Hóa | F6: =tphk3!P8 -> 7 | G6: =tphk3!P69 -> 8 | H6: =(F6*6+G6*5)/11 -> 7.4545455 | I6: =(IF(H6>=8,"giỏi",IF(H6>=7,"Khá",IF(H6>=6,"TB","Yếu")))) -> Khá
A7: 2 | B7: Lê Hữu | C7: Chiến | D7: 11.07.2000 | E7: Thị Trấn - Tĩnh Gia - Thanh Hóa | F7: =tphk3!P9 -> 6.7272727 | G7: =tphk3!P70 -> 6.5454545 | H7: =(F7*6+G7*5)/11 -> 6.6446281 | I7: =(IF(H7>=8,"giỏi",IF(H7>=7,"Khá",IF(H7>=6,"TB","Yếu")))) -> TB
A8: 3 | B8: Lê Công | C8: Chính | D8: 16/09/2000 | E8: Đội 16- Nguyên Bình- Tĩnh Gia- Thanh Hóa | F8: =tphk3!P10 -> 6.6363636 | G8: =tphk3!P71 -> 6.5454545 | H8: =(F8*6+G8*5)/11 -> 6.5950413 | I8: =(IF(H8>=8,"giỏi",IF(H8>=7,"Khá",IF(H8>=6,"TB","Yếu")))) -> TB
A9: 4 | B9: Lê Đức | C9: Chung | D9: 37142 | E9: Đông Hải - Hải Hòa- Tĩnh Gia - Thanh Hóa | F9: =tphk3!P11 -> 8.1818182 | G9: =tphk3!P72 -> 8 | H9: =(F9*6+G9*5)/11 -> 8.0991736 | I9: =(IF(H9>=8,"giỏi",IF(H9>=7,"Khá",IF(H9>=6,"TB","Yếu")))) -> giỏi
A10: 5 | B10: Lê Văn | C10: Cương | D10: 16/10/2000 | E10: Hữu Nam– Mai Lâm – Tĩnh Gia – Thanh Hóa | F10: =tphk3!P12 -> 7.7272727 | G10: =tphk3!P73 -> 7 | H10: =(F10*6+G10*5)/11 -> 7.3966942 | I10: =(IF(H10>=8,"giỏi",IF(H10>=7,"Khá",IF(H10>=6,"TB","Yếu")))) -> Khá
A11: 6 | B11: Lê Văn | C11: Đại | D11: 19/02/2001 | E11: Sơn Trà- Trúc Lâm- Tĩnh Gia - Thanh Hóa | F11: =tphk3!P13 -> hl | G11: =tphk3!P74 -> 5.6363636 | H11: =(F11*6+G11*5)/11 -> #VALUE! | I11: =(IF(H11>=8,"giỏi",IF(H11>=7,"Khá",IF(H11>=6,"TB","Yếu")))) -> #VALUE!
A12: 7 | B12: Lê Công | C12: Đạt | D12: 36929 | E12: Đồng Minh - Hải Ninh - Tĩnh Gia - Thanh Hóa | F12: =tphk3!P14 -> 6.8181818 | G12: =tphk3!P75 -> 6.6363636 | H12: =(F12*6+G12*5)/11 -> 6.7355372 | I12: =(IF(H12>=8,"giỏi",IF(H12>=7,"Khá",IF(H12>=6,"TB","Yếu")))) -> TB
A13: 8 | B13: Bùi Văn | C13: Dũng | D13: 16.09.2000 | E13: Hải Hà - Tĩnh Gia - Thanh Hóa | F13: =tphk3!P15 -> 7 | G13: =tphk3!P76 -> 7.8181818 | H13: =(F13*6+G13*5)/11 -> 7.3719008 | I13: =(IF(H13>=8,"giỏi",IF(H13>=7,"Khá",IF(H13>=6,"TB","Yếu")))) -> Khá
A14: 9 | B14: Vũ Trọng | C14: Dương | D14: 10.12.2001 | E14: Hải Nhân - Tĩnh Gia - Thanh Hóa | F14: =tphk3!P16 -> 7.3636364 | G14: =tphk3!P77 -> 7.8181818 | H14: =(F14*6+G14*5)/11 -> 7.5702479 | I14: =(IF(H14>=8,"giỏi",IF(H14>=7,"Khá",IF(H14>=6,"TB","Yếu")))) -> Khá
A15: 10 | B15: Trương Bá | C15: Hạnh | D15: 37231 | E15: Thôn 10- Tân Trường- Tĩnh Gia- Thanh Hóa | F15: =tphk3!P17 -> hl | G15: =tphk3!P78 -> hl | H15: =(F15*6+G15*5)/11 -> #VALUE! | I15: =(IF(H15>=8,"giỏi",IF(H15>=7,"Khá",IF(H15>=6,"TB","Yếu")))) -> #VALUE!
A16: 11 | B16: Nguyễn Đắc | C16: Hiếu | D16: 19/02/2000 | E16: Thôn 6- Hải Lĩnh-Tĩnh Gia- Thanh Hóa | F16: =tphk3!P18 -> 6.1818182 | G16: =tphk3!P79 -> 5.8181818 | H16: =(F16*6+G16*5)/11 -> 6.0165289 | I16: =(IF(H16>=8,"giỏi",IF(H16>=7,"Khá",IF(H16>=6,"TB","Yếu")))) -> TB
A17: 12 | B17: Mai Xuân | C17: Hinh | D17: 37205 | E17: Ninh Sơn- Trường Lâm- Tĩnh Gia- Thanh Hóa | F17: =tphk3!P19 -> hl | G17: =tphk3!P80 -> hl | H17: =(F17*6+G17*5)/11 -> #VALUE! | I17: =(IF(H17>=8,"giỏi",IF(H17>=7,"Khá",IF(H17>=6,"TB","Yếu")))) -> #VALUE!
A18: 13 | B18: Phạm Đình | C18: Hoàng | D18: 13.02.2001 | E18: Nguyên Bình - Tĩnh Gia - Thanh Hóa | F18: =tphk3!P20 -> hl | G18: =tphk3!P81 -> hl | H18: =(F18*6+G18*5)/11 -> #VALUE! | I18: =(IF(H18>=8,"giỏi",IF(H18>=7,"Khá",IF(H18>=6,"TB","Yếu")))) -> #VALUE!
A19: 14 | B19: Lê Văn | C19: Hùng | D19: 09.08.2000 | E19: Bình Minh - Tĩnh Gia - Thanh Hóa | F19: =tphk3!P21 -> 6.7272727 | G19: =tphk3!P82 -> 7 | H19: =(F19*6+G19*5)/11 -> 6.8512397 | I19: =(IF(H19>=8,"giỏi",IF(H19>=7,"Khá",IF(H19>=6,"TB","Yếu")))) -> TB
A20: 15 | B20: Trương Đình | C20: Hùng | D20: 15.06.2001 | E20: Ninh Hải - Tĩnh Gia - Thanh Hóa | F20: =tphk3!P22 -> 6.7272727 | G20: =tphk3!P83 -> 6.6363636 | H20: =(F20*6+G20*5)/11 -> 6.6859504 | I20: =(IF(H20>=8,"giỏi",IF(H20>=7,"Khá",IF(H20>=6,"TB","Yếu")))) -> TB
A21: 16 | B21: Trần Văn | C21: Huy | D21: 24.08.2001 | E21: Tân Trường - Tĩnh Gia - Thanh Hóa | F21: =tphk3!P23 -> hl | G21: =tphk3!P84 -> hl | H21: =(F21*6+G21*5)/11 -> #VALUE! | I21: =(IF(H21>=8,"giỏi",IF(H21>=7,"Khá",IF(H21>=6,"TB","Yếu")))) -> #VALUE!
A22: 17 | B22: Mai Xuân | C22: Huy | D22: 25.10.2001 | E22: Trường Lâm - Tĩnh Gia - Thanh Hóa | F22: =tphk3!P24 -> 5.3636364 | G22: =tphk3!P85 -> 6 | H22: =(F22*6+G22*5)/11 -> 5.6528926 | I22: =(IF(H22>=8,"giỏi",IF(H22>=7,"Khá",IF(H22>=6,"TB","Yếu")))) -> Yếu
A23: 18 | B23: Lê Vinh | C23: Huy | D23: 36739 | E23: Bản Cát – Mai Lâm – Tĩnh Gia – Thanh Hóa | F23: =tphk3!P25 -> 8.3636364 | G23: =tphk3!P86 -> 7 | H23: =(F23*6+G23*5)/11 -> 7.7438017 | I23: =(IF(H23>=8,"giỏi",IF(H23>=7,"Khá",IF(H23>=6,"TB","Yếu")))) -> Khá
A24: 19 | B24: Nguyễn Xuân | C24: Lâm | D24: 22.11.2001 | E24: Nguyên Bình - Tĩnh Gia - Thanh Hóa | F24: =tphk3!P26 -> hl | G24: =tphk3!P87 -> hl | H24: =(F24*6+G24*5)/11 -> #VALUE! | I24: =(IF(H24>=8,"giỏi",IF(H24>=7,"Khá",IF(H24>=6,"TB","Yếu")))) -> #VALUE!
A25: 20 | B25: Phạm Nhật | C25: Linh | D25: 02.05.2001 | E25: Hải Ninh - Tĩnh Gia - Thanh Hóa | F25: =tphk3!P27 -> hl | G25: =tphk3!P88 -> hl | H25: =(F25*6+G25*5)/11 -> #VALUE! | I25: =(IF(H25>=8,"giỏi",IF(H25>=7,"Khá",IF(H25>=6,"TB","Yếu")))) -> #VALUE!
A26: 21 | B26: Lê Văn | C26: Long | D26: 27.04.2001 | E26: Hải Thanh - Tĩnh Gia - Thanh Hóa | F26: =tphk3!P28 -> 7 | G26: =tphk3!P89 -> 7 | H26: =(F26*6+G26*5)/11 -> 7 | I26: =(IF(H26>=8,"giỏi",IF(H26>=7,"Khá",IF(H26>=6,"TB","Yếu")))) -> Khá
A27: 22 | B27: Đồng Xuân | C27: Mạnh | D27: 36923 | E27: Bình Minh- Trường Lâm- Tĩnh Gia- Thanh Hóa | F27: =tphk3!P29 -> hl | G27: =tphk3!P90 -> hl | H27: =(F27*6+G27*5)/11 -> #VALUE! | I27: =(IF(H27>=8,"giỏi",IF(H27>=7,"Khá",IF(H27>=6,"TB","Yếu")))) -> #VALUE!
A28: 23 | B28: Nguyễn Văn | C28: Minh | D28: 18.05.2001 | E28: Thượng Hải - Hải Thanh – Tĩnh Gia – Thanh Hóa | F28: =tphk3!P30 -> 8.3636364 | G28: =tphk3!P91 -> 7.6363636 | H28: =(F28*6+G28*5)/11 -> 8.0330579 | I28: =(IF(H28>=8,"giỏi",IF(H28>=7,"Khá",IF(H28>=6,"TB","Yếu")))) -> giỏi
A29: 24 | B29: Hồ Sĩ | C29: Minh | D29: 10.12.2000 | E29: Phú Sơn - Tĩnh Gia - Thanh Hóa | F29: =tphk3!P31 -> 8.5454545 | G29: =tphk3!P92 -> 8.4545455 | H29: =(F29*6+G29*5)/11 -> 8.5041322 | I29: =(IF(H29>=8,"giỏi",IF(H29>=7,"Khá",IF(H29>=6,"TB","Yếu")))) -> giỏi
A30: 25 | B30: Nguyễn Thị | C30: Mừng | D30: 37014 | E30: Giảng Tín - Trúc Lâm- Tĩnh Gia- Thanh Hóa | F30: =tphk3!P32 -> 8 | G30: =tphk3!P93 -> 7.1818182 | H30: =(F30*6+G30*5)/11 -> 7.6280992 | I30: =(IF(H30>=8,"giỏi",IF(H30>=7,"Khá",IF(H30>=6,"TB","Yếu")))) -> Khá
A31: 26 | B31: Lê Văn | C31: Nam | D31: 23.07.2001 | E31: Nguyên Bình - Tĩnh Gia - Thanh Hóa | F31: =tphk3!P33 -> 8 | G31: =tphk3!P94 -> 6.1818182 | H31: =(F31*6+G31*5)/11 -> 7.1735537 | I31: =(IF(H31>=8,"giỏi",IF(H31>=7,"Khá",IF(H31>=6,"TB","Yếu")))) -> Khá
A32: 27 | B32: Lê Văn | C32: Nam | D32: 16.08.2001 | E32: Hải Châu - Tĩnh Gia - Thanh Hóa | F32: =tphk3!P34 -> 7.1818182 | G32: =tphk3!P95 -> 7 | H32: =(F32*6+G32*5)/11 -> 7.0991736 | I32: =(IF(H32>=8,"giỏi",IF(H32>=7,"Khá",IF(H32>=6,"TB","Yếu")))) -> Khá
A33: 28 | B33: Ngô Khải | C33: Phong | D33: 15.08.2001 | E33: Hải Thanh - Tĩnh Gia - Thanh Hóa | F33: =tphk3!P35 -> 8.1818182 | G33: =tphk3!P96 -> 8 | H33: =(F33*6+G33*5)/11 -> 8.0991736 | I33: =(IF(H33>=8,"giỏi",IF(H33>=7,"Khá",IF(H33>=6,"TB","Yếu")))) -> giỏi
A34: 29 | B34: Đỗ Ngọc | C34: Sơn | D34: 21.11.2000 | E34: Hoa Lư - Ninh Bình | F34: =tphk3!P36 -> hl | G34: =tphk3!P97 -> hl | H34: =(F34*6+G34*5)/11 -> #VALUE! | I34: =(IF(H34>=8,"giỏi",IF(H34>=7,"Khá",IF(H34>=6,"TB","Yếu")))) -> #VALUE!
A35: 30 | B35: Hoàng Văn | C35: Thái | D35: 25/4/2001 | E35: Đại Tiến- Ninh Hải- Tĩnh Gia- Thanh Hóa | F35: =tphk3!P37 -> 7.6363636 | G35: =tphk3!P98 -> 7.6363636 | H35: =(F35*6+G35*5)/11 -> 7.6363636 | I35: =(IF(H35>=8,"giỏi",IF(H35>=7,"Khá",IF(H35>=6,"TB","Yếu")))) -> Khá
A36: 31 | B36: Lê Doãn | C36: Thái | D36: 18/09/2001 | E36: Thôn 2 - Định Hải - Tĩnh Gia - Thanh Hóa | F36: =tphk3!P38 -> 8.5454545 | G36: =tphk3!P99 -> 8.1818182 | H36: =(F36*6+G36*5)/11 -> 8.3801653 | I36: =(IF(H36>=8,"giỏi",IF(H36>=7,"Khá",IF(H36>=6,"TB","Yếu")))) -> giỏi
A37: 32 | B37: Lê Hữu | C37: Thành | D37: 37231 | E37: Thống Nhất- Ninh Hải- Tĩnh Gia- Thanh Hóa | F37: =tphk3!P39 -> 7.3636364 | G37: =tphk3!P100 -> 7.6363636 | H37: =(F37*6+G37*5)/11 -> 7.4876033 | I37: =(IF(H37>=8,"giỏi",IF(H37>=7,"Khá",IF(H37>=6,"TB","Yếu")))) -> Khá
A38: 33 | B38: Mai Xuân | C38: Thiện | D38: 10.07.2001 | E38: Ninh Hải - Tĩnh Gia - Thanh Hóa | F38: =tphk3!P40 -> 7.7272727 | G38: =tphk3!P101 -> 7 | H38: =(F38*6+G38*5)/11 -> 7.3966942 | I38: =(IF(H38>=8,"giỏi",IF(H38>=7,"Khá",IF(H38>=6,"TB","Yếu")))) -> Khá
A39: 34 | B39: Lê Đình | C39: Tình | D39: 08.04.2001 | E39: Trường Lâm - Tĩnh Gia - Thanh Hóa | F39: =tphk3!P41 -> hl | G39: =tphk3!P102 -> hl | H39: =(F39*6+G39*5)/11 -> #VALUE! | I39: =(IF(H39>=8,"giỏi",IF(H39>=7,"Khá",IF(H39>=6,"TB","Yếu")))) -> #VALUE!
A40: 35 | B40: Đậu Xuân | C40: Toàn | D40: 13/08/2001 | E40: Trường Thanh- Trường Lâm- Tĩnh Gia- Thanh Hóa | F40: =tphk3!P42 -> hl | G40: =tphk3!P103 -> hl | H40: =(F40*6+G40*5)/11 -> #VALUE! | I40: =(IF(H40>=8,"giỏi",IF(H40>=7,"Khá",IF(H40>=6,"TB","Yếu")))) -> #VALUE!
A41: 36 | B41: Nguyễn Như | C41: Trọng | D41: 26/06/2001 | E41: Thôn 9- Tân Trường- Tĩnh Gia- Thanh Hóa | F41: =tphk3!P43 -> 7.1818182 | G41: =tphk3!P104 -> 7.1818182 | H41: =(F41*6+G41*5)/11 -> 7.1818182 | I41: =(IF(H41>=8,"giỏi",IF(H41>=7,"Khá",IF(H41>=6,"TB","Yếu")))) -> Khá
A42: 37 | B42: Lê Văn | C42: Trọng | D42: 15.07.1999 | E42: Tân Trường - Tĩnh Gia - Thanh Hóa | F42: =tphk3!P44 -> 6.5454545 | G42: =tphk3!P105 -> 6.3636364 | H42: =(F42*6+G42*5)/11 -> 6.4628099 | I42: =(IF(H42>=8,"giỏi",IF(H42>=7,"Khá",IF(H42>=6,"TB","Yếu")))) -> TB
A43: 38 | B43: Lê Kim | C43: Trường | D43: 37014 | E43: Thôn 3- Hải An- Tĩnh Gia- Thanh Hóa | F43: =tphk3!P45 -> 7.5454545 | G43: =tphk3!P106 -> 7.1818182 | H43: =(F43*6+G43*5)/11 -> 7.3801653 | I43: =(IF(H43>=8,"giỏi",IF(H43>=7,"Khá",IF(H43>=6,"TB","Yếu")))) -> Khá
A44: 39 | B44: Nguyễn Văn | C44: Trưởng | D44: 25.04.2001 | E44: Trường Lâm - Tĩnh Gia - Thanh Hóa | F44: =tphk3!P46 -> hl | G44: =tphk3!P107 -> hl | H44: =(F44*6+G44*5)/11 -> #VALUE! | I44: =(IF(H44>=8,"giỏi",IF(H44>=7,"Khá",IF(H44>=6,"TB","Yếu")))) -> #VALUE!
A45: 40 | B45: Lê Văn | C45: Tuân | D45: 21.09.2001 | E45: Ninh Hải - Tĩnh Gia - Thanh Hóa | F45: =tphk3!P47 -> 7.3636364 | G45: =tphk3!P108 -> 6.6363636 | H45: =(F45*6+G45*5)/11 -> 7.0330579 | I45: =(IF(H45>=8,"giỏi",IF(H45>=7,"Khá",IF(H45>=6,"TB","Yếu")))) -> Khá
A46: 41 | B46: Phạm Văn | C46: Tuấn | D46: 37175 | E46: Thanh Biình- Hải Ninh- Tĩnh Gia- Thanh Hóa | F46: =tphk3!P48 -> 7.1818182 | G46: =tphk3!P109 -> 6.3636364 | H46: =(F46*6+G46*5)/11 -> 6.8099174 | I46: =(IF(H46>=8,"giỏi",IF(H46>=7,"Khá",IF(H46>=6,"TB","Yếu")))) -> TB
A47: 42 | B47: Lê Thị | C47: Tuyết | D47: 20.10.2001 | E47: Trung tâm hy vọng - Tĩnh Gia - Thanh Hóa | F47: =tphk3!P49 -> 7.8181818 | G47: =tphk3!P110 -> 7 | H47: =(F47*6+G47*5)/11 -> 7.446281 | I47: =(IF(H47>=8,"giỏi",IF(H47>=7,"Khá",IF(H47>=6,"TB","Yếu")))) -> Khá
A48: 43 | B48: Mai Huy | C48: Việt | D48: 15/2/2000 | E48: TK2- TT Tĩnh Gia- Thanh Hóa | F48: =tphk3!P50 -> 8.3636364 | G48: =tphk3!P111 -> 8 | H48: =(F48*6+G48*5)/11 -> 8.1983471 | I48: =(IF(H48>=8,"giỏi",IF(H48>=7,"Khá",IF(H48>=6,"TB","Yếu")))) -> giỏi
A49: 44 | B49: Lê Xuân | C49: Vinh | D49: 22.02.2001 | E49: Nguyên Bình - Tĩnh Gia - Thanh Hóa | F49: =tphk3!P51 -> 5.7272727 | G49: =tphk3!P112 -> 5.6363636 | H49: =(F49*6+G49*5)/11 -> 5.6859504 | I49: =(IF(H49>=8,"giỏi",IF(H49>=7,"Khá",IF(H49>=6,"TB","Yếu")))) -> Yếu
A50: 45 | B50: Đỗ Tuấn | C50: Vương | D50: 03.01.2001 | E50: Trường Lâm - Tĩnh Gia - Thanh Hóa | F50: =tphk3!P52 -> 7.3636364 | G50: =tphk3!P113 -> 7.1818182 | H50: =(F50*6+G50*5)/11 -> 7.2809917 | I50: =(IF(H50>=8,"giỏi",IF(H50>=7,"Khá",IF(H50>=6,"TB","Yếu")))) -> Khá
A51: 46 | B51: Nguyễn Bá Trần | C51: Danh | F51: =tphk3!P53 -> hl | G51: =tphk3!P114 -> hl | H51: =(F51*6+G51*5)/11 -> #VALUE! | I51: =(IF(H51>=8,"giỏi",IF(H51>=7,"Khá",IF(H51>=6,"TB","Yếu")))) -> #VALUE!
A52: 47 | B52: Nguyễn Đình | C52: Nhật | F52: =tphk3!P54 -> 7.3636364 | G52: =tphk3!P115 -> 6.6363636 | H52: =(F52*6+G52*5)/11 -> 7.0330579 | I52: =(IF(H52>=8,"giỏi",IF(H52>=7,"Khá",IF(H52>=6,"TB","Yếu")))) -> Khá
A53: 48 | B53: Nguyễn Xuân | C53: Đức | F53: =tphk3!P55 -> 5.7272727 | G53: =tphk3!P116 -> 5.3636364 | H53: =(F53*6+G53*5)/11 -> 5.5619835 | I53: =(IF(H53>=8,"giỏi",IF(H53>=7,"Khá",IF(H53>=6,"TB","Yếu")))) -> Yếu
A54: 49 | B54: Bùi Quốc | C54: Cường | F54: =tphk3!P56 -> 7.3636364 | G54: =tphk3!P117 -> 5.8181818 | H54: =(F54*6+G54*5)/11 -> 6.661157 | I54: =(IF(H54>=8,"giỏi",IF(H54>=7,"Khá",IF(H54>=6,"TB","Yếu")))) -> TB
A55: 50 | B55: Nguyễn Tuấn | C55: Hưng | F55: =tphk3!P57 -> 0 | G55: =tphk3!P118 -> 0 | H55: =(F55*6+G55*5)/11 -> 0
A56: 51 | B56: Nguyễn Văn Tuấn | C56: Anh | F56: =tphk3!P58 -> 6 | G56: =tphk3!P119 -> 6.8181818 | H56: =(F56*6+G56*5)/11 -> 6.3719008 | I56: =(IF(H56>=8,"giỏi",IF(H56>=7,"Khá",IF(H56>=6,"TB","Yếu")))) -> TB
A57: 52 | B57: Cao Ngọc | C57: Hoàng | F57: =tphk3!P59 -> 0 | G57: =tphk3!P120 -> 0 | H57: =(F57*6+G57*5)/11 -> 0 | I57: =(IF(H57>=8,"giỏi",IF(H57>=7,"Khá",IF(H57>=6,"TB","Yếu")))) -> Yếu
A58: 53 | B58: Nguyễn Văn | C58: Anh | F58: =tphk3!P60 -> 6 | G58: =tphk3!P121 -> 6.8181818 | H58: =(F58*6+G58*5)/11 -> 6.3719008 | I58: =(IF(H58>=8,"giỏi",IF(H58>=7,"Khá",IF(H58>=6,"TB","Yếu")))) -> TB

Sheet tphk4
A1: BẢNG GHI ĐIỂM MÔĐUN / MÔN HỌC
A2: Học Kỳ: II Năm Học 2017- 2018
A3: Khóa: VIII Lớp: Đ8B1
A4: Môn học: Máy điện Số tiết: 200 Số ĐVHT: 13 Ngày thi: 03/5/2018
A5: Họ và tên giáo viên: Trịnh Xuân Thắng
A6: TT | B6: Họ và tên | D6: Ngày Sinh | E6: Nơi Sinh | F6: HS2 | L6: Kết thúc môn | N6: Tổng kết | P6: Máy điện
L7: L1 | M7: L2 | N7: L1 | O7: L2 | P7: 13
A8: 1 | B8: Nguyễn Thế | C8: Ánh | D8: 05.10.2001 | E8: Đội 1- Nguyên Bình- Tĩnh Gia - Thanh Hóa | F8: 8 | G8: 7 | H8: 8 | I8: 7 | J8: 7 | K8: 7 | L8: 6 | N8: =(((F8+G8+J8+K8+H8+I8)*2)+L8*3)/15 -> 7.0666667 | P8: =MAX(N8,O8) -> 7.0666667
A9: 2 | B9: Lê Hữu | C9: Chiến | D9: 11.07.2000 | E9: Thị Trấn - Tĩnh Gia - Thanh Hóa | F9: 8 | G9: 6 | H9: 8 | I9: 7 | J9: 6 | K9: 7 | L9: 6 | N9: =(((F9+G9+J9+K9+H9+I9)*2)+L9*3)/15 -> 6.8 | P9: =MAX(N9,O9) -> 6.8
A10: 3 | B10: Lê Công | C10: Chính | D10: 16/09/2000 | E10: Đội 16- Nguyên Bình- Tĩnh Gia- Thanh Hóa | F10: 5 | G10: 6 | H10: 8 | I10: 7 | J10: 7 | K10: 7 | L10: 6 | N10: =(((F10+G10+J10+K10+H10+I10)*2)+L10*3)/15 -> 6.5333333 | P10: =MAX(N10,O10) -> 6.5333333
A11: 4 | B11: Lê Đức | C11: Chung | D11: 37142 | E11: Đông Hải - Hải Hòa- Tĩnh Gia - Thanh Hóa | F11: 7 | G11: 7 | H11: 8 | I11: 7 | J11: 6 | K11: 7 | L11: 7 | N11: =(((F11+G11+J11+K11+H11+I11)*2)+L11*3)/15 -> 7 | P11: =MAX(N11,O11) -> 7
A12: 5 | B12: Lê Văn | C12: Cương | D12: 16/10/2000 | E12: Hữu Nam– Mai Lâm – Tĩnh Gia – Thanh Hóa | F12: 7 | G12: 7 | H12: 8 | I12: 8 | J12: 7 | K12: 8 | L12: 8 | N12: =(((F12+G12+J12+K12+H12+I12)*2)+L12*3)/15 -> 7.6 | P12: =MAX(N12,O12) -> 7.6
A13: 6 | B13: Lê Văn | C13: Đại | D13: 19/02/2001 | E13: Sơn Trà- Trúc Lâm- Tĩnh Gia - Thanh Hóa | P13: HL
A14: 7 | B14: Lê Công | C14: Đạt | D14: 36929 | E14: Đồng Minh - Hải Ninh - Tĩnh Gia - Thanh Hóa | F14: 5 | G14: 6 | H14: 8 | P14: HL
A15: 8 | B15: Bùi Văn | C15: Dũng | D15: 16.09.2000 | E15: Hải Hà - Tĩnh Gia - Thanh Hóa | F15: 6 | G15: 6 | H15: 5 | I15: 7 | J15: 6 | K15: 7 | L15: 7 | N15: =(((F15+G15+J15+K15+H15+I15)*2)+L15*3)/15 -> 6.3333333 | P15: =MAX(N15,O15) -> 6.3333333
A16: 9 | B16: Vũ Trọng | C16: Dương | D16: 10.12.2001 | E16: Hải Nhân - Tĩnh Gia - Thanh Hóa | F16: 8 | G16: 7 | H16: 7 | I16: 7 | J16: 8 | K16: 6 | L16: 8 | N16: =(((F16+G16+J16+K16+H16+I16)*2)+L16*3)/15 -> 7.3333333 | P16: =MAX(N16,O16) -> 7.3333333
A17: 10 | B17: Trương Bá | C17: Hạnh | D17: 37231 | E17: Thôn 10- Tân Trường- Tĩnh Gia- Thanh Hóa | P17: HL
A18: 11 | B18: Nguyễn Đắc | C18: Hiếu | D18: 19/02/2000 | E18: Thôn 6- Hải Lĩnh-Tĩnh Gia- Thanh Hóa | F18: 6 | G18: 7 | H18: 7 | I18: 7 | J18: 6 | K18: 7 | L18: 7 | N18: =(((F18+G18+J18+K18+H18+I18)*2)+L18*3)/15 -> 6.7333333 | P18: =MAX(N18,O18) -> 6.7333333
A19: 12 | B19: Mai Xuân | C19: Hinh | D19: 37205 | E19: Ninh Sơn- Trường Lâm- Tĩnh Gia- Thanh Hóa | P19: HL
A20: 13 | B20: Phạm Đình | C20: Hoàng | D20: 13.02.2001 | E20: Nguyên Bình - Tĩnh Gia - Thanh Hóa | P20: HL
A21: 14 | B21: Lê Văn | C21: Hùng | D21: 09.08.2000 | E21: Bình Minh - Tĩnh Gia - Thanh Hóa | F21: 8 | G21: 5 | H21: 8 | I21: 6 | J21: 7 | K21: 6 | L21: 6 | N21: =(((F21+G21+J21+K21+H21+I21)*2)+L21*3)/15 -> 6.5333333 | P21: =MAX(N21,O21) -> 6.5333333
A22: 15 | B22: Trương Đình | C22: Hùng | D22: 15.06.2001 | E22: Ninh Hải - Tĩnh Gia - Thanh Hóa | F22: 7 | G22: 7 | H22: 8 | I22: 6 | J22: 6 | K22: 6 | L22: 6 | N22: =(((F22+G22+J22+K22+H22+I22)*2)+L22*3)/15 -> 6.5333333 | P22: =MAX(N22,O22) -> 6.5333333
A23: 16 | B23: Trần Văn | C23: Huy | D23: 24.08.2001 | E23: Tân Trường - Tĩnh Gia - Thanh Hóa | P23: HL
A24: 17 | B24: Mai Xuân | C24: Huy | D24: 25.10.2001 | E24: Trường Lâm - Tĩnh Gia - Thanh Hóa | F24: 6 | G24: 5 | H24: 5 | I24: 6 | J24: 6 | K24: 5 | L24: 6 | N24: =(((F24+G24+J24+K24+H24+I24)*2)+L24*3)/15 -> 5.6 | P24: =MAX(N24,O24) -> 5.6
A25: 18 | B25: Lê Vinh | C25: Huy | D25: 36739 | E25: Bản Cát – Mai Lâm – Tĩnh Gia – Thanh Hóa | F25: 6 | G25: 7 | H25: 7 | I25: 8 | J25: 7 | K25: 6 | L25: 6 | N25: =(((F25+G25+J25+K25+H25+I25)*2)+L25*3)/15 -> 6.6666667 | P25: =MAX(N25,O25) -> 6.6666667
A26: 19 | B26: Nguyễn Xuân | C26: Lâm | D26: 22.11.2001 | E26: Nguyên Bình - Tĩnh Gia - Thanh Hóa | P26: HL
A27: 20 | B27: Phạm Nhật | C27: Linh | D27: 02.05.2001 | E27: Hải Ninh - Tĩnh Gia - Thanh Hóa | P27: HL
A28: 21 | B28: Lê Văn | C28: Long | D28: 27.04.2001 | E28: Hải Thanh - Tĩnh Gia - Thanh Hóa | F28: 8 | G28: 6 | H28: 7 | I28: 7 | J28: 6 | K28: 7 | P28: TL
A29: 22 | B29: Đồng Xuân | C29: Mạnh | D29: 36923 | E29: Bình Minh- Trường Lâm- Tĩnh Gia- Thanh Hóa | P29: HL
A30: 23 | B30: Nguyễn Văn | C30: Minh | D30: 18.05.2001 | E30: Thượng Hải - Hải Thanh – Tĩnh Gia – Thanh Hóa | F30: 7 | G30: 8 | H30: 8 | I30: 7 | J30: 7 | K30: 7 | L30: 8 | N30: =(((F30+G30+J30+K30+H30+I30)*2)+L30*3)/15 -> 7.4666667 | P30: =MAX(N30,O30) -> 7.4666667
A31: 24 | B31: Hồ Sĩ | C31: Minh | D31: 10.12.2000 | E31: Phú Sơn - Tĩnh Gia - Thanh Hóa | F31: 7 | G31: 9 | H31: 8 | I31: 8 | J31: 7 | K31: 8 | L31: 8 | N31: =(((F31+G31+J31+K31+H31+I31)*2)+L31*3)/15 -> 7.8666667 | P31: =MAX(N31,O31) -> 7.8666667
A32: 25 | B32: Nguyễn Thị | C32: Mừng | D32: 37014 | E32: Giảng Tín - Trúc Lâm- Tĩnh Gia- Thanh Hóa | F32: 8 | G32: 7 | H32: 8 | I32: 7 | J32: 7 | K32: 7 | L32: 7 | N32: =(((F32+G32+J32+K32+H32+I32)*2)+L32*3)/15 -> 7.2666667 | P32: =MAX(N32,O32) -> 7.2666667
A33: 26 | B33: Lê Văn | C33: Nam | D33: 23.07.2001 | E33: Nguyên Bình - Tĩnh Gia - Thanh Hóa | F33: 8 | G33: 8 | H33: 8 | I33: 8 | J33: 8 | K33: 8 | L33: 8 | N33: =(((F33+G33+J33+K33+H33+I33)*2)+L33*3)/15 -> 8 | P33: =MAX(N33,O33) -> 8
A34: 27 | B34: Lê Văn | C34: Nam | D34: 16.08.2001 | E34: Hải Châu - Tĩnh Gia - Thanh Hóa | F34: 9 | G34: 8 | H34: 7 | I34: 8 | J34: 8 | K34: 8 | L34: 8 | N34: =(((F34+G34+J34+K34+H34+I34)*2)+L34*3)/15 -> 8 | P34: =MAX(N34,O34) -> 8
A35: 28 | B35: Ngô Khải | C35: Phong | D35: 15.08.2001 | E35: Hải Thanh - Tĩnh Gia - Thanh Hóa | F35: 7 | G35: 7 | H35: 7 | I35: 7 | J35: 7 | K35: 7 | L35: 7 | N35: =(((F35+G35+J35+K35+H35+I35)*2)+L35*3)/15 -> 7 | P35: =MAX(N35,O35) -> 7
A36: 29 | B36: Đỗ Ngọc | C36: Sơn | D36: 21.11.2000 | E36: Hoa Lư - Ninh Bình | P36: HL
A37: 30 | B37: Hoàng Văn | C37: Thái | D37: 25/4/2001 | E37: Đại Tiến- Ninh Hải- Tĩnh Gia- Thanh Hóa | F37: 8 | G37: 8 | H37: 7 | I37: 9 | J37: 8 | K37: 9 | L37: 9 | N37: =(((F37+G37+J37+K37+H37+I37)*2)+L37*3)/15 -> 8.3333333 | P37: =MAX(N37,O37) -> 8.3333333
A38: 31 | B38: Lê Doãn | C38: Thái | D38: 18/09/2001 | E38: Thôn 2 - Định Hải - Tĩnh Gia - Thanh Hóa | F38: 7 | G38: 9 | H38: 8 | I38: 8 | J38: 8 | K38: 7 | L38: 8 | N38: =(((F38+G38+J38+K38+H38+I38)*2)+L38*3)/15 -> 7.8666667 | P38: =MAX(N38,O38) -> 7.8666667
A39: 32 | B39: Lê Hữu | C39: Thành | D39: 37231 | E39: Thống Nhất- Ninh Hải- Tĩnh Gia- Thanh Hóa | F39: 8 | G39: 8 | H39: 7 | I39: 9 | J39: 8 | K39: 8 | L39: 8 | N39: =(((F39+G39+J39+K39+H39+I39)*2)+L39*3)/15 -> 8 | P39: =MAX(N39,O39) -> 8
A40: 33 | B40: Mai Xuân | C40: Thiện | D40: 10.07.2001 | E40: Ninh Hải - Tĩnh Gia - Thanh Hóa | F40: 8 | G40: 8 | H40: 7 | I40: 9 | J40: 9 | K40: 7 | L40: 8 | N40: =(((F40+G40+J40+K40+H40+I40)*2)+L40*3)/15 -> 8 | P40: =MAX(N40,O40) -> 8
A41: 34 | B41: Lê Đình | C41: Tình | D41: 08.04.2001 | E41: Trường Lâm - Tĩnh Gia - Thanh Hóa | P41: HL
A42: 35 | B42: Đậu Xuân | C42: Toàn | D42: 13/08/2001 | E42: Trường Thanh- Trường Lâm- Tĩnh Gia- Thanh Hóa | P42: HL
A43: 36 | B43: Nguyễn Như | C43: Trọng | D43: 26/06/2001 | E43: Thôn 9- Tân Trường- Tĩnh Gia- Thanh Hóa | F43: 5 | G43: 10 | H43: 9 | I43: 8 | J43: 8 | K43: 7 | L43: 8 | N43: =(((F43+G43+J43+K43+H43+I43)*2)+L43*3)/15 -> 7.8666667 | P43: =MAX(N43,O43) -> 7.8666667
A44: 37 | B44: Lê Văn | C44: Trọng | D44: 15.07.1999 | E44: Tân Trường - Tĩnh Gia - Thanh Hóa | F44: 7 | G44: 7 | H44: 7 | I44: 7 | J44: 7 | K44: 7 | L44: 7 | N44: =(((F44+G44+J44+K44+H44+I44)*2)+L44*3)/15 -> 7 | P44: =MAX(N44,O44) -> 7
A45: 38 | B45: Lê Kim | C45: Trường | D45: 37014 | E45: Thôn 3- Hải An- Tĩnh Gia- Thanh Hóa | F45: 5 | G45: 6 | H45: 7 | I45: 6 | J45: 5 | K45: 8 | L45: 7 | N45: =(((F45+G45+J45+K45+H45+I45)*2)+L45*3)/15 -> 6.3333333 | P45: =MAX(N45,O45) -> 6.3333333
A46: 39 | B46: Nguyễn Văn | C46: Trưởng | D46: 25.04.2001 | E46: Trường Lâm - Tĩnh Gia - Thanh Hóa | P46: HL
A47: 40 | B47: Lê Văn | C47: Tuân | D47: 21.09.2001 | E47: Ninh Hải - Tĩnh Gia - Thanh Hóa | F47: 8 | G47: 8 | H47: 8 | I47: 8 | J47: 9 | K47: 8 | L47: 8 | N47: =(((F47+G47+J47+K47+H47+I47)*2)+L47*3)/15 -> 8.1333333 | P47: =MAX(N47,O47) -> 8.1333333
A48: 41 | B48: Phạm Văn | C48: Tuấn | D48: 37175 | E48: Thanh Biình- Hải Ninh- Tĩnh Gia- Thanh Hóa | F48: 5 | G48: 5 | H48: 5 | I48: 5 | J48: 5 | K48: 5 | L48: 5 | N48: =(((F48+G48+J48+K48+H48+I48)*2)+L48*3)/15 -> 5 | P48: =MAX(N48,O48) -> 5
A49: 42 | B49: Lê Thị | C49: Tuyết | D49: 20.10.2001 | E49: Trung tâm hy vọng - Tĩnh Gia - Thanh Hóa | F49: 10 | G49: 8 | H49: 8 | I49: 8 | J49: 9 | K49: 8 | L49: 9 | N49: =(((F49+G49+J49+K49+H49+I49)*2)+L49*3)/15 -> 8.6 | P49: =MAX(N49,O49) -> 8.6
A50: 43 | B50: Mai Huy | C50: Việt | D50: 15/2/2000 | E50: TK2- TT Tĩnh Gia- Thanh Hóa | F50: 8 | G50: 8 | H50: 8 | I50: 8 | J50: 8 | K50: 7 | L50: 7 | N50: =(((F50+G50+J50+K50+H50+I50)*2)+L50*3)/15 -> 7.6666667 | P50: =MAX(N50,O50) -> 7.6666667
A51: 44 | B51: Lê Xuân | C51: Vinh | D51: 22.02.2001 | E51: Nguyên Bình - Tĩnh Gia - Thanh Hóa | F51: 5 | G51: 6 | H51: 6 | I51: 5 | J51: 6 | K51: 5 | L51: 5 | N51: =(((F51+G51+J51+K51+H51+I51)*2)+L51*3)/15 -> 5.4 | P51: =MAX(N51,O51) -> 5.4
A52: 45 | B52: Đỗ Tuấn | C52: Vương | D52: 03.01.2001 | E52: Trường Lâm - Tĩnh Gia - Thanh Hóa | F52: 10 | G52: 8 | H52: 8 | I52: 8 | J52: 8 | K52: 9 | L52: 8 | N52: =(((F52+G52+J52+K52+H52+I52)*2)+L52*3)/15 -> 8.4 | P52: =MAX(N52,O52) -> 8.4
A53: 46 | B53: Nguyễn Bá Trần | C53: Danh | P53: HL
A54: 47 | B54: Nguyễn Đình | C54: Nhật | F54: 10 | G54: 8 | H54: 8 | I54: 8 | J54: 9 | K54: 7 | L54: 8 | N54: =(((F54+G54+J54+K54+H54+I54)*2)+L54*3)/15 -> 8.2666667 | P54: =MAX(N54,O54) -> 8.2666667
A55: 48 | B55: Nguyễn Xuân | C55: Đức | F55: 6 | G55: 5 | H55: 5 | I55: 5 | J55: 6 | K55: 5 | L55: 6 | N55: =(((F55+G55+J55+K55+H55+I55)*2)+L55*3)/15 -> 5.4666667 | P55: =MAX(N55,O55) -> 5.4666667
A56: 49 | B56: Bùi Quốc | C56: Cường | F56: 7 | G56: 5 | H56: 6 | I56: 8 | J56: 5 | K56: 5 | L56: 5 | N56: =(((F56+G56+J56+K56+H56+I56)*2)+L56*3)/15 -> 5.8 | P56: =MAX(N56,O56) -> 5.8
B57: Nguyễn Tuấn | C57: Hưng
B58: Nguyễn Văn Tuấn | C58: Anh | F58: 5 | G58: 7 | H58: 6 | I58: 7 | J58: 5 | K58: 6
B59: Cao Ngọc | C59: Hoàng
A60: 50 | B60: Nguyễn Văn | C60: Anh | F60: 7 | G60: 6 | H60: 5 | I60: 6 | J60: 5 | K60: 6 | L60: 6 | N60: =(((F60+G60+J60+K60+H60+I60)*2)+L60*3)/15 -> 5.8666667 | P60: =MAX(N60,O60) -> 5.8666667
A64: BẢNG GHI ĐIỂM MÔĐUN / MÔN HỌC
A65: Học Kỳ: II Năm Học 2017- 2018
A66: Khóa: VIII Lớp: Đ8B1
A67: Môn học: Điện tử công suất Số tiết: 60 Số ĐVHT: 4 Ngày thi: 12/5/2018
A68: Họ và tên giáo viên: Nguyễn Thị Mỹ Lệ
A69: TT | B69: Họ và tên | D69: Ngày Sinh | E69: Nơi Sinh | F69: HS2 | L69: L1 | M69: L2 | N69: Tổng kết | P69: Điện tử công suất
N70: L1 | O70: L2 | P70: 4
A71: 1 | B71: Nguyễn Thế | C71: Ánh | D71: 05.10.2001 | E71: Đội 1- Nguyên Bình- Tĩnh Gia - Thanh Hóa | F71: 8 | G71: 8 | H71: 7 | I71: 8 | L71: 7 | N71: =(((F71+G71+H71+I71)*2)+L71*3)/11 -> 7.5454545 | P71: =MAX(N71,O71) -> 7.5454545
A72: 2 | B72: Lê Hữu | C72: Chiến | D72: 11.07.2000 | E72: Thị Trấn - Tĩnh Gia - Thanh Hóa | F72: 5 | G72: 6 | H72: 6 | I72: 5 | L72: 6 | N72: =(((F72+G72+H72+I72)*2)+L72*3)/11 -> 5.6363636 | P72: =MAX(N72,O72) -> 5.6363636
A73: 3 | B73: Lê Công | C73: Chính | D73: 16/09/2000 | E73: Đội 16- Nguyên Bình- Tĩnh Gia- Thanh Hóa | F73: 5 | G73: 6 | H73: 5 | I73: 5 | L73: 6 | N73: =(((F73+G73+H73+I73)*2)+L73*3)/11 -> 5.4545455 | P73: =MAX(N73,O73) -> 5.4545455
A74: 4 | B74: Lê Đức | C74: Chung | D74: 37142 | E74: Đông Hải - Hải Hòa- Tĩnh Gia - Thanh Hóa | F74: 7 | G74: 7 | H74: 8 | I74: 9 | L74: 8 | N74: =(((F74+G74+H74+I74)*2)+L74*3)/11 -> 7.8181818 | P74: =MAX(N74,O74) -> 7.8181818
A75: 5 | B75: Lê Văn | C75: Cương | D75: 16/10/2000 | E75: Hữu Nam– Mai Lâm – Tĩnh Gia – Thanh Hóa | F75: 7 | G75: 7 | H75: 8 | I75: 9 | L75: 7 | N75: =(((F75+G75+H75+I75)*2)+L75*3)/11 -> 7.5454545 | P75: =MAX(N75,O75) -> 7.5454545
A76: 6 | B76: Lê Văn | C76: Đại | D76: 19/02/2001 | E76: Sơn Trà- Trúc Lâm- Tĩnh Gia - Thanh Hóa | P76: HL
A77: 7 | B77: Lê Công | C77: Đạt | D77: 36929 | E77: Đồng Minh - Hải Ninh - Tĩnh Gia - Thanh Hóa | F77: 5 | G77: 6 | H77: 6 | I77: 5 | L77: 6 | N77: =(((F77+G77+H77+I77)*2)+L77*3)/11 -> 5.6363636 | P77: =MAX(N77,O77) -> 5.6363636
A78: 8 | B78: Bùi Văn | C78: Dũng | D78: 16.09.2000 | E78: Hải Hà - Tĩnh Gia - Thanh Hóa | F78: 7 | G78: 6 | H78: 6 | I78: 5 | L78: 8 | N78: =(((F78+G78+H78+I78)*2)+L78*3)/11 -> 6.5454545 | P78: =MAX(N78,O78) -> 6.5454545
A79: 9 | B79: Vũ Trọng | C79: Dương | D79: 10.12.2001 | E79: Hải Nhân - Tĩnh Gia - Thanh Hóa | F79: 7 | G79: 7 | H79: 7 | I79: 6 | L79: 6 | N79: =(((F79+G79+H79+I79)*2)+L79*3)/11 -> 6.5454545 | P79: =MAX(N79,O79) -> 6.5454545
A80: 10 | B80: Trương Bá | C80: Hạnh | D80: 37231 | E80: Thôn 10- Tân Trường- Tĩnh Gia- Thanh Hóa | P80: HL
A81: 11 | B81: Nguyễn Đắc | C81: Hiếu | D81: 19/02/2000 | E81: Thôn 6- Hải Lĩnh-Tĩnh Gia- Thanh Hóa | F81: 5 | G81: 5 | H81: 6 | I81: 5 | L81: 6 | N81: =(((F81+G81+H81+I81)*2)+L81*3)/11 -> 5.4545455 | P81: =MAX(N81,O81) -> 5.4545455
A82: 12 | B82: Mai Xuân | C82: Hinh | D82: 37205 | E82: Ninh Sơn- Trường Lâm- Tĩnh Gia- Thanh Hóa | P82: HL
A83: 13 | B83: Phạm Đình | C83: Hoàng | D83: 13.02.2001 | E83: Nguyên Bình - Tĩnh Gia - Thanh Hóa | P83: HL
A84: 14 | B84: Lê Văn | C84: Hùng | D84: 09.08.2000 | E84: Bình Minh - Tĩnh Gia - Thanh Hóa | F84: 8 | G84: 8 | H84: 6 | I84: 8 | L84: 6 | N84: =(((F84+G84+H84+I84)*2)+L84*3)/11 -> 7.0909091 | P84: =MAX(N84,O84) -> 7.0909091
A85: 15 | B85: Trương Đình | C85: Hùng | D85: 15.06.2001 | E85: Ninh Hải - Tĩnh Gia - Thanh Hóa | F85: 5 | G85: 6 | H85: 6 | I85: 5 | L85: 7 | N85: =(((F85+G85+H85+I85)*2)+L85*3)/11 -> 5.9090909 | P85: =MAX(N85,O85) -> 5.9090909
A86: 16 | B86: Trần Văn | C86: Huy | D86: 24.08.2001 | E86: Tân Trường - Tĩnh Gia - Thanh Hóa | P86: HL
A87: 17 | B87: Mai Xuân | C87: Huy | D87: 25.10.2001 | E87: Trường Lâm - Tĩnh Gia - Thanh Hóa | F87: 7 | G87: 5 | H87: 5 | I87: 5 | L87: 5 | N87: =(((F87+G87+H87+I87)*2)+L87*3)/11 -> 5.3636364 | P87: =MAX(N87,O87) -> 5.3636364
A88: 18 | B88: Lê Vinh | C88: Huy | D88: 36739 | E88: Bản Cát – Mai Lâm – Tĩnh Gia – Thanh Hóa | F88: 8 | G88: 8 | H88: 7 | I88: 9 | L88: 9 | N88: =(((F88+G88+H88+I88)*2)+L88*3)/11 -> 8.2727273 | P88: =MAX(N88,O88) -> 8.2727273
A89: 19 | B89: Nguyễn Xuân | C89: Lâm | D89: 22.11.2001 | E89: Nguyên Bình - Tĩnh Gia - Thanh Hóa | P89: HL
A90: 20 | B90: Phạm Nhật | C90: Linh | D90: 02.05.2001 | E90: Hải Ninh - Tĩnh Gia - Thanh Hóa | P90: HL
A91: 21 | B91: Lê Văn | C91: Long | D91: 27.04.2001 | E91: Hải Thanh - Tĩnh Gia - Thanh Hóa | P91: HL
A92: 22 | B92: Đồng Xuân | C92: Mạnh | D92: 36923 | E92: Bình Minh- Trường Lâm- Tĩnh Gia- Thanh Hóa | P92: HL
A93: 23 | B93: Nguyễn Văn | C93: Minh | D93: 18.05.2001 | E93: Thượng Hải - Hải Thanh – Tĩnh Gia – Thanh Hóa | F93: 6 | G93: 8 | H93: 7 | I93: 7 | L93: 7 | N93: =(((F93+G93+H93+I93)*2)+L93*3)/11 -> 7 | P93: =MAX(N93,O93) -> 7
A94: 24 | B94: Hồ Sĩ | C94: Minh | D94: 10.12.2000 | E94: Phú Sơn - Tĩnh Gia - Thanh Hóa | F94: 8 | G94: 7 | H94: 8 | I94: 8 | L94: 8 | N94: =(((F94+G94+H94+I94)*2)+L94*3)/11 -> 7.8181818 | P94: =MAX(N94,O94) -> 7.8181818
A95: 25 | B95: Nguyễn Thị | C95: Mừng | D95: 37014 | E95: Giảng Tín - Trúc Lâm- Tĩnh Gia- Thanh Hóa | F95: 7 | G95: 7 | H95: 8 | I95: 7 | L95: 8 | N95: =(((F95+G95+H95+I95)*2)+L95*3)/11 -> 7.4545455 | P95: =MAX(N95,O95) -> 7.4545455
A96: 26 | B96: Lê Văn | C96: Nam | D96: 23.07.2001 | E96: Nguyên Bình - Tĩnh Gia - Thanh Hóa | F96: 7 | G96: 7 | H96: 7 | I96: 7 | L96: 6 | N96: =(((F96+G96+H96+I96)*2)+L96*3)/11 -> 6.7272727 | P96: =MAX(N96,O96) -> 6.7272727
A97: 27 | B97: Lê Văn | C97: Nam | D97: 16.08.2001 | E97: Hải Châu - Tĩnh Gia - Thanh Hóa | F97: 7 | G97: 6 | H97: 8 | I97: 7 | L97: 8 | N97: =(((F97+G97+H97+I97)*2)+L97*3)/11 -> 7.2727273 | P97: =MAX(N97,O97) -> 7.2727273
A98: 28 | B98: Ngô Khải | C98: Phong | D98: 15.08.2001 | E98: Hải Thanh - Tĩnh Gia - Thanh Hóa | F98: 7 | G98: 8 | H98: 8 | I98: 7 | L98: 6 | N98: =(((F98+G98+H98+I98)*2)+L98*3)/11 -> 7.0909091 | P98: =MAX(N98,O98) -> 7.0909091
A99: 29 | B99: Đỗ Ngọc | C99: Sơn | D99: 21.11.2000 | E99: Hoa Lư - Ninh Bình | P99: HL
A100: 30 | B100: Hoàng Văn | C100: Thái | D100: 25/4/2001 | E100: Đại Tiến- Ninh Hải- Tĩnh Gia- Thanh Hóa | F100: 9 | G100: 8 | H100: 8 | I100: 8 | L100: 8 | N100: =(((F100+G100+H100+I100)*2)+L100*3)/11 -> 8.1818182 | P100: =MAX(N100,O100) -> 8.1818182
A101: 31 | B101: Lê Doãn | C101: Thái | D101: 18/09/2001 | E101: Thôn 2 - Định Hải - Tĩnh Gia - Thanh Hóa | F101: 8 | G101: 8 | H101: 8 | I101: 8 | L101: 8 | N101: =(((F101+G101+H101+I101)*2)+L101*3)/11 -> 8 | P101: =MAX(N101,O101) -> 8
A102: 32 | B102: Lê Hữu | C102: Thành | D102: 37231 | E102: Thống Nhất- Ninh Hải- Tĩnh Gia- Thanh Hóa | F102: 8 | G102: 8 | H102: 7 | I102: 7 | L102: 7 | N102: =(((F102+G102+H102+I102)*2)+L102*3)/11 -> 7.3636364 | P102: =MAX(N102,O102) -> 7.3636364
A103: 33 | B103: Mai Xuân | C103: Thiện | D103: 10.07.2001 | E103: Ninh Hải - Tĩnh Gia - Thanh Hóa | F103: 6 | G103: 6 | H103: 7 | I103: 7 | L103: 8 | N103: =(((F103+G103+H103+I103)*2)+L103*3)/11 -> 6.9090909 | P103: =MAX(N103,O103) -> 6.9090909
...

Sheet TKHK4
A1: ĐiỂM TỔNG KẾT HỌC KỲ II NĂM HỌC 201 7 -2018
A2: LỚP Đ8B1
A4: TT | B4: Họ và tên | D4: Ngày Sinh | E4: Nơi Sinh | F4: =tphk4!P6 -> Máy điện | G4: =tphk4!P69 -> Điện tử công suất | H4: =tphk4!P135 -> Cung cấp điện | I4: TỔNG KẾT
F5: =tphk4!P7 -> 13 | G5: =tphk4!P70 -> 4 | H5: =tphk4!P136 -> 4 | I5: =SUM(F5:H5) -> 21
A6: 1 | B6: Nguyễn Thế | C6: Ánh | D6: 05.10.2001 | E6: Đội 1- Nguyên Bình- Tĩnh Gia - Thanh Hóa | F6: =tphk4!P8 -> 7.0666667 | G6: =tphk4!P71 -> 7.5454545 | H6: =tphk4!P137 -> 6.0909091 | I6: =(F6*13+G6*4+H6*4)/21 -> 6.9720058 | J6: Khá | K6: =ư -> #NAME?
A7: 2 | B7: Lê Hữu | C7: Chiến | D7: 11.07.2000 | E7: Thị Trấn - Tĩnh Gia - Thanh Hóa | F7: =tphk4!P9 -> 6.8 | G7: =tphk4!P72 -> 5.6363636 | H7: =tphk4!P138 -> 6.2727273 | I7: =(F7*13+G7*4+H7*4)/21 -> 6.4779221 | J7: =(IF(I7>=8,"giỏi",IF(I7>=7,"Khá",IF(I7>=6,"TB. Khá",IF(I7>=5,"TB","yếu"))))) -> TB. Khá
A8: 3 | B8: Lê Công | C8: Chính | D8: 16/09/2000 | E8: Đội 16- Nguyên Bình- Tĩnh Gia- Thanh Hóa | F8: =tphk4!P10 -> 6.5333333 | G8: =tphk4!P73 -> 5.4545455 | H8: =tphk4!P139 -> 6 | I8: =(F8*13+G8*4+H8*4)/21 -> 6.2262626 | J8: =(IF(I8>=8,"giỏi",IF(I8>=7,"Khá",IF(I8>=6,"TB. Khá",IF(I8>=5,"TB","yếu"))))) -> TB. Khá
A9: 4 | B9: Lê Đức | C9: Chung | D9: 37142 | E9: Đông Hải - Hải Hòa- Tĩnh Gia - Thanh Hóa | F9: =tphk4!P11 -> 7 | G9: =tphk4!P74 -> 7.8181818 | H9: =tphk4!P140 -> 7.2727273 | I9: =(F9*13+G9*4+H9*4)/21 -> 7.2077922 | J9: =(IF(I9>=8,"giỏi",IF(I9>=7,"Khá",IF(I9>=6,"TB. Khá",IF(I9>=5,"TB","yếu"))))) -> Khá
A10: 5 | B10: Lê Văn | C10: Cương | D10: 16/10/2000 | E10: Hữu Nam– Mai Lâm – Tĩnh Gia – Thanh Hóa | F10: =tphk4!P12 -> 7.6 | G10: =tphk4!P75 -> 7.5454545 | H10: =tphk4!P141 -> 6.8181818 | I10: =(F10*13+G10*4+H10*4)/21 -> 7.4406926 | J10: =(IF(I10>=8,"giỏi",IF(I10>=7,"Khá",IF(I10>=6,"TB. Khá",IF(I10>=5,"TB","yếu"))))) -> Khá | L10: =COUNTIF(J6:J56,"TB") -> 5
A11: 6 | B11: Lê Văn | C11: Đại | D11: 19/02/2001 | E11: Sơn Trà- Trúc Lâm- Tĩnh Gia - Thanh Hóa | F11: =tphk4!P13 -> HL | G11: =tphk4!P76 -> HL | H11: =tphk4!P142 -> HL | I11: =(F11*13+G11*4+H11*4)/21 -> #VALUE! | J11: =(IF(I11>=8,"giỏi",IF(I11>=7,"Khá",IF(I11>=6,"TB. Khá",IF(I11>=5,"TB","yếu"))))) -> #VALUE!
A12: 7 | B12: Lê Công | C12: Đạt | D12: 36929 | E12: Đồng Minh - Hải Ninh - Tĩnh Gia - Thanh Hóa | F12: =tphk4!P14 -> HL | G12: =tphk4!P77 -> 5.6363636 | H12: =tphk4!P143 -> TL | I12: =(F12*13+G12*4+H12*4)/21 -> #VALUE! | J12: =(IF(I12>=8,"giỏi",IF(I12>=7,"Khá",IF(I12>=6,"TB. Khá",IF(I12>=5,"TB","yếu"))))) -> #VALUE!
A13: 8 | B13: Bùi Văn | C13: Dũng | D13: 16.09.2000 | E13: Hải Hà - Tĩnh Gia - Thanh Hóa | F13: =tphk4!P15 -> 6.3333333 | G13: =tphk4!P78 -> 6.5454545 | H13: =tphk4!P144 -> 5.9090909 | I13: =(F13*13+G13*4+H13*4)/21 -> 6.2929293 | J13: =(IF(I13>=8,"giỏi",IF(I13>=7,"Khá",IF(I13>=6,"TB. Khá",IF(I13>=5,"TB","yếu"))))) -> TB. Khá
A14: 9 | B14: Vũ Trọng | C14: Dương | D14: 10.12.2001 | E14: Hải Nhân - Tĩnh Gia - Thanh Hóa | F14: =tphk4!P16 -> 7.3333333 | G14: =tphk4!P79 -> 6.5454545 | H14: =tphk4!P145 -> 6.2727273 | I14: =(F14*13+G14*4+H14*4)/21 -> 6.981241 | J14: =(IF(I14>=8,"giỏi",IF(I14>=7,"Khá",IF(I14>=6,"TB. Khá",IF(I14>=5,"TB","yếu"))))) -> TB. Khá
A15: 10 | B15: Trương Bá | C15: Hạnh | D15: 37231 | E15: Thôn 10- Tân Trường- Tĩnh Gia- Thanh Hóa | F15: =tphk4!P17 -> HL | G15: =tphk4!P80 -> HL | H15: =tphk4!P146 -> HL | I15: =(F15*13+G15*4+H15*4)/21 -> #VALUE! | J15: =(IF(I15>=8,"giỏi",IF(I15>=7,"Khá",IF(I15>=6,"TB. Khá",IF(I15>=5,"TB","yếu"))))) -> #VALUE!
A16: 11 | B16: Nguyễn Đắc | C16: Hiếu | D16: 19/02/2000 | E16: Thôn 6- Hải Lĩnh-Tĩnh Gia- Thanh Hóa | F16: =tphk4!P18 -> 6.7333333 | G16: =tphk4!P81 -> 5.4545455 | H16: =tphk4!P147 -> 5.3636364 | I16: =(F16*13+G16*4+H16*4)/21 -> 6.22886 | J16: =(IF(I16>=8,"giỏi",IF(I16>=7,"Khá",IF(I16>=6,"TB. Khá",IF(I16>=5,"TB","yếu"))))) -> TB. Khá
A17: 12 | B17: Mai Xuân | C17: Hinh | D17: 37205 | E17: Ninh Sơn- Trường Lâm- Tĩnh Gia- Thanh Hóa | F17: =tphk4!P19 -> HL | G17: =tphk4!P82 -> HL | H17: =tphk4!P148 -> HL | I17: =(F17*13+G17*4+H17*4)/21 -> #VALUE! | J17: =(IF(I17>=8,"giỏi",IF(I17>=7,"Khá",IF(I17>=6,"TB. Khá",IF(I17>=5,"TB","yếu"))))) -> #VALUE!
A18: 13 | B18: Phạm Đình | C18: Hoàng | D18: 13.02.2001 | E18: Nguyên Bình - Tĩnh Gia - Thanh Hóa | F18: =tphk4!P20 -> HL | G18: =tphk4!P83 -> HL | H18: =tphk4!P149 -> HL | I18: =(F18*13+G18*4+H18*4)/21 -> #VALUE! | J18: =(IF(I18>=8,"giỏi",IF(I18>=7,"Khá",IF(I18>=6,"TB. Khá",IF(I18>=5,"TB","yếu"))))) -> #VALUE!
A19: 14 | B19: Lê Văn | C19: Hùng | D19: 09.08.2000 | E19: Bình Minh - Tĩnh Gia - Thanh Hóa | F19: =tphk4!P21 -> 6.5333333 | G19: =tphk4!P84 -> 7.0909091 | H19: =tphk4!P150 -> 5.6363636 | I19: =(F19*13+G19*4+H19*4)/21 -> 6.4686869 | J19: =(IF(I19>=8,"giỏi",IF(I19>=7,"Khá",IF(I19>=6,"TB. Khá",IF(I19>=5,"TB","yếu"))))) -> TB. Khá
A20: 15 | B20: Trương Đình | C20: Hùng | D20: 15.06.2001 | E20: Ninh Hải - Tĩnh Gia - Thanh Hóa | F20: =tphk4!P22 -> 6.5333333 | G20: =tphk4!P85 -> 5.9090909 | H20: =tphk4!P151 -> 6 | I20: =(F20*13+G20*4+H20*4)/21 -> 6.3128427 | J20: =(IF(I20>=8,"giỏi",IF(I20>=7,"Khá",IF(I20>=6,"TB. Khá",IF(I20>=5,"TB","yếu"))))) -> TB. Khá
A21: 16 | B21: Trần Văn | C21: Huy | D21: 24.08.2001 | E21: Tân Trường - Tĩnh Gia - Thanh Hóa | F21: =tphk4!P23 -> HL | G21: =tphk4!P86 -> HL | H21: =tphk4!P152 -> HL | I21: =(F21*13+G21*4+H21*4)/21 -> #VALUE! | J21: =(IF(I21>=8,"giỏi",IF(I21>=7,"Khá",IF(I21>=6,"TB. Khá",IF(I21>=5,"TB","yếu"))))) -> #VALUE!
A22: 17 | B22: Mai Xuân | C22: Huy | D22: 25.10.2001 | E22: Trường Lâm - Tĩnh Gia - Thanh Hóa | F22: =tphk4!P24 -> 5.6 | G22: =tphk4!P87 -> 5.3636364 | H22: =tphk4!P153 -> 6 | I22: =(F22*13+G22*4+H22*4)/21 -> 5.6311688 | J22: =(IF(I22>=8,"giỏi",IF(I22>=7,"Khá",IF(I22>=6,"TB. Khá",IF(I22>=5,"TB","yếu"))))) -> TB
A23: 18 | B23: Lê Vinh | C23: Huy | D23: 36739 | E23: Bản Cát – Mai Lâm – Tĩnh Gia – Thanh Hóa | F23: =tphk4!P25 -> 6.6666667 | G23: =tphk4!P88 -> 8.2727273 | H23: =tphk4!P154 -> 7 | I23: =(F23*13+G23*4+H23*4)/21 -> 7.036075 | J23: =(IF(I23>=8,"giỏi",IF(I23>=7,"Khá",IF(I23>=6,"TB. Khá",IF(I23>=5,"TB","yếu"))))) -> Khá
A24: 19 | B24: Nguyễn Xuân | C24: Lâm | D24: 22.11.2001 | E24: Nguyên Bình - Tĩnh Gia - Thanh Hóa | F24: =tphk4!P26 -> HL | G24: =tphk4!P89 -> HL | H24: =tphk4!P155 -> HL | I24: =(F24*13+G24*4+H24*4)/21 -> #VALUE! | J24: =(IF(I24>=8,"giỏi",IF(I24>=7,"Khá",IF(I24>=6,"TB. Khá",IF(I24>=5,"TB","yếu"))))) -> #VALUE!
A25: 20 | B25: Phạm Nhật | C25: Linh | D25: 02.05.2001 | E25: Hải Ninh - Tĩnh Gia - Thanh Hóa | F25: =tphk4!P27 -> HL | G25: =tphk4!P90 -> HL | H25: =tphk4!P156 -> HL | I25: =(F25*13+G25*4+H25*4)/21 -> #VALUE! | J25: =(IF(I25>=8,"giỏi",IF(I25>=7,"Khá",IF(I25>=6,"TB. Khá",IF(I25>=5,"TB","yếu"))))) -> #VALUE!
A26: 21 | B26: Lê Văn | C26: Long | D26: 27.04.2001 | E26: Hải Thanh - Tĩnh Gia - Thanh Hóa | F26: =tphk4!P28 -> TL | G26: =tphk4!P91 -> HL | H26: =tphk4!P157 -> HL | I26: =(F26*13+G26*4+H26*4)/21 -> #VALUE! | J26: =(IF(I26>=8,"giỏi",IF(I26>=7,"Khá",IF(I26>=6,"TB. Khá",IF(I26>=5,"TB","yếu"))))) -> #VALUE!
A27: 22 | B27: Đồng Xuân | C27: Mạnh | D27: 36923 | E27: Bình Minh- Trường Lâm- Tĩnh Gia- Thanh Hóa | F27: =tphk4!P29 -> HL | G27: =tphk4!P92 -> HL | H27: =tphk4!P158 -> HL | I27: =(F27*13+G27*4+H27*4)/21 -> #VALUE! | J27: =(IF(I27>=8,"giỏi",IF(I27>=7,"Khá",IF(I27>=6,"TB. Khá",IF(I27>=5,"TB","yếu"))))) -> #VALUE!
A28: 23 | B28: Nguyễn Văn | C28: Minh | D28: 18.05.2001 | E28: Thượng Hải - Hải Thanh – Tĩnh Gia – Thanh Hóa | F28: =tphk4!P30 -> 7.4666667 | G28: =tphk4!P93 -> 7 | H28: =tphk4!P159 -> 7.0909091 | I28: =(F28*13+G28*4+H28*4)/21 -> 7.3062049 | J28: =(IF(I28>=8,"giỏi",IF(I28>=7,"Khá",IF(I28>=6,"TB. Khá",IF(I28>=5,"TB","yếu"))))) -> Khá
A29: 24 | B29: Hồ Sĩ | C29: Minh | D29: 10.12.2000 | E29: Phú Sơn - Tĩnh Gia - Thanh Hóa | F29: =tphk4!P31 -> 7.8666667 | G29: =tphk4!P94 -> 7.8181818 | H29: =tphk4!P160 -> 7 | I29: =(F29*13+G29*4+H29*4)/21 -> 7.6923521 | J29: =(IF(I29>=8,"giỏi",IF(I29>=7,"Khá",IF(I29>=6,"TB. Khá",IF(I29>=5,"TB","yếu"))))) -> Khá
A30: 25 | B30: Nguyễn Thị | C30: Mừng | D30: 37014 | E30: Giảng Tín - Trúc Lâm- Tĩnh Gia- Thanh Hóa | F30: =tphk4!P32 -> 7.2666667 | G30: =tphk4!P95 -> 7.4545455 | H30: =tphk4!P161 -> 7.3636364 | I30: =(F30*13+G30*4+H30*4)/21 -> 7.3209235 | J30: =(IF(I30>=8,"giỏi",IF(I30>=7,"Khá",IF(I30>=6,"TB. Khá",IF(I30>=5,"TB","yếu"))))) -> Khá
A31: 26 | B31: Lê Văn | C31: Nam | D31: 23.07.2001 | E31: Nguyên Bình - Tĩnh Gia - Thanh Hóa | F31: =tphk4!P33 -> 8 | G31: =tphk4!P96 -> 6.7272727 | H31: =tphk4!P162 -> 6.4545455 | I31: =(F31*13+G31*4+H31*4)/21 -> 7.4632035 | J31: =(IF(I31>=8,"giỏi",IF(I31>=7,"Khá",IF(I31>=6,"TB. Khá",IF(I31>=5,"TB","yếu"))))) -> Khá
A32: 27 | B32: Lê Văn | C32: Nam | D32: 16.08.2001 | E32: Hải Châu - Tĩnh Gia - Thanh Hóa | F32: =tphk4!P34 -> 8 | G32: =tphk4!P97 -> 7.2727273 | H32: =tphk4!P163 -> 5.9090909 | I32: =(F32*13+G32*4+H32*4)/21 -> 7.4632035 | J32: =(IF(I32>=8,"giỏi",IF(I32>=7,"Khá",IF(I32>=6,"TB. Khá",IF(I32>=5,"TB","yếu"))))) -> Khá
A33: 28 | B33: Ngô Khải | C33: Phong | D33: 15.08.2001 | E33: Hải Thanh - Tĩnh Gia - Thanh Hóa | F33: =tphk4!P35 -> 7 | G33: =tphk4!P98 -> 7.0909091 | H33: =tphk4!P164 -> 7.1818182 | I33: =(F33*13+G33*4+H33*4)/21 -> 7.0519481 | J33: =(IF(I33>=8,"giỏi",IF(I33>=7,"Khá",IF(I33>=6,"TB. Khá",IF(I33>=5,"TB","yếu"))))) -> Khá
A34: 29 | B34: Đỗ Ngọc | C34: Sơn | D34: 21.11.2000 | E34: Hoa Lư - Ninh Bình | F34: =tphk4!P36 -> HL | G34: =tphk4!P99 -> HL | H34: =tphk4!P165 -> 0 | I34: =(F34*13+G34*4+H34*4)/21 -> #VALUE! | J34: =(IF(I34>=8,"giỏi",IF(I34>=7,"Khá",IF(I34>=6,"TB. Khá",IF(I34>=5,"TB","yếu"))))) -> #VALUE!
A35: 30 | B35: Hoàng Văn | C35: Thái | D35: 25/4/2001 | E35: Đại Tiến- Ninh Hải- Tĩnh Gia- Thanh Hóa | F35: =tphk4!P37 -> 8.3333333 | G35: =tphk4!P100 -> 8.1818182 | H35: =tphk4!P166 -> 7 | I35: =(F35*13+G35*4+H35*4)/21 -> 8.0505051 | J35: =(IF(I35>=8,"giỏi",IF(I35>=7,"Khá",IF(I35>=6,"TB. Khá",IF(I35>=5,"TB","yếu"))))) -> giỏi
A36: 31 | B36: Lê Doãn | C36: Thái | D36: 18/09/2001 | E36: Thôn 2 - Định Hải - Tĩnh Gia - Thanh Hóa | F36: =tphk4!P38 -> 7.8666667 | G36: =tphk4!P101 -> 8 | H36: =tphk4!P167 -> 7.2727273 | I36: =(F36*13+G36*4+H36*4)/21 -> 7.7789322 | J36: =(IF(I36>=8,"giỏi",IF(I36>=7,"Khá",IF(I36>=6,"TB. Khá",IF(I36>=5,"TB","yếu"))))) -> Khá
A37: 32 | B37: Lê Hữu | C37: Thành | D37: 37231 | E37: Thống Nhất- Ninh Hải- Tĩnh Gia- Thanh Hóa | F37: =tphk4!P39 -> 8 | G37: =tphk4!P102 -> 7.3636364 | H37: =tphk4!P168 -> 7.2727273 | I37: =(F37*13+G37*4+H37*4)/21 -> 7.7402597 | J37: =(IF(I37>=8,"giỏi",IF(I37>=7,"Khá",IF(I37>=6,"TB. Khá",IF(I37>=5,"TB","yếu"))))) -> Khá
A38: 33 | B38: Mai Xuân | C38: Thiện | D38: 10.07.2001 | E38: Ninh Hải - Tĩnh Gia - Thanh Hóa | F38: =tphk4!P40 -> 8 | G38: =tphk4!P103 -> 6.9090909 | H38: =tphk4!P169 -> 6.8181818 | I38: =(F38*13+G38*4+H38*4)/21 -> 7.5670996 | J38: =(IF(I38>=8,"giỏi",IF(I38>=7,"Khá",IF(I38>=6,"TB. Khá",IF(I38>=5,"TB","yếu"))))) -> Khá
A39: 34 | B39: Lê Đình | C39: Tình | D39: 08.04.2001 | E39: Trường Lâm - Tĩnh Gia - Thanh Hóa | F39: =tphk4!P41 -> HL | G39: =tphk4!P104 -> HL | H39: =tphk4!P170 -> HL | I39: =(F39*13+G39*4+H39*4)/21 -> #VALUE! | J39: =(IF(I39>=8,"giỏi",IF(I39>=7,"Khá",IF(I39>=6,"TB. Khá",IF(I39>=5,"TB","yếu"))))) -> #VALUE!
A40: 35 | B40: Đậu Xuân | C40: Toàn | D40: 13/08/2001 | E40: Trường Thanh- Trường Lâm- Tĩnh Gia- Thanh Hóa | F40: =tphk4!P42 -> HL | G40: =tphk4!P105 -> HL | H40: =tphk4!P171 -> HL | I40: =(F40*13+G40*4+H40*4)/21 -> #VALUE! | J40: =(IF(I40>=8,"giỏi",IF(I40>=7,"Khá",IF(I40>=6,"TB. Khá",IF(I40>=5,"TB","yếu"))))) -> #VALUE!
A41: 36 | B41: Nguyễn Như | C41: Trọng | D41: 26/06/2001 | E41: Thôn 9- Tân Trường- Tĩnh Gia- Thanh Hóa | F41: =tphk4!P43 -> 7.8666667 | G41: =tphk4!P106 -> 7.3636364 | H41: =tphk4!P172 -> 6.1818182 | I41: =(F41*13+G41*4+H41*4)/21 -> 7.4499278 | J41: =(IF(I41>=8,"giỏi",IF(I41>=7,"Khá",IF(I41>=6,"TB. Khá",IF(I41>=5,"TB","yếu"))))) -> Khá
A42: 37 | B42: Lê Văn | C42: Trọng | D42: 15.07.1999 | E42: Tân Trường - Tĩnh Gia - Thanh Hóa | F42: =tphk4!P44 -> 7 | G42: =tphk4!P107 -> 7.0909091 | H42: =tphk4!P173 -> 6.4545455 | I42: =(F42*13+G42*4+H42*4)/21 -> 6.9134199 | J42: =(IF(I42>=8,"giỏi",IF(I42>=7,"Khá",IF(I42>=6,"TB. Khá",IF(I42>=5,"TB","yếu"))))) -> TB. Khá
A43: 38 | B43: Lê Kim | C43: Trường | D43: 37014 | E43: Thôn 3- Hải An- Tĩnh Gia- Thanh Hóa | F43: =tphk4!P45 -> 6.3333333 | G43: =tphk4!P108 -> 6.7272727 | H43: =tphk4!P174 -> 6.1818182 | I43: =(F43*13+G43*4+H43*4)/21 -> 6.3795094 | J43: =(IF(I43>=8,"giỏi",IF(I43>=7,"Khá",IF(I43>=6,"TB. Khá",IF(I43>=5,"TB","yếu"))))) -> TB. Khá
A44: 39 | B44: Nguyễn Văn | C44: Trưởng | D44: 25.04.2001 | E44: Trường Lâm - Tĩnh Gia - Thanh Hóa | F44: =tphk4!P46 -> HL | G44: =tphk4!P109 -> HL | H44: =tphk4!P175 -> HL | I44: =(F44*13+G44*4+H44*4)/21 -> #VALUE! | J44: =(IF(I44>=8,"giỏi",IF(I44>=7,"Khá",IF(I44>=6,"TB. Khá",IF(I44>=5,"TB","yếu"))))) -> #VALUE!
A45: 40 | B45: Lê Văn | C45: Tuân | D45: 21.09.2001 | E45: Ninh Hải - Tĩnh Gia - Thanh Hóa | F45: =tphk4!P47 -> 8.1333333 | G45: =tphk4!P110 -> 7.1818182 | H45: =tphk4!P176 -> 6 | I45: =(F45*13+G45*4+H45*4)/21 -> 7.5457431 | J45: =(IF(I45>=8,"giỏi",IF(I45>=7,"Khá",IF(I45>=6,"TB. Khá",IF(I45>=5,"TB","yếu"))))) -> Khá
A46: 41 | B46: Phạm Văn | C46: Tuấn | D46: 37175 | E46: Thanh Biình- Hải Ninh- Tĩnh Gia- Thanh Hóa | F46: =tphk4!P48 -> 5 | G46: =tphk4!P111 -> 5.3636364 | H46: =tphk4!P177 -> 5.8181818 | I46: =(F46*13+G46*4+H46*4)/21 -> 5.2251082 | J46: =(IF(I46>=8,"giỏi",IF(I46>=7,"Khá",IF(I46>=6,"TB. Khá",IF(I46>=5,"TB","yếu"))))) -> TB
A47: 42 | B47: Lê Thị | C47: Tuyết | D47: 20.10.2001 | E47: Trung tâm hy vọng - Tĩnh Gia - Thanh Hóa | F47: =tphk4!P49 -> 8.6 | G47: =tphk4!P112 -> 7.1818182 | H47: =tphk4!P178 -> 6.6363636 | I47: =(F47*13+G47*4+H47*4)/21 -> 7.9558442 | J47: =(IF(I47>=8,"giỏi",IF(I47>=7,"Khá",IF(I47>=6,"TB. Khá",IF(I47>=5,"TB","yếu"))))) -> Khá
A48: 43 | B48: Mai Huy | C48: Việt | D48: 15/2/2000 | E48: TK2- TT Tĩnh Gia- Thanh Hóa | F48: =tphk4!P50 -> 7.6666667 | G48: =tphk4!P113 -> 7.0909091 | H48: =tphk4!P179 -> 7.2727273 | I48: =(F48*13+G48*4+H48*4)/21 -> 7.4819625 | J48: =(IF(I48>=8,"giỏi",IF(I48>=7,"Khá",IF(I48>=6,"TB. Khá",IF(I48>=5,"TB","yếu"))))) -> Khá
A49: 44 | B49: Lê Xuân | C49: Vinh | D49: 22.02.2001 | E49: Nguyên Bình - Tĩnh Gia - Thanh Hóa | F49: =tphk4!P51 -> 5.4 | G49: =tphk4!P114 -> 6 | H49: =tphk4!P180 -> 5.4545455 | I49: =(F49*13+G49*4+H49*4)/21 -> 5.5246753 | J49: =(IF(I49>=8,"giỏi",IF(I49>=7,"Khá",IF(I49>=6,"TB. Khá",IF(I49>=5,"TB","yếu"))))) -> TB
A50: 45 | B50: Đỗ Tuấn | C50: Vương | D50: 03.01.2001 | E50: Trường Lâm - Tĩnh Gia - Thanh Hóa | F50: =tphk4!P52 -> 8.4 | G50: =tphk4!P115 -> 6.7272727 | H50: =tphk4!P181 -> 6.5454545 | I50: =(F50*13+G50*4+H50*4)/21 -> 7.7281385 | J50: =(IF(I50>=8,"giỏi",IF(I50>=7,"Khá",IF(I50>=6,"TB. Khá",IF(I50>=5,"TB","yếu"))))) -> Khá
A51: 46 | B51: Nguyễn Bá Trần | C51: Danh | F51: =tphk4!P53 -> HL | G51: =tphk4!P116 -> HL | H51: =tphk4!P182 -> HL | I51: =(F51*13+G51*4+H51*4)/21 -> #VALUE! | J51: =(IF(I51>=8,"giỏi",IF(I51>=7,"Khá",IF(I51>=6,"TB. Khá",IF(I51>=5,"TB","yếu"))))) -> #VALUE!
A52: 47 | B52: Nguyễn Đình | C52: Nhật | F52: =tphk4!P54 -> 8.2666667 | G52: =tphk4!P117 -> 8 | H52: =tphk4!P183 -> 7.2727273 | I52: =(F52*13+G52*4+H52*4)/21 -> 8.0265512 | J52: =(IF(I52>=8,"giỏi",IF(I52>=7,"Khá",IF(I52>=6,"TB. Khá",IF(I52>=5,"TB","yếu"))))) -> giỏi
A53: 48 | B53: Nguyễn Xuân | C53: Đức | F53: =tphk4!P55 -> 5.4666667 | G53: =tphk4!P118 -> 5.1818182 | H53: =tphk4!P184 -> 6.0909091 | I53: =(F53*13+G53*4+H53*4)/21 -> 5.5313131 | J53: =(IF(I53>=8,"giỏi",IF(I53>=7,"Khá",IF(I53>=6,"TB. Khá",IF(I53>=5,"TB","yếu"))))) -> TB
A54: 49 | B54: Bùi Quốc | C54: Cường | F54: =tphk4!P56 -> 5.8 | G54: =tphk4!P119 -> 5 | H54: =tphk4!P185 -> 6.0909091 | I54: =(F54*13+G54*4+H54*4)/21 -> 5.7030303 | J54: =(IF(I54>=8,"giỏi",IF(I54>=7,"Khá",IF(I54>=6,"TB. Khá",IF(I54>=5,"TB","yếu"))))) -> TB
A55: 50 | B55: Nguyễn Tuấn | C55: Hưng | F55: =tphk4!P57 -> 0 | G55: =tphk4!P120 -> 0 | H55: =tphk4!P186 -> 5.7272727 | I55: =(F55*13+G55*4+H55*4)/21 -> 1.0909091 | J55: =(IF(I55>=8,"giỏi",IF(I55>=7,"Khá",IF(I55>=6,"TB. Khá",IF(I55>=5,"TB","yếu"))))) -> yếu
A56: 51 | B56: Nguyễn Văn Tuấn | C56: Anh | F56: =tphk4!P58 -> 0 | G56: =tphk4!P121 -> 0 | H56: =tphk4!P187 -> TL | I56: =(F56*13+G56*4+H56*4)/21 -> #VALUE! | J56: =(IF(I56>=8,"giỏi",IF(I56>=7,"Khá",IF(I56>=6,"TB. Khá",IF(I56>=5,"TB","yếu"))))) -> #VALUE!
A57: 52 | B57: Cao Ngọc | C57: Hoàng | F57: =tphk4!P59 -> 0 | G57: =tphk4!P122 -> 0 | H57: =tphk4!P188 -> 5.7272727 | I57: =(F57*13+G57*4+H57*4)/21 -> 1.0909091 | J57: =(IF(I57>=8,"giỏi",IF(I57>=7,"Khá",IF(I57>=6,"TB. Khá",IF(I57>=5,"TB","yếu"))))) -> yếu
A58: 53 | B58: Nguyễn Văn | C58: Anh | F58: =tphk4!P60 -> 5.8666667 | G58: =tphk4!P123 -> 5.6363636 | H58: =tphk4!P189 -> 5.7272727 | I58: =(F58*13+G58*4+H58*4)/21 -> 5.7962482 | J58: =(IF(I58>=8,"giỏi",IF(I58>=7,"Khá",IF(I58>=6,"TB. Khá",IF(I58>=5,"TB","yếu"))))) -> TB

Sheet học bổng >7.0
A1: ĐiỂM TỔNG KẾT HỌC KỲ II NĂM HỌC 201 7 -2018
A2: LỚP Đ8B1
A4: TT | B4: Họ và tên | D4: Ngày Sinh | E4: Nơi Sinh | F4: =tphk4!P6 -> Máy điện | G4: =tphk4!P69 -> Điện tử công suất | H4: =tphk4!P135 -> Cung cấp điện | I4: TỔNG KẾT
F5: =tphk4!P7 -> 13 | G5: =tphk4!P70 -> 4 | H5: =tphk4!P136 -> 4 | I5: =SUM(F5:H5) -> 21
A6: 1 | B6: Nguyễn Thế | C6: Ánh | D6: 05.10.2001 | E6: Đội 1- Nguyên Bình- Tĩnh Gia - Thanh Hóa | F6: =tphk4!P8 -> 7.0666667 | G6: =tphk4!P71 -> 7.5454545 | H6: =tphk4!P137 -> 6.0909091 | I6: =(F6*13+G6*4+H6*4)/21 -> 6.9720058
A7: 4 | B7: Lê Đức | C7: Chung | D7: 37142 | E7: Đông Hải - Hải Hòa- Tĩnh Gia - Thanh Hóa | F7: =tphk4!P11 -> 7 | G7: =tphk4!P74 -> 7.8181818 | H7: =tphk4!P140 -> 7.2727273 | I7: =(F7*13+G7*4+H7*4)/21 -> 7.2077922
A8: 5 | B8: Lê Văn | C8: Cương | D8: 16/10/2000 | E8: Hữu Nam– Mai Lâm – Tĩnh Gia – Thanh Hóa | F8: =tphk4!P12 -> 7.6 | G8: =tphk4!P75 -> 7.5454545 | H8: =tphk4!P141 -> 6.8181818 | I8: =(F8*13+G8*4+H8*4)/21 -> 7.4406926
A9: 18 | B9: Lê Vinh | C9: Huy | D9: 36739 | E9: Bản Cát – Mai Lâm – Tĩnh Gia – Thanh Hóa | F9: =tphk4!P25 -> 6.6666667 | G9: =tphk4!P88 -> 8.2727273 | H9: =tphk4!P154 -> 7 | I9: =(F9*13+G9*4+H9*4)/21 -> 7.036075
A10: 23 | B10: Nguyễn Văn | C10: Minh | D10: 18.05.2001 | E10: Thượng Hải - Hải Thanh – Tĩnh Gia – Thanh Hóa | F10: =tphk4!P30 -> 7.4666667 | G10: =tphk4!P93 -> 7 | H10: =tphk4!P159 -> 7.0909091 | I10: =(F10*13+G10*4+H10*4)/21 -> 7.3062049
A11: 24 | B11: Hồ Sĩ | C11: Minh | D11: 10.12.2000 | E11: Phú Sơn - Tĩnh Gia - Thanh Hóa | F11: =tphk4!P31 -> 7.8666667 | G11: =tphk4!P94 -> 7.8181818 | H11: =tphk4!P160 -> 7 | I11: =(F11*13+G11*4+H11*4)/21 -> 7.6923521
A12: 25 | B12: Nguyễn Thị | C12: Mừng | D12: 37014 | E12: Giảng Tín - Trúc Lâm- Tĩnh Gia- Thanh Hóa | F12: =tphk4!P32 -> 7.2666667 | G12: =tphk4!P95 -> 7.4545455 | H12: =tphk4!P161 -> 7.3636364 | I12: =(F12*13+G12*4+H12*4)/21 -> 7.3209235
A13: 26 | B13: Lê Văn | C13: Nam | D13: 23.07.2001 | E13: Nguyên Bình - Tĩnh Gia - Thanh Hóa | F13: =tphk4!P33 -> 8 | G13: =tphk4!P96 -> 6.7272727 | H13: =tphk4!P162 -> 6.4545455 | I13: =(F13*13+G13*4+H13*4)/21 -> 7.4632035
A14: 27 | B14: Lê Văn | C14: Nam | D14: 16.08.2001 | E14: Hải Châu - Tĩnh Gia - Thanh Hóa | F14: =tphk4!P34 -> 8 | G14: =tphk4!P97 -> 7.2727273 | H14: =tphk4!P163 -> 5.9090909 | I14: =(F14*13+G14*4+H14*4)/21 -> 7.4632035
A15: 28 | B15: Ngô Khải | C15: Phong | D15: 15.08.2001 | E15: Hải Thanh - Tĩnh Gia - Thanh Hóa | F15: =tphk4!P35 -> 7 | G15: =tphk4!P98 -> 7.0909091 | H15: =tphk4!P164 -> 7.1818182 | I15: =(F15*13+G15*4+H15*4)/21 -> 7.0519481
A16: 30 | B16: Hoàng Văn | C16: Thái | D16: 25/4/2001 | E16: Đại Tiến- Ninh Hải- Tĩnh Gia- Thanh Hóa | F16: =tphk4!P37 -> 8.3333333 | G16: =tphk4!P100 -> 8.1818182 | H16: =tphk4!P166 -> 7 | I16: =(F16*13+G16*4+H16*4)/21 -> 8.0505051
A17: 31 | B17: Lê Doãn | C17: Thái | D17: 18/09/2001 | E17: Thôn 2 - Định Hải - Tĩnh Gia - Thanh Hóa | F17: =tphk4!P38 -> 7.8666667 | G17: =tphk4!P101 -> 8 | H17: =tphk4!P167 -> 7.2727273 | I17: =(F17*13+G17*4+H17*4)/21 -> 7.7789322
A18: 32 | B18: Lê Hữu | C18: Thành | D18: 37231 | E18: Thống Nhất- Ninh Hải- Tĩnh Gia- Thanh Hóa | F18: =tphk4!P39 -> 8 | G18: =tphk4!P102 -> 7.3636364 | H18: =tphk4!P168 -> 7.2727273 | I18: =(F18*13+G18*4+H18*4)/21 -> 7.7402597
A19: 33 | B19: Mai Xuân | C19: Thiện | D19: 10.07.2001 | E19: Ninh Hải - Tĩnh Gia - Thanh Hóa | F19: =tphk4!P40 -> 8 | G19: =tphk4!P103 -> 6.9090909 | H19: =tphk4!P169 -> 6.8181818 | I19: =(F19*13+G19*4+H19*4)/21 -> 7.5670996
A20: 36 | B20: Nguyễn Như | C20: Trọng | D20: 26/06/2001 | E20: Thôn 9- Tân Trường- Tĩnh Gia- Thanh Hóa | F20: =tphk4!P43 -> 7.8666667 | G20: =tphk4!P106 -> 7.3636364 | H20: =tphk4!P172 -> 6.1818182 | I20: =(F20*13+G20*4+H20*4)/21 -> 7.4499278
A21: 40 | B21: Lê Văn | C21: Tuân | D21: 21.09.2001 | E21: Ninh Hải - Tĩnh Gia - Thanh Hóa | F21: =tphk4!P47 -> 8.1333333 | G21: =tphk4!P110 -> 7.1818182 | H21: =tphk4!P176 -> 6 | I21: =(F21*13+G21*4+H21*4)/21 -> 7.5457431
A22: 42 | B22: Lê Thị | C22: Tuyết | D22: 20.10.2001 | E22: Trung tâm hy vọng - Tĩnh Gia - Thanh Hóa | F22: =tphk4!P49 -> 8.6 | G22: =tphk4!P112 -> 7.1818182 | H22: =tphk4!P178 -> 6.6363636 | I22: =(F22*13+G22*4+H22*4)/21 -> 7.9558442
A23: 43 | B23: Mai Huy | C23: Việt | D23: 15/2/2000 | E23: TK2- TT Tĩnh Gia- Thanh Hóa | F23: =tphk4!P50 -> 7.6666667 | G23: =tphk4!P113 -> 7.0909091 | H23: =tphk4!P179 -> 7.2727273 | I23: =(F23*13+G23*4+H23*4)/21 -> 7.4819625
A24: 45 | B24: Đỗ Tuấn | C24: Vương | D24: 03.01.2001 | E24: Trường Lâm - Tĩnh Gia - Thanh Hóa | F24: =tphk4!P52 -> 8.4 | G24: =tphk4!P115 -> 6.7272727 | H24: =tphk4!P181 -> 6.5454545 | I24: =(F24*13+G24*4+H24*4)/21 -> 7.7281385
A25: 47 | B25: Nguyễn Đình | C25: Nhật | F25: =tphk4!P54 -> 8.2666667 | G25: =tphk4!P117 -> 8 | H25: =tphk4!P183 -> 7.2727273 | I25: =(F25*13+G25*4+H25*4)/21 -> 8.0265512

Sheet cả năm
A1: ĐiỂM TỔNG KẾT HỌC KỲ I NĂM HỌC 201 7 -2018
A2: LỚP Đ8B1
A4: TT | B4: Họ và tên | D4: Ngày Sinh | E4: Nơi Sinh | F4: =tphk3!P6 -> Điện khí nén | G4: =tphk3!P67 -> Thiết bị điện gia dụng | H4: HK1 | I4: hk2 | J4: CẢ NĂM
F5: =tphk3!P7 -> 6 | G5: =tphk3!P68 -> 5 | H5: =SUM(F5:G5) -> 11
A6: 1 | B6: Nguyễn Thế | C6: Ánh | D6: 05.10.2001 | E6: Đội 1- Nguyên Bình- Tĩnh Gia - Thanh Hóa | F6: =tphk3!P8 -> 7 | G6: =tphk3!P69 -> 8 | H6: =(F6*6+G6*5)/11 -> 7.4545455 | I6: 6.9720058 | J6: =(H6+I6)/2 -> 7.2132756
A7: 4 | B7: Lê Đức | C7: Chung | D7: 37142 | E7: Đông Hải - Hải Hòa- Tĩnh Gia - Thanh Hóa | F7: =tphk3!P11 -> 8.1818182 | G7: =tphk3!P72 -> 8 | H7: =(F7*6+G7*5)/11 -> 8.0991736 | I7: 7.2077922 | J7: =(H7+I7)/2 -> 7.6534829
A8: 5 | B8: Lê Văn | C8: Cương | D8: 16/10/2000 | E8: Hữu Nam– Mai Lâm – Tĩnh Gia – Thanh Hóa | F8: =tphk3!P12 -> 7.7272727 | G8: =tphk3!P73 -> 7 | H8: =(F8*6+G8*5)/11 -> 7.3966942 | I8: 7.4406926 | J8: =(H8+I8)/2 -> 7.4186934
A9: 18 | B9: Lê Vinh | C9: Huy | D9: 36739 | E9: Bản Cát – Mai Lâm – Tĩnh Gia – Thanh Hóa | F9: =tphk3!P25 -> 8.3636364 | G9: =tphk3!P86 -> 7 | H9: =(F9*6+G9*5)/11 -> 7.7438017 | I9: 7.036075 | J9: =(H9+I9)/2 -> 7.3899383
A10: 23 | B10: Nguyễn Văn | C10: Minh | D10: 18.05.2001 | E10: Thượng Hải - Hải Thanh – Tĩnh Gia – Thanh Hóa | F10: =tphk3!P30 -> 8.3636364 | G10: =tphk3!P91 -> 7.6363636 | H10: =(F10*6+G10*5)/11 -> 8.0330579 | I10: 7.3062049 | J10: =(H10+I10)/2 -> 7.6696314
A11: 24 | B11: Hồ Sĩ | C11: Minh | D11: 10.12.2000 | E11: Phú Sơn - Tĩnh Gia - Thanh Hóa | F11: =tphk3!P31 -> 8.5454545 | G11: =tphk3!P92 -> 8.4545455 | H11: =(F11*6+G11*5)/11 -> 8.5041322 | I11: 7.6923521 | J11: =(H11+I11)/2 -> 8.0982422
A12: 25 | B12: Nguyễn Thị | C12: Mừng | D12: 37014 | E12: Giảng Tín - Trúc Lâm- Tĩnh Gia- Thanh Hóa | F12: =tphk3!P32 -> 8 | G12: =tphk3!P93 -> 7.1818182 | H12: =(F12*6+G12*5)/11 -> 7.6280992 | I12: 7.3209235 | J12: =(H12+I12)/2 -> 7.4745113
A13: 26 | B13: Lê Văn | C13: Nam | D13: 23.07.2001 | E13: Nguyên Bình - Tĩnh Gia - Thanh Hóa | F13: =tphk3!P33 -> 8 | G13: =tphk3!P94 -> 6.1818182 | H13: =(F13*6+G13*5)/11 -> 7.1735537 | I13: 7.4632035 | J13: =(H13+I13)/2 -> 7.3183786
A14: 27 | B14: Lê Văn | C14: Nam | D14: 16.08.2001 | E14: Hải Châu - Tĩnh Gia - Thanh Hóa | F14: =tphk3!P34 -> 7.1818182 | G14: =tphk3!P95 -> 7 | H14: =(F14*6+G14*5)/11 -> 7.0991736 | I14: 7.4632035 | J14: =(H14+I14)/2 -> 7.2811885
A15: 28 | B15: Ngô Khải | C15: Phong | D15: 15.08.2001 | E15: Hải Thanh - Tĩnh Gia - Thanh Hóa | F15: =tphk3!P35 -> 8.1818182 | G15: =tphk3!P96 -> 8 | H15: =(F15*6+G15*5)/11 -> 8.0991736 | I15: 7.0519481 | J15: =(H15+I15)/2 -> 7.5755608
A16: 30 | B16: Hoàng Văn | C16: Thái | D16: 25/4/2001 | E16: Đại Tiến- Ninh Hải- Tĩnh Gia- Thanh Hóa | F16: =tphk3!P37 -> 7.6363636 | G16: =tphk3!P98 -> 7.6363636 | H16: =(F16*6+G16*5)/11 -> 7.6363636 | I16: 8.0505051 | J16: =(H16+I16)/2 -> 7.8434343
A17: 31 | B17: Lê Doãn | C17: Thái | D17: 18/09/2001 | E17: Thôn 2 - Định Hải - Tĩnh Gia - Thanh Hóa | F17: =tphk3!P38 -> 8.5454545 | G17: =tphk3!P99 -> 8.1818182 | H17: =(F17*6+G17*5)/11 -> 8.3801653 | I17: 7.7789322 | J17: =(H17+I17)/2 -> 8.0795487
A18: 32 | B18: Lê Hữu | C18: Thành | D18: 37231 | E18: Thống Nhất- Ninh Hải- Tĩnh Gia- Thanh Hóa | F18: =tphk3!P39 -> 7.3636364 | G18: =tphk3!P100 -> 7.6363636 | H18: =(F18*6+G18*5)/11 -> 7.4876033 | I18: 7.7402597 | J18: =(H18+I18)/2 -> 7.6139315
A19: 33 | B19: Mai Xuân | C19: Thiện | D19: 10.07.2001 | E19: Ninh Hải - Tĩnh Gia - Thanh Hóa | F19: =tphk3!P40 -> 7.7272727 | G19: =tphk3!P101 -> 7 | H19: =(F19*6+G19*5)/11 -> 7.3966942 | I19: 7.5670996 | J19: =(H19+I19)/2 -> 7.4818969
A20: 36 | B20: Nguyễn Như | C20: Trọng | D20: 26/06/2001 | E20: Thôn 9- Tân Trường- Tĩnh Gia- Thanh Hóa | F20: =tphk3!P43 -> 7.1818182 | G20: =tphk3!P104 -> 7.1818182 | H20: =(F20*6+G20*5)/11 -> 7.1818182 | I20: 7.4499278 | J20: =(H20+I20)/2 -> 7.315873
A21: 40 | B21: Lê Văn | C21: Tuân | D21: 21.09.2001 | E21: Ninh Hải - Tĩnh Gia - Thanh Hóa | F21: =tphk3!P47 -> 7.3636364 | G21: =tphk3!P108 -> 6.6363636 | H21: =(F21*6+G21*5)/11 -> 7.0330579 | I21: 7.5457431 | J21: =(H21+I21)/2 -> 7.2894005
A22: 42 | B22: Lê Thị | C22: Tuyết | D22: 20.10.2001 | E22: Trung tâm hy vọng - Tĩnh Gia - Thanh Hóa | F22: =tphk3!P49 -> 7.8181818 | G22: =tphk3!P110 -> 7 | H22: =(F22*6+G22*5)/11 -> 7.446281 | I22: 7.9558442 | J22: =(H22+I22)/2 -> 7.7010626
A23: 43 | B23: Mai Huy | C23: Việt | D23: 15/2/2000 | E23: TK2- TT Tĩnh Gia- Thanh Hóa | F23: =tphk3!P50 -> 8.3636364 | G23: =tphk3!P111 -> 8 | H23: =(F23*6+G23*5)/11 -> 8.1983471 | I23: 7.4819625 | J23: =(H23+I23)/2 -> 7.8401548
A24: 45 | B24: Đỗ Tuấn | C24: Vương | D24: 03.01.2001 | E24: Trường Lâm - Tĩnh Gia - Thanh Hóa | F24: =tphk3!P52 -> 7.3636364 | G24: =tphk3!P113 -> 7.1818182 | H24: =(F24*6+G24*5)/11 -> 7.2809917 | I24: 7.7281385 | J24: =(H24+I24)/2 -> 7.5045651
A25: 47 | B25: Nguyễn Đình | C25: Nhật | F25: =tphk3!P54 -> 7.3636364 | G25: =tphk3!P115 -> 6.6363636 | H25: =(F25*6+G25*5)/11 -> 7.0330579 | I25: 8.0265512 | J25: =(H25+I25)/2 -> 7.5298045

Sheet tphk5
A1: BẢNG GHI ĐIỂM MÔĐUN / MÔN HỌC
A2: Học Kỳ: I Năm Học 2018- 2019
A3: Khóa: VIII Lớp: Đ8B1
A4: Môn học : Kỹ thuật nguội Số ĐVHT: 60 tiết Ngày thi:
A5: Họ và tên giáo viên: Nguyễn Hoàng Thạch
A6: TT | B6: Họ và tên | D6: Ngày Sinh | E6: Nơi Sinh | F6: HS2 | L6: Kết thúc môn | N6: Tổng kết | P6: Kỹ thuật nguội
L7: L1 | M7: L2 | N7: L1 | O7: L2 | P7: 2
A8: 1 | B8: Nguyễn Thế | C8: Ánh | D8: 05.10.2001 | E8: Đội 1- Nguyên Bình- Tĩnh Gia - Thanh Hóa | F8: 8 | G8: 7 | L8: 7 | N8: =(SUM(F8:G8)*2+L8*3)/7 -> 7.2857143 | P8: =MAX(N8,O8) -> 7.2857143
A9: 2 | B9: Lê Hữu | C9: Chiến | D9: 11.07.2000 | E9: Thị Trấn - Tĩnh Gia - Thanh Hóa | F9: 7 | G9: 8 | L9: 8 | N9: =(SUM(F9:G9)*2+L9*3)/7 -> 7.7142857 | P9: =MAX(N9,O9) -> 7.7142857
A10: 3 | B10: Lê Công | C10: Chính | D10: 16/09/2000 | E10: Đội 16- Nguyên Bình- Tĩnh Gia- Thanh Hóa | F10: 8 | G10: 7 | L10: 7 | N10: =(SUM(F10:G10)*2+L10*3)/7 -> 7.2857143 | P10: =MAX(N10,O10) -> 7.2857143
A11: 4 | B11: Lê Đức | C11: Chung | D11: 37142 | E11: Đông Hải - Hải Hòa- Tĩnh Gia - Thanh Hóa | F11: 8 | G11: 7 | L11: 8 | N11: =(SUM(F11:G11)*2+L11*3)/7 -> 7.7142857 | P11: =MAX(N11,O11) -> 7.7142857
A12: 5 | B12: Lê Văn | C12: Cương | D12: 16/10/2000 | E12: Hữu Nam– Mai Lâm – Tĩnh Gia – Thanh Hóa | F12: 8 | G12: 8 | L12: 8 | N12: =(SUM(F12:G12)*2+L12*3)/7 -> 8 | P12: =MAX(N12,O12) -> 8
A13: 6 | B13: Lê Văn | C13: Đại | P13: HL
A14: 7 | B14: Lê Công | C14: Đạt | D14: 36929 | E14: Đồng Minh - Hải Ninh - Tĩnh Gia - Thanh Hóa | F14: 8 | G14: 7 | L14: 7 | N14: =(SUM(F14:G14)*2+L14*3)/7 -> 7.2857143 | P14: =MAX(N14,O14) -> 7.2857143
A15: 8 | B15: Bùi Văn | C15: Dũng | D15: 16.09.2000 | E15: Hải Hà - Tĩnh Gia - Thanh Hóa | F15: 7 | G15: 8 | L15: 7 | N15: =(SUM(F15:G15)*2+L15*3)/7 -> 7.2857143 | P15: =MAX(N15,O15) -> 7.2857143
A16: 9 | B16: Vũ Trọng | C16: Dương | D16: 10.12.2001 | E16: Hải Nhân - Tĩnh Gia - Thanh Hóa | F16: 8 | G16: 8 | L16: 7 | N16: =(SUM(F16:G16)*2+L16*3)/7 -> 7.5714286 | P16: =MAX(N16,O16) -> 7.5714286
A17: 10 | B17: Trương Bá | C17: Hạnh | D17: 37231 | E17: Thôn 10- Tân Trường- Tĩnh Gia- Thanh Hóa | P17: HL
A18: 11 | B18: Nguyễn Đắc | C18: Hiếu | D18: 19/02/2000 | E18: Thôn 6- Hải Lĩnh-Tĩnh Gia- Thanh Hóa | F18: 8 | G18: 8 | L18: 7 | N18: =(SUM(F18:G18)*2+L18*3)/7 -> 7.5714286 | P18: =MAX(N18,O18) -> 7.5714286
A19: 12 | B19: Mai Xuân | C19: Hinh | P19: HL
A20: 13 | B20: Phạm Đình | C20: Hoàng | P20: HL
A21: 14 | B21: Lê Văn | C21: Hùng | D21: 09.08.2000 | E21: Bình Minh - Tĩnh Gia - Thanh Hóa | F21: 8 | G21: 8 | L21: 7 | N21: =(SUM(F21:G21)*2+L21*3)/7 -> 7.5714286 | P21: =MAX(N21,O21) -> 7.5714286
A22: 15 | B22: Trương Đình | C22: Hùng | D22: 15.06.2001 | E22: Ninh Hải - Tĩnh Gia - Thanh Hóa | F22: 8 | G22: 8 | L22: 7 | N22: =(SUM(F22:G22)*2+L22*3)/7 -> 7.5714286 | P22: =MAX(N22,O22) -> 7.5714286
A23: 16 | B23: Trần Văn | C23: Huy | P23: HL
A24: 17 | B24: Mai Xuân | C24: Huy | D24: 25.10.2001 | E24: Trường Lâm - Tĩnh Gia - Thanh Hóa | F24: 7 | G24: 8 | L24: 8 | N24: =(SUM(F24:G24)*2+L24*3)/7 -> 7.7142857 | P24: =MAX(N24,O24) -> 7.7142857
A25: 18 | B25: Lê Vinh | C25: Huy | D25: 36739 | E25: Bản Cát – Mai Lâm – Tĩnh Gia – Thanh Hóa | F25: 8 | G25: 8 | L25: 8 | N25: =(SUM(F25:G25)*2+L25*3)/7 -> 8 | P25: =MAX(N25,O25) -> 8
A26: 19 | B26: Nguyễn Xuân | C26: Lâm | D26: 22.11.2001 | E26: Nguyên Bình - Tĩnh Gia - Thanh Hóa | P26: HL
A27: 20 | B27: Phạm Nhật | C27: Linh | D27: 02.05.2001 | E27: Hải Ninh - Tĩnh Gia - Thanh Hóa | P27: HL
A28: 21 | B28: Lê Văn | C28: Long | D28: 27.04.2001 | E28: Hải Thanh - Tĩnh Gia - Thanh Hóa | P28: HL
A29: 22 | B29: Đồng Xuân | C29: Mạnh | D29: 36923 | E29: Bình Minh- Trường Lâm- Tĩnh Gia- Thanh Hóa | P29: HL
A30: 23 | B30: Nguyễn Văn | C30: Minh | D30: 18.05.2001 | E30: Thượng Hải - Hải Thanh – Tĩnh Gia – Thanh Hóa | F30: 8 | G30: 7 | L30: 8 | N30: =(SUM(F30:G30)*2+L30*3)/7 -> 7.7142857 | P30: =MAX(N30,O30) -> 7.7142857
A31: 24 | B31: Hồ Sĩ | C31: Minh | D31: 10.12.2000 | E31: Phú Sơn - Tĩnh Gia - Thanh Hóa | F31: 8 | G31: 8 | L31: 8 | N31: =(SUM(F31:G31)*2+L31*3)/7 -> 8 | P31: =MAX(N31,O31) -> 8
A32: 25 | B32: Nguyễn Thị | C32: Mừng | D32: 37014 | E32: Giảng Tín - Trúc Lâm- Tĩnh Gia- Thanh Hóa | F32: 7 | G32: 8 | L32: 8 | N32: =(SUM(F32:G32)*2+L32*3)/7 -> 7.7142857 | P32: =MAX(N32,O32) -> 7.7142857
A33: 26 | B33: Lê Văn | C33: Nam | D33: 23.07.2001 | E33: Nguyên Bình - Tĩnh Gia - Thanh Hóa | F33: 7 | G33: 8 | L33: 7 | N33: =(SUM(F33:G33)*2+L33*3)/7 -> 7.2857143 | P33: =MAX(N33,O33) -> 7.2857143
A34: 27 | B34: Lê Văn | C34: Nam | D34: 16.08.2001 | E34: Hải Châu - Tĩnh Gia - Thanh Hóa | F34: 7 | G34: 8 | L34: 7 | N34: =(SUM(F34:G34)*2+L34*3)/7 -> 7.2857143 | P34: =MAX(N34,O34) -> 7.2857143
A35: 28 | B35: Ngô Khải | C35: Phong | D35: 15.08.2001 | E35: Hải Thanh - Tĩnh Gia - Thanh Hóa | F35: 8 | G35: 7 | L35: 7 | N35: =(SUM(F35:G35)*2+L35*3)/7 -> 7.2857143 | P35: =MAX(N35,O35) -> 7.2857143
A36: 29 | B36: Đỗ Ngọc | C36: Sơn | D36: 21.11.2000 | E36: Hoa Lư - Ninh Bình | P36: HL
A37: 30 | B37: Hoàng Văn | C37: Thái | D37: 25/4/2001 | E37: Đại Tiến- Ninh Hải- Tĩnh Gia- Thanh Hóa | F37: 6 | G37: 7 | L37: 7 | N37: =(SUM(F37:G37)*2+L37*3)/7 -> 6.7142857 | P37: =MAX(N37,O37) -> 6.7142857
A38: 31 | B38: Lê Doãn | C38: Thái | D38: 18/09/2001 | E38: Thôn 2 - Định Hải - Tĩnh Gia - Thanh Hóa | F38: 7 | G38: 8 | L38: 7 | N38: =(SUM(F38:G38)*2+L38*3)/7 -> 7.2857143 | P38: =MAX(N38,O38) -> 7.2857143
A39: 32 | B39: Lê Hữu | C39: Thành | D39: 37231 | E39: Thống Nhất- Ninh Hải- Tĩnh Gia- Thanh Hóa | F39: 8 | G39: 8 | L39: 7 | N39: =(SUM(F39:G39)*2+L39*3)/7 -> 7.5714286 | P39: =MAX(N39,O39) -> 7.5714286
A40: 33 | B40: Mai Xuân | C40: Thiện | D40: 10.07.2001 | E40: Ninh Hải - Tĩnh Gia - Thanh Hóa | F40: 8 | G40: 7 | L40: 7 | N40: =(SUM(F40:G40)*2+L40*3)/7 -> 7.2857143 | P40: =MAX(N40,O40) -> 7.2857143
A41: 34 | B41: Lê Đình | C41: Tình | D41: 08.04.2001 | E41: Trường Lâm - Tĩnh Gia - Thanh Hóa | P41: HL
A42: 35 | B42: Đậu Xuân | C42: Toàn | D42: 13/08/2001 | E42: Trường Thanh- Trường Lâm- Tĩnh Gia- Thanh Hóa | P42: HL
A43: 36 | B43: Nguyễn Như | C43: Trọng | D43: 26/06/2001 | E43: Thôn 9- Tân Trường- Tĩnh Gia- Thanh Hóa | F43: 8 | G43: 7 | L43: 8 | N43: =(SUM(F43:G43)*2+L43*3)/7 -> 7.7142857 | P43: =MAX(N43,O43) -> 7.7142857
A44: 37 | B44: Lê Văn | C44: Trọng | D44: 15.07.1999 | E44: Tân Trường - Tĩnh Gia - Thanh Hóa | F44: 8 | G44: 7 | L44: 7 | N44: =(SUM(F44:G44)*2+L44*3)/7 -> 7.2857143 | P44: =MAX(N44,O44) -> 7.2857143
A45: 38 | B45: Lê Kim | C45: Trường | D45: 37014 | E45: Thôn 3- Hải An- Tĩnh Gia- Thanh Hóa | F45: 7 | G45: 8 | L45: 7 | N45: =(SUM(F45:G45)*2+L45*3)/7 -> 7.2857143 | P45: =MAX(N45,O45) -> 7.2857143
A46: 39 | B46: Nguyễn Văn | C46: Trưởng | D46: 25.04.2001 | E46: Trường Lâm - Tĩnh Gia - Thanh Hóa | P46: HL
A47: 40 | B47: Lê Văn | C47: Tuân | D47: 21.09.2001 | E47: Ninh Hải - Tĩnh Gia - Thanh Hóa | F47: 8 | G47: 8 | L47: 7 | N47: =(SUM(F47:G47)*2+L47*3)/7 -> 7.5714286 | P47: =MAX(N47,O47) -> 7.5714286
A48: 41 | B48: Phạm Văn | C48: Tuấn | D48: 37175 | E48: Thanh Biình- Hải Ninh- Tĩnh Gia- Thanh Hóa | F48: 8 | G48: 7 | L48: 7 | N48: =(SUM(F48:G48)*2+L48*3)/7 -> 7.2857143 | P48: =MAX(N48,O48) -> 7.2857143
A49: 42 | B49: Lê Thị | C49: Tuyết | D49: 20.10.2001 | E49: Trung tâm hy vọng - Tĩnh Gia - Thanh Hóa | F49: 7 | G49: 8 | L49: 7 | N49: =(SUM(F49:G49)*2+L49*3)/7 -> 7.2857143 | P49: =MAX(N49,O49) -> 7.2857143
A50: 43 | B50: Mai Huy | C50: Việt | D50: 15/2/2000 | E50: TK2- TT Tĩnh Gia- Thanh Hóa | F50: 8 | G50: 8 | L50: 8 | N50: =(SUM(F50:G50)*2+L50*3)/7 -> 8 | P50: =MAX(N50,O50) -> 8
A51: 44 | B51: Lê Xuân | C51: Vinh | D51: 22.02.2001 | E51: Nguyên Bình - Tĩnh Gia - Thanh Hóa | F51: 6 | G51: 7 | L51: 7 | N51: =(SUM(F51:G51)*2+L51*3)/7 -> 6.7142857 | P51: =MAX(N51,O51) -> 6.7142857
A52: 45 | B52: Đỗ Tuấn | C52: Vương | D52: 03.01.2001 | E52: Trường Lâm - Tĩnh Gia - Thanh Hóa | F52: 8 | G52: 8 | L52: 8 | N52: =(SUM(F52:G52)*2+L52*3)/7 -> 8 | P52: =MAX(N52,O52) -> 8
A53: 46 | B53: Nguyễn Bá Trần | C53: Danh | P53: HL
A54: 47 | B54: Nguyễn Đình | C54: Nhật | F54: 8 | G54: 7 | L54: 8 | N54: =(SUM(F54:G54)*2+L54*3)/7 -> 7.7142857 | P54: =MAX(N54,O54) -> 7.7142857
A55: 48 | B55: Nguyễn Xuân | C55: Đức | F55: 6 | G55: 9 | L55: 8 | N55: =(SUM(F55:G55)*2+L55*3)/7 -> 7.7142857 | P55: =MAX(N55,O55) -> 7.7142857
A56: 49 | B56: Bùi Quốc | C56: Cường | F56: 7 | G56: 8 | L56: 7 | N56: =(SUM(F56:G56)*2+L56*3)/7 -> 7.2857143 | P56: =MAX(N56,O56) -> 7.2857143
A57: 51 | B57: Nguyễn Tuấn | C57: Hưng | F57: 8 | G57: 7 | L57: 7 | N57: =(SUM(F57:G57)*2+L57*3)/7 -> 7.2857143 | P57: =MAX(N57,O57) -> 7.2857143
A58: 52 | B58: Nguyễn Văn Tuấn | C58: Anh | P58: HL
A59: 53 | B59: Cao Ngọc | C59: Hoàng | F59: 8 | G59: 7 | L59: 7 | N59: =(SUM(F59:G59)*2+L59*3)/7 -> 7.2857143 | P59: =MAX(N59,O59) -> 7.2857143
A60: 54 | B60: Nguyễn Văn | C60: Anh | F60: 8 | G60: 7 | L60: 8 | N60: =(SUM(F60:G60)*2+L60*3)/7 -> 7.7142857 | P60: =MAX(N60,O60) -> 7.7142857
A62: BẢNG GHI ĐIỂM MÔĐUN / MÔN HỌC
A63: Học Kỳ: I Năm Học 2018- 2019
A64: Khóa: VIII Lớp: Đ8B1
A65: Môn học: Kỹ thuật lắp đặt điện Số tiết: 90 Số ĐVHT: Ngày thi: 19/12/2018
A66: Họ và tên giáo viên: Bùi Văn Huy
A67: TT | B67: Họ và tên | D67: Ngày Sinh | E67: Nơi Sinh | F67: HS2 | L67: Kết thúc môn | N67: Tổng kết | P67: Kỹ thuật lắp đặt điện
L68: L1 | M68: L2 | N68: L1 | O68: L2
A69: 1 | B69: Nguyễn Thế | C69: Ánh | D69: 05.10.2001 | E69: Đội 1- Nguyên Bình- Tĩnh Gia - Thanh Hóa | F69: 8 | G69: 9 | H69: 8 | I69: 7 | L69: 7 | N69: =(SUM(F69:I69)*2+L69*3)/11 -> 7.7272727 | P69: =MAX(N69,O69) -> 7.7272727
A70: 2 | B70: Lê Hữu | C70: Chiến | D70: 11.07.2000 | E70: Thị Trấn - Tĩnh Gia - Thanh Hóa | F70: 7 | G70: 8 | H70: 6 | I70: 7 | L70: 7 | N70: =(SUM(F70:I70)*2+L70*3)/11 -> 7 | P70: =MAX(N70,O70) -> 7
A71: 3 | B71: Lê Công | C71: Chính | D71: 16/09/2000 | E71: Đội 16- Nguyên Bình- Tĩnh Gia- Thanh Hóa | F71: 7 | G71: 8 | H71: 6 | I71: 7 | L71: 7 | N71: =(SUM(F71:I71)*2+L71*3)/11 -> 7 | P71: =MAX(N71,O71) -> 7
A72: 4 | B72: Lê Đức | C72: Chung | D72: 37142 | E72: Đông Hải - Hải Hòa- Tĩnh Gia - Thanh Hóa | F72: 9 | G72: 9 | H72: 8 | I72: 9 | L72: 9 | N72: =(SUM(F72:I72)*2+L72*3)/11 -> 8.8181818 | P72: =MAX(N72,O72) -> 8.8181818
A73: 5 | B73: Lê Văn | C73: Cương | D73: 16/10/2000 | E73: Hữu Nam– Mai Lâm – Tĩnh Gia – Thanh Hóa | F73: 7 | G73: 9 | H73: 8 | I73: 9 | L73: 9 | N73: =(SUM(F73:I73)*2+L73*3)/11 -> 8.4545455 | P73: =MAX(N73,O73) -> 8.4545455
A74: 6 | B74: Lê Văn | C74: Đại | P74: HL
A75: 7 | B75: Lê Công | C75: Đạt | D75: 36929 | E75: Đồng Minh - Hải Ninh - Tĩnh Gia - Thanh Hóa | F75: 6 | G75: 7 | H75: 7 | I75: 7 | L75: 7 | N75: =(SUM(F75:I75)*2+L75*3)/11 -> 6.8181818 | P75: =MAX(N75,O75) -> 6.8181818
A76: 8 | B76: Bùi Văn | C76: Dũng | D76: 16.09.2000 | E76: Hải Hà - Tĩnh Gia - Thanh Hóa | F76: 7 | G76: 8 | H76: 8 | I76: 8 | L76: 8 | N76: =(SUM(F76:I76)*2+L76*3)/11 -> 7.8181818 | P76: =MAX(N76,O76) -> 7.8181818
A77: 9 | B77: Vũ Trọng | C77: Dương | D77: 10.12.2001 | E77: Hải Nhân - Tĩnh Gia - Thanh Hóa | F77: 8 | G77: 8 | H77: 8 | I77: 8 | L77: 8 | N77: =(SUM(F77:I77)*2+L77*3)/11 -> 8 | P77: =MAX(N77,O77) -> 8
A78: 10 | B78: Trương Bá | C78: Hạnh | P78: HL
A79: 11 | B79: Nguyễn Đắc | C79: Hiếu | D79: 19/02/2000 | E79: Thôn 6- Hải Lĩnh-Tĩnh Gia- Thanh Hóa | F79: 6 | G79: 7 | H79: 7 | I79: 7 | L79: 7 | N79: =(SUM(F79:I79)*2+L79*3)/11 -> 6.8181818 | P79: =MAX(N79,O79) -> 6.8181818
A80: 12 | B80: Mai Xuân | C80: Hinh | P80: HL
A81: 13 | B81: Phạm Đình | C81: Hoàng | P81: HL
A82: 14 | B82: Lê Văn | C82: Hùng | D82: 09.08.2000 | E82: Bình Minh - Tĩnh Gia - Thanh Hóa | F82: 7 | G82: 9 | H82: 8 | I82: 8 | L82: 8 | N82: =(SUM(F82:I82)*2+L82*3)/11 -> 8 | P82: =MAX(N82,O82) -> 8
A83: 15 | B83: Trương Đình | C83: Hùng | D83: 15.06.2001 | E83: Ninh Hải - Tĩnh Gia - Thanh Hóa | F83: 7 | G83: 8 | H83: 7 | I83: 7 | L83: 7 | N83: =(SUM(F83:I83)*2+L83*3)/11 -> 7.1818182 | P83: =MAX(N83,O83) -> 7.1818182
A84: 16 | B84: Trần Văn | C84: Huy | P84: HL
A85: 17 | B85: Mai Xuân | C85: Huy | D85: 25.10.2001 | E85: Trường Lâm - Tĩnh Gia - Thanh Hóa | F85: 7 | G85: 8 | H85: 7 | I85: 7 | L85: 7 | N85: =(SUM(F85:I85)*2+L85*3)/11 -> 7.1818182 | P85: =MAX(N85,O85) -> 7.1818182
A86: 18 | B86: Lê Vinh | C86: Huy | D86: 36739 | E86: Bản Cát – Mai Lâm – Tĩnh Gia – Thanh Hóa | F86: 8 | G86: 8 | H86: 9 | I86: 9 | L86: 9 | N86: =(SUM(F86:I86)*2+L86*3)/11 -> 8.6363636 | P86: =MAX(N86,O86) -> 8.6363636
A87: 19 | B87: Nguyễn Xuân | C87: Lâm | P87: HL
A88: 20 | B88: Phạm Nhật | C88: Linh | P88: HL
A89: 21 | B89: Lê Văn | C89: Long | P89: HL
A90: 22 | B90: Đồng Xuân | C90: Mạnh | P90: HL
A91: 23 | B91: Nguyễn Văn | C91: Minh | D91: 18.05.2001 | E91: Thượng Hải - Hải Thanh – Tĩnh Gia – Thanh Hóa | F91: 8 | G91: 9 | H91: 9 | I91: 9 | L91: 9 | N91: =(SUM(F91:I91)*2+L91*3)/11 -> 8.8181818 | P91: =MAX(N91,O91) -> 8.8181818
A92: 24 | B92: Hồ Sĩ | C92: Minh | D92: 10.12.2000 | E92: Phú Sơn - Tĩnh Gia - Thanh Hóa | F92: 8 | G92: 9 | H92: 9 | I92: 9 | L92: 9 | N92: =(SUM(F92:I92)*2+L92*3)/11 -> 8.8181818 | P92: =MAX(N92,O92) -> 8.8181818
A93: 25 | B93: Nguyễn Thị | C93: Mừng | D93: 37014 | E93: Giảng Tín - Trúc Lâm- Tĩnh Gia- Thanh Hóa | F93: 8 | G93: 7 | H93: 8 | I93: 8 | L93: 8 | N93: =(SUM(F93:I93)*2+L93*3)/11 -> 7.8181818 | P93: =MAX(N93,O93) -> 7.8181818
A94: 26 | B94: Lê Văn | C94: Nam | D94: 23.07.2001 | E94: Nguyên Bình - Tĩnh Gia - Thanh Hóa | F94: 7 | G94: 7 | H94: 7 | I94: 7 | L94: 7 | N94: =(SUM(F94:I94)*2+L94*3)/11 -> 7 | P94: =MAX(N94,O94) -> 7
A95: 27 | B95: Lê Văn | C95: Nam | D95: 16.08.2001 | E95: Hải Châu - Tĩnh Gia - Thanh Hóa | F95: 7 | G95: 7 | H95: 8 | I95: 8 | L95: 8 | N95: =(SUM(F95:I95)*2+L95*3)/11 -> 7.6363636 | P95: =MAX(N95,O95) -> 7.6363636
A96: 28 | B96: Ngô Khải | C96: Phong | D96: 15.08.2001 | E96: Hải Thanh - Tĩnh Gia - Thanh Hóa | F96: 8 | G96: 8 | H96: 8 | I96: 8 | L96: 9 | N96: =(SUM(F96:I96)*2+L96*3)/11 -> 8.2727273 | P96: =MAX(N96,O96) -> 8.2727273
A97: 29 | B97: Đỗ Ngọc | C97: Sơn | D97: 21.11.2000 | E97: Hoa Lư - Ninh Bình | P97: HL
A98: 30 | B98: Hoàng Văn | C98: Thái | D98: 25/4/2001 | E98: Đại Tiến- Ninh Hải- Tĩnh Gia- Thanh Hóa | F98: 8 | G98: 9 | H98: 8 | I98: 8 | L98: 9 | N98: =(SUM(F98:I98)*2+L98*3)/11 -> 8.4545455 | P98: =MAX(N98,O98) -> 8.4545455
A99: 31 | B99: Lê Doãn | C99: Thái | D99: 18/09/2001 | E99: Thôn 2 - Định Hải - Tĩnh Gia - Thanh Hóa | F99: 8 | G99: 9 | H99: 8 | I99: 8 | L99: 9 | N99: =(SUM(F99:I99)*2+L99*3)/11 -> 8.4545455 | P99: =MAX(N99,O99) -> 8.4545455
A100: 32 | B100: Lê Hữu | C100: Thành | D100: 37231 | E100: Thống Nhất- Ninh Hải- Tĩnh Gia- Thanh Hóa | F100: 6 | G100: 7 | H100: 7 | I100: 7 | L100: 8 | N100: =(SUM(F100:I100)*2+L100*3)/11 -> 7.0909091 | P100: =MAX(N100,O100) -> 7.0909091
A101: 33 | B101: Mai Xuân | C101: Thiện | D101: 10.07.2001 | E101: Ninh Hải - Tĩnh Gia - Thanh Hóa | F101: 7 | G101: 7 | H101: 7 | I101: 7 | L101: 8 | N101: =(SUM(F101:I101)*2+L101*3)/11 -> 7.2727273 | P101: =MAX(N101,O101) -> 7.2727273
...

Sheet danh sách làm QĐ
A1: BẢNG ĐIỂM TOÀN KHÓA (TỔNG SỐ 38 HỌC SINH)
A2: DANH SÁCH HỌC SINH ĐƯỢC CÔNG NHẬN TỐT NGHIỆP VÀ CẤP BẰNG TRUNG CẤP NGHỀ
A3: KHÓA VIII, 2016 - 2019
A4: (Kèm theo Quyết định số...../QĐ - CĐNNS ngày 08 tháng 10 năm 2019 của Hiệu trưởng trường Cao đẳng nghề Nghi Sơn)
A5: TT | B5: Họ và tên | D5: Ngày Sinh | E5: Nơi Sinh | F5: Lớp | G5: Trung bình môn | H5: ĐiỂM THI TỐT NGHIỆP | K5: Trung bình tốt nghiệp | L5: Xếp loại tốt nghiệp
H8: CT | I8: LT CM | J8: TH
A9: 1 | B9: Nguyễn Thế | C9: Ánh | D9: 05.10.2001 | E9: Nguyên Bình- Tĩnh Gia - Thanh Hóa | F9: Đ8B1 | G9: 7.3819661 | H9: 8 | I9: 8 | J9: 9 | K9: 8.0243164 | L9: GIOI
A10: 2 | B10: Lê Hữu | C10: Chiến | D10: 11.07.2000 | E10: Thị Trấn - Tĩnh Gia - Thanh Hóa | F10: Đ8B1 | G10: 6.7268258 | H10: 6 | I10: 5 | J10: 7 | K10: 6.5300796 | L10: TB KHÁ
A11: 3 | B11: Lê Đức | C11: Chung | D11: 09.8.2001 | E11: Hải Hòa- Tĩnh Gia - Thanh Hóa | F11: Đ8B1 | G11: 7.8060996 | H11: 7 | I11: 8.5 | J11: 9 | K11: 8.3197165 | L11: GIOI
A12: 4 | B12: Lê Văn | C12: Cương | D12: 16.10.2000 | E12: Mai Lâm – Tĩnh Gia – Thanh Hóa | F12: Đ8B1 | G12: 7.8214103 | H12: 7 | I12: 8.5 | J12: 9 | K12: 8.3273718 | L12: GIOI
A13: 5 | B13: Vũ Trọng | C13: Dương | D13: 10.12.2001 | E13: Hải Nhân - Tĩnh Gia - Thanh Hóa | F13: Đ8B1 | G13: 7.49114 | H13: 5 | I13: 7 | J13: 8 | K13: 7.5789033 | L13: KHÁ
A14: 6 | B14: Lê Văn | C14: Hùng | D14: 09.08.2000 | E14: Bình Minh - Tĩnh Gia - Thanh Hóa | F14: Đ8B1 | G14: 6.9693616 | H14: 6 | I14: 6.5 | J14: 9 | K14: 7.5680142 | L14: KHÁ
A15: 7 | B15: Mai Xuân | C15: Huy | D15: 25.10.2001 | E15: Trường Lâm - Tĩnh Gia - Thanh Hóa | F15: Đ8B1 | G15: 6.32303 | H15: 5 | I15: 8 | J15: 6 | K15: 6.4948483 | L15: TB KHÁ
A16: 8 | B16: Lê Vinh | C16: Huy | D16: 28.01.2000 | E16: Mai Lâm – Tĩnh Gia – Thanh Hóa | F16: Đ8B1 | G16: 7.5509072 | H16: 5 | I16: 5 | J16: 8 | K16: 7.2754536 | L16: KHÁ
A17: 9 | B17: Nguyễn Văn | C17: Minh | D17: 18.05.2001 | E17: Hải Thanh – Tĩnh Gia – Thanh Hóa | F17: Đ8B1 | G17: 7.8324222 | H17: 8 | I17: 8.5 | J17: 9 | K17: 8.3328778 | L17: GIOI
A18: 10 | B18: Hồ Sĩ | C18: Minh | D18: 10.12.2000 | E18: Phú Sơn - Tĩnh Gia - Thanh Hóa | F18: Đ8B1 | G18: 7.8667106 | H18: 7 | I18: 8 | J18: 7 | K18: 7.600022 | L18: KHÁ
A19: 11 | B19: Nguyễn Thị | C19: Mừng | D19: 05.03.2001 | E19: Trúc Lâm- Tĩnh Gia- Thanh Hóa | F19: Đ8B1 | G19: 7.7872832 | H19: 9 | I19: 8 | J19: 9 | K19: 8.2269749 | L19: GIOI
A20: 12 | B20: Lê Văn | C20: Nam | D20: 23.07.2001 | E20: Nguyên Bình - Tĩnh Gia - Thanh Hóa | F20: Đ8B1 | G20: 7.2511427 | H20: 7 | I20: 7 | J20: 9 | K20: 7.792238 | L20: KHÁ
... A82: 74 | B82: Mai Trọng | C82: Ngọc | D82: 16.09.2000 | E82: Ninh Hải- Tĩnh Gia- Thanh Hóa | F82: H8B2 | G82: 8.0552036 | H82: 7 | I82: 6 | J82: 8.5 | K82: 7.8609352 | L82: KHÁ
A83: 75 | B83: Lê Hữu | C83: Phú | D83: 36900 | E83: Mai Lâm – Tĩnh Gia – Thanh Hóa | F83: H8B2 | G83: 7.1245714 | H83: 7 | I83: 5 | J83: 7.5 | K83: 6.895619 | L83: TB KHÁ
A84: 76 | B84: Lê Ngọc | C84: Quân | D84: 05.10.2000 | E84: Phú Sơn – Tĩnh Gia – Thanh Hóa | F84: H8B2 | G84: 7.8870943 | H84: 8 | I84: 5 | J84: 8.5 | K84: 7.6102138 | L84: KHÁ
A85: 77 | B85: Lê Bá | C85: Quân | D85: 05.04.2000 | E85: Hải Lĩnh - Tĩnh Gia - Thanh Hóa | F85: H8B2 | G85: 7.1178139 | H85: 5 | I85: 5 | J85: 8 | K85: 7.0589069 | L85: KHÁ
A86: 78 | B86: Lê Hữu | C86: Quang | D86: 09.10.2001 | E86: Mai Lâm - Tĩnh Gia - Thanh Hóa | F86: H8B2 | G86: 6.8040163 | H86: 5 | I86: 5 | J86: 8 | K86: 6.9020082 | L86: TB KHÁ
A87: 79 | B87: Bùi Khắc | C87: Quý | D87: 02.11.2001 | E87: Xã Phú Sơn – Tĩnh Gia – Thanh Hóa | F87: H8B2 | G87: 7.0200803 | H87: 5 | I87: 5 | J87: 7 | K87: 6.6767068 | L87: TB KHÁ
A88: 80 | B88: Lê Thế Hồng | C88: Sơn | D88: 37054 | E88: Thống Nhất- Ninh Hải- Tĩnh Gia- Thanh Hóa | F88: H8B2 | G88: 7.2584831 | H88: 5 | I88: 5 | J88: 7.5 | K88: 6.9625749 | L88: KHÁ
A89: 81 | B89: Nguyễn Hữu | C89: Thắng | D89: 36716 | E89: Hải Hòa - Tĩnh Gia - Thanh Hóa | F89: H8B2 | G89: 7.2540885 | H89: 7 | I89: 5 | J89: 8 | K89: 7.1270443 | L89: KHÁ
A90: 82 | B90: Nguyễn Lập | C90: Thắng | D90: 16.08.2000 | E90: Xã Phú Sơn – Tĩnh Gia – Thanh Hóa | F90: H8B2 | G90: 7.4891291 | H90: 6 | I90: 5 | J90: 8 | K90: 7.2445646 | L90: KHÁ
A91: 83 | B91: Bùi Sỹ | C91: Thuận | D91: 01.01.2001 | E91: Anh Sơn- Tĩnh Gia- Thanh Hóa | F91: H8B2 | G91: 7.8287269 | H91: 6 | I91: 5 | J91: 7.5 | K91: 7.2476968 | L91: KHÁ
A92: 84 | B92: Nguyễn Bá | C92: Trình | D92: 29/09/2001 | E92: Hải Hòa- Tĩnh Gia - Thanh Hóa | F92: H8B2 | G92: 7.4526302 | H92: 7 | I92: 6 | J92: 7 | K92: 7.0596484 | L92: KHÁ
A93: 85 | B93: Lê Văn | C93: Bắc | D93: 15.06.2001 | E93: Phú lâm - Tĩnh Gia - Thanh Hóa | F93: ĐL2B1 | G93: 7.2657115 | H93: 5 | I93: 7.5 | J93: 6.5 | K93: 7.0495224 | L93: KHÁ
A94: 86 | B94: Lê Đình | C94: Bằng | D94: 01.10/2001 | E94: Hải An- Tĩnh Gia- Thanh Hóa | F94: ĐL2B1 | G94: 6.9868152 | H94: 6 | I94: 7.5 | J94: 7.5 | K94: 7.2434076 | L94: KHÁ
A95: 87 | B95: Bùi Minh | C95: Châu | D95: 02.01.2000 | E95: Hải Lĩnh - Tĩnh Gia - Thanh Hóa | F95: ĐL2B1 | G95: 7.7472256 | H95: 7 | I95: 7.5 | J95: 8 | K95: 7.7902795 | L95: KHÁ
A96: 88 | B96: Nguyễn Trọng | C96: Chiến | D96: 17.02.2001 | E96: Phú lâm - Tĩnh Gia - Thanh Hóa | F96: ĐL2B1 | G96: 7.1099999 | H96: 6 | I96: 7 | J96: 7 | K96: 7.0549999 | L96: KHÁ
A97: 89 | B97: Nguyễn Quốc | C97: Cường | D97: 25.05.2001 | E97: Trúc Lâm – Tĩnh Gia – Thanh Hóa | F97: ĐL2B1 | G97: 7.2020352 | H97: 7 | I97: 7 | J97: 7 | K97: 7.1010176 | L97: KHÁ
A98: 90 | B98: Nguyễn Xuân | C98: Đại | D98: 05.06.2001 | E98: Trúc Lâm – Tĩnh Gia – Thanh Hóa | F98: ĐL2B1 | G98: 7.1586575 | H98: 5 | I98: 7 | J98: 7.5 | K98: 7.2459954 | L98: KHÁ
A99: 91 | B99: Nguyễn Văn | C99: Đạt | D99: 14.03.2001 | E99: Ninh Hải - Tĩnh Gia - Thanh Hóa | F99: ĐL2B1 | G99: 6.3648314 | H99: 5 | I99: 6 | J99: 6.5 | K99: 6.3490824 | L99: TB KHÁ
