Workbook

Sheet TOÀN KHÓA (3)
A1: BẢNG ĐIỂM TOÀN KHÓA (TỔNG SỐ 38 HỌC SINH)
A2: LỚP Đ8B1
A3: TT | B3: Họ và tên | D3: Ngày Sinh | E3: Nơi Sinh | F3: 1 | G3: 2 | H3: 3 | I3: 4 | J3: 5 | K3: 6 | L3: 7 | M3: 8 | N3: 9 | O3: 10 | P3: 11 | Q3: 12 | R3: 13 | S3: 14 | T3: 15 | U3: 16 | V3: 17 | W3: 18 | X3: 19 | Y3: 20 | Z3: 21 | AA3: 22 | AB3: 23 | AC3: 24
F4: =TKHK1!L3 -> Chính trị | G4: =TKHK1!H3 -> Pháp luật | H4: =TKHK1!N3 -> Tin học | I4: =TKHK1!M3 -> Tiếng Anh | J4: =TKHK1!O3 -> giáo dục thể chất | K4: =TKHK2!I2 -> Giáo dục quốc phòng | L4: =TKHK1!G3 -> An toàn điện | M4: =TKHK1!F3 -> Vật liệu điện | N4: =TKHK1!I3 -> vẽ điện | O4: =TKHK1!J3 -> mạch điện | P4: =TKHK1!K3 -> Vẽ kỹ thuật | Q4: =TKHK2!F2 -> Đo lường điện | R4: =TKHK2!G2 -> Điện tử cơ bản | S4: =TKHK2!H2 -> Khí cụ điện | T4: =tkhk3!F4 -> Điện khí nén | U4: =tkhk3!G4 -> Thiết bị điện gia dụng | V4: =TKHK4!F4 -> Máy điện | W4: =TKHK4!G4 -> Điện tử công suất | X4: =TKHK4!H4 -> Cung cấp điện | Y4: =#REF! -> #REF! | Z4: =#REF! -> #REF! | AA4: =#REF! -> #REF! | AB4: =#REF! -> #REF! | AC4: =#REF! -> #REF! | AD4: Điểm thực tập | AE4: Trung bình môn | AF4: ĐiỂM THI TỐT NGHIỆP | AI4: TRUNG BÌNH TỐT NGHIỆP | AJ4: XẾP LoẠI TỐT NGHIỆP
F6: 2 | G6: 1 | H6: 2 | I6: 4 | J6: 2 | K6: 3 | L6: 2 | M6: 2 | N6: 2 | O6: 3 | P6: 2 | Q6: =TKHK2!F3 -> 4 | R6: =TKHK2!G3 -> 5 | S6: 2 | T6: 6 | U6: 5 | V6: 13 | W6: 4 | X6: 4 | Y6: 2 | Z6: 6 | AA6: 4 | AB6: =#REF! -> #REF! | AC6: =#REF! -> #REF! | AD6: 11 | AE6: =SUM(L6:AD6) -> #REF! | AF6: CT | AG6: LT CM | AH6: TH
A7: 1 | B7: Nguyễn Thế | C7: Ánh | D7: 05.10.2001 | E7: Nguyên Bình- Tĩnh Gia - Thanh Hóa | F7: =TKHK1!L5 -> 5.7142857 | G7: =TKHK1!H5 -> 7.8 | H7: =TKHK1!N5 -> 6.4285714 | I7: =TKHK1!M5 -> 5.6363636 | J7: =TKHK1!O5 -> 6 | K7: =TKHK2!I4 -> 6.7777778 | L7: =TKHK1!G5 -> 5.2857143 | M7: =TKHK1!F5 -> 6.1428571 | N7: =TKHK1!I5 -> 7 | O7: =TKHK1!J5 -> 5.5555556 | P7: =TKHK1!K5 -> 5.5714286 | Q7: =TKHK2!F4 -> 6.7777778 | R7: =TKHK2!G4 -> 7.2727273 | S7: =TKHK2!H4 -> 8 | T7: =tkhk3!F6 -> 7 | U7: =tkhk3!G6 -> 8 | V7: =TKHK4!F6 -> 7.0666667 | W7: =TKHK4!G6 -> 7.5454545 | X7: =TKHK4!H6 -> 6.0909091 | Y7: =#REF! -> #REF! | Z7: =#REF! -> #REF! | AA7: =#REF! -> #REF! | AB7: =#REF! -> #REF! | AC7: =#REF! -> #REF! | AD7: 10
A8: 2 | B8: Lê Hữu | C8: Chiến | D8: 11.07.2000 | E8: Thị Trấn - Tĩnh Gia - Thanh Hóa | F8: =TKHK1!L6 -> 6.2857143 | G8: =TKHK1!H6 -> 8.2 | H8: =TKHK1!N6 -> 6 | I8: =TKHK1!M6 -> 6.1818182 | J8: =TKHK1!O6 -> 5.2857143 | K8: =TKHK2!I5 -> 7.4444444 | L8: =TKHK1!G6 -> 6.1428571 | M8: =TKHK1!F6 -> 6.5714286 | N8: =TKHK1!I6 -> 7 | O8: =TKHK1!J6 -> 5.7777778 | P8: =TKHK1!K6 -> 7.4285714 | Q8: =TKHK2!F5 -> 7.3333333 | R8: =TKHK2!G5 -> 7.0909091 | S8: =TKHK2!H5 -> 7.7142857 | T8: =tkhk3!F7 -> 6.7272727 | U8: =tkhk3!G7 -> 6.5454545 | V8: =TKHK4!F7 -> 6.8 | W8: =TKHK4!G7 -> 5.6363636 | X8: =TKHK4!H7 -> 6.2727273 | Y8: =#REF! -> #REF! | Z8: =#REF! -> #REF! | AA8: =#REF! -> #REF! | AB8: =#REF! -> #REF! | AC8: =#REF! -> #REF! | AD8: 9
A9: 3 | B9: Lê Đức | C9: Chung | D9: 09.8.2001 | E9: Hải Hòa- Tĩnh Gia - Thanh Hóa | F9: =TKHK1!L8 -> 7 | G9: =TKHK1!H8 -> 7.8 | H9: =TKHK1!N8 -> 6.4285714 | I9: =TKHK1!M8 -> 6.1818182 | J9: =TKHK1!O8 -> 5.5714286 | K9: =TKHK2!I7 -> 7.6666667 | L9: =TKHK1!G8 -> 6.1428571 | M9: =TKHK1!F8 -> 6.1428571 | N9: =TKHK1!I8 -> 6.4285714 | O9: =TKHK1!J8 -> 7.2222222 | P9: =TKHK1!K8 -> 6.2857143 | Q9: =TKHK2!F7 -> 7.7777778 | R9: =TKHK2!G7 -> 7.4545455 | S9: =TKHK2!H7 -> 8 | T9: =tkhk3!F9 -> 8.1818182 | U9: =tkhk3!G9 -> 8 | V9: =TKHK4!F9 -> 7 | W9: =TKHK4!G9 -> 7.8181818 | X9: =TKHK4!H9 -> 7.2727273 | Y9: =#REF! -> #REF! | Z9: =#REF! -> #REF! | AA9: =#REF! -> #REF! | AB9: =#REF! -> #REF! | AC9: =#REF! -> #REF! | AD9: 10
A10: 4 | B10: Lê Văn | C10: Cương | D10: 16.10.2000 | E10: Mai Lâm – Tĩnh Gia – Thanh Hóa | F10: =TKHK1!L9 -> 7 | G10: =TKHK1!H9 -> 7.6 | H10: =TKHK1!N9 -> 6.2857143 | I10: =TKHK1!M9 -> 5.6363636 | J10: =TKHK1!O9 -> 5.8571429 | K10: =TKHK2!I8 -> 6.6666667 | L10: =TKHK1!G9 -> 5.4285714 | M10: =TKHK1!F9 -> 6.4285714 | N10: =TKHK1!I9 -> 7.5714286 | O10: =TKHK1!J9 -> 7.5555556 | P10: =TKHK1!K9 -> 8.2857143 | Q10: =TKHK2!F8 -> 7.7777778 | R10: =TKHK2!G8 -> 7.4545455 | S10: =TKHK2!H8 -> 7 | T10: =tkhk3!F10 -> 7.7272727 | U10: =tkhk3!G10 -> 7 | V10: =TKHK4!F10 -> 7.6 | W10: =TKHK4!G10 -> 7.5454545 | X10: =TKHK4!H10 -> 6.8181818 | Y10: =#REF! -> #REF! | Z10: =#REF! -> #REF! | AA10: =#REF! -> #REF! | AB10: =#REF! -> #REF! | AC10: =#REF! -> #REF! | AD10: 10
A11: 5 | B11: Vũ Trọng | C11: Dương | D11: 10.12.2001 | E11: Hải Nhân - Tĩnh Gia - Thanh Hóa | F11: =TKHK1!L13 -> 7 | G11: =TKHK1!H13 -> 8 | H11: =TKHK1!N13 -> 6.2857143 | I11: =TKHK1!M13 -> 6.3636364 | J11: =TKHK1!O13 -> 6.4285714 | K11: =TKHK2!I12 -> 7.4444444 | L11: =TKHK1!G13 -> 6.2857143 | M11: =TKHK1!F13 -> 6.4285714 | N11: =TKHK1!I13 -> 6.4285714 | O11: =TKHK1!J13 -> 7.4444444 | P11: =TKHK1!K13 -> 7 | Q11: =TKHK2!F12 -> 8 | R11: =TKHK2!G12 -> 7.7272727 | S11: =TKHK2!H12 -> 8 | T11: =tkhk3!F14 -> 7.3636364 | U11: =tkhk3!G14 -> 7.8181818 | V11: =TKHK4!F14 -> 7.3333333 | W11: =TKHK4!G14 -> 6.5454545 | X11: =TKHK4!H14 -> 6.2727273 | Y11: =#REF! -> #REF! | Z11: =#REF! -> #REF! | AA11: =#REF! -> #REF! | AB11: =#REF! -> #REF! | AC11: =#REF! -> #REF! | AD11: 9
A12: 6 | B12: Lê Văn | C12: Hùng | D12: 09.08.2000 | E12: Bình Minh - Tĩnh Gia - Thanh Hóa | F12: =TKHK1!L18 -> 6.2857143 | G12: =TKHK1!H18 -> 7 | H12: =TKHK1!N18 -> 6.4285714 | I12: =TKHK1!M18 -> 6.3636364 | J12: =TKHK1!O18 -> 5.5714286 | K12: =TKHK2!I17 -> 7.7777778 | L12: =TKHK1!G18 -> 5.4285714 | M12: =TKHK1!F18 -> 6 | N12: =TKHK1!I18 -> 6.1428571 | O12: =TKHK1!J18 -> 6.2222222 | P12: =TKHK1!K18 -> 5.7142857 | Q12: =TKHK2!F17 -> 7.4444444 | R12: =TKHK2!G17 -> 7.2727273 | S12: =TKHK2!H17 -> 7.2857143 | T12: =tkhk3!F19 -> 6.7272727 | U12: =tkhk3!G19 -> 7 | V12: =TKHK4!F19 -> 6.5333333 | W12: =TKHK4!G19 -> 7.0909091 | X12: =TKHK4!H19 -> 5.6363636 | Y12: =#REF! -> #REF! | Z12: =#REF! -> #REF! | AA12: =#REF! -> #REF! | AB12: =#REF! -> #REF! | AC12: =#REF! -> #REF! | AD12: 7
A13: 7 | B13: Mai Xuân | C13: Huy | D13: 25.10.2001 | E13: Trường Lâm - Tĩnh Gia - Thanh Hóa | F13: =TKHK1!L21 -> 6.7142857 | G13: =TKHK1!H21 -> 7.6 | H13: =TKHK1!N21 -> 6 | I13: =TKHK1!M21 -> 6.1818182 | J13: =TKHK1!O21 -> 6.5714286 | K13: =TKHK2!I20 -> 7.1111111 | L13: =TKHK1!G21 -> 5.2857143 | M13: =TKHK1!F21 -> 5.7142857 | N13: =TKHK1!I21 -> 5.7142857 | O13: =TKHK1!J21 -> 5.3333333 | P13: =TKHK1!K21 -> 5.7142857 | Q13: =TKHK2!F20 -> 6.2222222 | R13: =TKHK2!G20 -> 6.8181818 | S13: =TKHK2!H20 -> 6.5714286 | T13: =tkhk3!F22 -> 5.3636364 | U13: =tkhk3!G22 -> 6 | V13: =TKHK4!F22 -> 5.6 | W13: =TKHK4!G22 -> 5.3636364 | X13: =TKHK4!H22 -> 6 | Y13: =#REF! -> #REF! | Z13: =#REF! -> #REF! | AA13: =#REF! -> #REF! | AB13: =#REF! -> #REF! | AC13: =#REF! -> #REF! | AD13: 8
A14: 8 | B14: Lê Vinh | C14: Huy | D14: 28.01.2000 | E14: Mai Lâm – Tĩnh Gia – Thanh Hóa | F14: =TKHK1!L22 -> 6 | G14: =TKHK1!H22 -> 8.2 | H14: =TKHK1!N22 -> 5 | I14: =TKHK1!M22 -> 6 | J14: =TKHK1!O22 -> 6.5714286 | K14: =TKHK2!I21 -> 7.8888889 | L14: =TKHK1!G22 -> 5.4285714 | M14: =TKHK1!F22 -> 6.1428571 | N14: =TKHK1!I22 -> 5.7142857 | O14: =TKHK1!J22 -> 5.5555556 | P14: =TKHK1!K22 -> 7.4285714 | Q14: =TKHK2!F21 -> 8.5555556 | R14: =TKHK2!G21 -> 7.9090909 | S14: =TKHK2!H21 -> 7.2857143 | T14: =tkhk3!F23 -> 8.3636364 | U14: =tkhk3!G23 -> 7 | V14: =TKHK4!F23 -> 6.6666667 | W14: =TKHK4!G23 -> 8.2727273 | X14: =TKHK4!H23 -> 7 | Y14: =#REF! -> #REF! | Z14: =#REF! -> #REF! | AA14: =#REF! -> #REF! | AB14: =#REF! -> #REF! | AC14: =#REF! -> #REF! | AD14: 9
A15: 9 | B15: Nguyễn Văn | C15: Minh | D15: 18.05.2001 | E15: Hải Thanh – Tĩnh Gia – Thanh Hóa | F15: =TKHK1!L27 -> 6.7142857 | G15: =TKHK1!H27 -> 8.6 | H15: =TKHK1!N27 -> 6 | I15: =TKHK1!M27 -> 6.5454545 | J15: =TKHK1!O27 -> 6.7142857 | K15: =TKHK2!I26 -> 8.4444444 | L15: =TKHK1!G27 -> 6.5714286 | M15: =TKHK1!F27 -> 6.4285714 | N15: =TKHK1!I27 -> 6.7142857 | O15: =TKHK1!J27 -> 6 | P15: =TKHK1!K27 -> 7.5714286 | Q15: =TKHK2!F26 -> 8 | R15: =TKHK2!G26 -> 7.8181818 | S15: =TKHK2!H26 -> 8 | T15: =tkhk3!F28 -> 8.3636364 | U15: =tkhk3!G28 -> 7.6363636 | V15: =TKHK4!F28 -> 7.4666667 | W15: =TKHK4!G28 -> 7 | X15: =TKHK4!H28 -> 7.0909091 | Y15: =#REF! -> #REF! | Z15: =#REF! -> #REF! | AA15: =#REF! -> #REF! | AB15: =#REF! -> #REF! | AC15: =#REF! -> #REF! | AD15: 10
A16: 10 | B16: Hồ Sĩ | C16: Minh | D16: 10.12.2000 | E16: Phú Sơn - Tĩnh Gia - Thanh Hóa | F16: =TKHK1!L28 -> 7 | G16: =TKHK1!H28 -> 7.6 | H16: =TKHK1!N28 -> 6 | I16: =TKHK1!M28 -> 5.8181818 | J16: =TKHK1!O28 -> 6.7142857 | K16: =TKHK2!I27 -> 7.4444444 | L16: =TKHK1!G28 -> 5.2857143 | M16: =TKHK1!F28 -> 6 | N16: =TKHK1!I28 -> 7.2857143 | O16: =TKHK1!J28 -> 5.5555556 | P16: =TKHK1!K28 -> 6.1428571 | Q16: =TKHK2!F27 -> 7.7777778 | R16: =TKHK2!G27 -> 7.7272727 | S16: =TKHK2!H27 -> 8.7142857 | T16: =tkhk3!F29 -> 8.5454545 | U16: =tkhk3!G29 -> 8.4545455 | V16: =TKHK4!F29 -> 7.8666667 | W16: =TKHK4!G29 -> 7.8181818 | X16: =TKHK4!H29 -> 7 | Y16: =#REF! -> #REF! | Z16: =#REF! -> #REF! | AA16: =#REF! -> #REF! | AB16: =#REF! -> #REF! | AC16: =#REF! -> #REF! | AD16: 9
A17: 11 | B17: Nguyễn Thị | C17: Mừng | D17: 05.03.2001 | E17: Trúc Lâm- Tĩnh Gia- Thanh Hóa | F17: =TKHK1!L29 -> 8 | G17: =TKHK1!H29 -> 9 | H17: =TKHK1!N29 -> 8 | I17: =TKHK1!M29 -> 7.5454545 | J17: =TKHK1!O29 -> 6.7142857 | K17: =TKHK2!I28 -> 8.3333333 | L17: =TKHK1!G29 -> 7 | M17: =TKHK1!F29 -> 7.7142857 | N17: =TKHK1!I29 -> 7.2857143 | O17: =TKHK1!J29 -> 6.7777778 | P17: =TKHK1!K29 -> 9 | Q17: =TKHK2!F28 -> 8.5555556 | R17: =TKHK2!G28 -> 8.0909091 | S17: =TKHK2!H28 -> 8 | T17: =tkhk3!F30 -> 8 | U17: =tkhk3!G30 -> 7.1818182 | V17: =TKHK4!F30 -> 7.2666667 | W17: =TKHK4!G30 -> 7.4545455 | X17: =TKHK4!H30 -> 7.3636364 | Y17: =#REF! -> #REF! | Z17: =#REF! -> #REF! | AA17: =#REF! -> #REF! | AB17: =#REF! -> #REF! | AC17: =#REF! -> #REF! | AD17: 8
A18: 12 | B18: Lê Văn | C18: Nam | D18: 23.07.2001 | E18: Nguyên Bình - Tĩnh Gia - Thanh Hóa | F18: =TKHK1!L30 -> 7 | G18: =TKHK1!H30 -> 8.2 | H18: =TKHK1!N30 -> 5.7142857 | I18: =TKHK1!M30 -> 5.8181818 | J18: =TKHK1!O30 -> 5 | K18: =TKHK2!I29 -> 7.7777778 | L18: =TKHK1!G30 -> 5.7142857 | M18: =TKHK1!F30 -> 5.7142857 | N18: =TKHK1!I30 -> 5.2857143 | O18: =TKHK1!J30 -> 5.7777778 | P18: =TKHK1!K30 -> 6.2857143 | Q18: =TKHK2!F29 -> 7.4444444 | R18: =TKHK2!G29 -> 7.0909091 | S18: =TKHK2!H29 -> 6.7142857 | T18: =tkhk3!F31 -> 8 | U18: =tkhk3!G31 -> 6.1818182 | V18: =TKHK4!F31 -> 8 | W18: =TKHK4!G31 -> 6.7272727 | X18: =TKHK4!H31 -> 6.4545455 | Y18: =#REF! -> #REF! | Z18: =#REF! -> #REF! | AA18: =#REF! -> #REF! | AB18: =#REF! -> #REF! | AC18: =#REF! -> #REF! | AD18: 9
A19: 13 | B19: Lê Văn | C19: Nam | D19: 16.08.2001 | E19: Hải Châu - Tĩnh Gia - Thanh Hóa | F19: =TKHK1!L31 -> 7 | G19: =TKHK1!H31 -> 8.6 | H19: =TKHK1!N31 -> 5.2857143 | I19: =TKHK1!M31 -> 6.1818182 | J19: =TKHK1!O31 -> 5.2857143 | K19: =TKHK2!I30 -> 7.4444444 | L19: =TKHK1!G31 -> 6.1428571 | M19: =TKHK1!F31 -> 6.1428571 | N19: =TKHK1!I31 -> 6.1428571 | O19: =TKHK1!J31 -> 6.2222222 | P19: =TKHK1!K31 -> 7.2857143 | Q19: =TKHK2!F30 -> 7.6666667 | R19: =TKHK2!G30 -> 6.9090909 | S19: =TKHK2!H30 -> 5.8571429 | T19: =tkhk3!F32 -> 7.1818182 | U19: =tkhk3!G32 -> 7 | V19: =TKHK4!F32 -> 8 | W19: =TKHK4!G32 -> 7.2727273 | X19: =TKHK4!H32 -> 5.9090909 | Y19: =#REF! -> #REF! | Z19: =#REF! -> #REF! | AA19: =#REF! -> #REF! | AB19: =#REF! -> #REF! | AC19: =#REF! -> #REF! | AD19: 10
A20: 14 | B20: Hoàng Văn | C20: Thái | D20: 25.04.2001 | E20: Ninh Hải- Tĩnh Gia- Thanh Hóa | F20: =TKHK1!L34 -> 6.2857143 | G20: =TKHK1!H34 -> 8 | H20: =TKHK1!N34 -> 6.4285714 | I20: =TKHK1!M34 -> 6.7272727 | J20: =TKHK1!O34 -> 5.5714286 | K20: =TKHK2!I33 -> 7.1111111 | L20: =TKHK1!G34 -> 5.7142857 | M20: =TKHK1!F34 -> 6.1428571 | N20: =TKHK1!I34 -> 6 | O20: =TKHK1!J34 -> 5.7777778 | P20: =TKHK1!K34 -> 6.5714286 | Q20: =TKHK2!F33 -> 6.7777778 | R20: =TKHK2!G33 -> 7.0909091 | S20: =TKHK2!H33 -> 7.2857143 | T20: =tkhk3!F35 -> 7.6363636 | U20: =tkhk3!G35 -> 7.6363636 | V20: =TKHK4!F35 -> 8.3333333 | W20: =TKHK4!G35 -> 8.1818182 | X20: =TKHK4!H35 -> 7 | Y20: =#REF! -> #REF! | Z20: =#REF! -> #REF! | AA20: =#REF! -> #REF! | AB20: =#REF! -> #REF! | AC20: =#REF! -> #REF! | AD20: 10
A21: 15 | B21: Lê Doãn | C21: Thái | D21: 18.09.2001 | E21: Định Hải - Tĩnh Gia - Thanh Hóa | F21: =TKHK1!L35 -> 6.2857143 | G21: =TKHK1!H35 -> 8.6 | H21: =TKHK1!N35 -> 5.7142857 | I21: =TKHK1!M35 -> 6 | J21: =TKHK1!O35 -> 8.1428571 | K21: =TKHK2!I34 -> 7.6666667 | L21: =TKHK1!G35 -> 7 | M21: =TKHK1!F35 -> 6.7142857 | N21: =TKHK1!I35 -> 7.7142857 | O21: =TKHK1!J35 -> 7.7777778 | P21: =TKHK1!K35 -> 8.2857143 | Q21: =TKHK2!F34 -> 8 | R21: =TKHK2!G34 -> 8.2727273 | S21: =TKHK2!H34 -> 8 | T21: =tkhk3!F36 -> 8.5454545 | U21: =tkhk3!G36 -> 8.1818182 | V21: =TKHK4!F36 -> 7.8666667 | W21: =TKHK4!G36 -> 8 | X21: =TKHK4!H36 -> 7.2727273 | Y21: =#REF! -> #REF! | Z21: =#REF! -> #REF! | AA21: =#REF! -> #REF! | AB21: =#REF! -> #REF! | AC21: =#REF! -> #REF! | AD21: 10
A22: 16 | B22: Lê Hữu | C22: Thành | D22: 12.06.2001 | E22: Ninh Hải- Tĩnh Gia- Thanh Hóa | F22: =TKHK1!L36 -> 7 | G22: =TKHK1!H36 -> 8.2 | H22: =TKHK1!N36 -> 6.2857143 | I22: =TKHK1!M36 -> 7.1818182 | J22: =TKHK1!O36 -> 6.4285714 | K22: =TKHK2!I35 -> 7.4444444 | L22: =TKHK1!G36 -> 6.8571429 | M22: =TKHK1!F36 -> 6.4285714 | N22: =TKHK1!I36 -> 6.7142857 | O22: =TKHK1!J36 -> 7.4444444 | P22: =TKHK1!K36 -> 7.4285714 | Q22: =TKHK2!F35 -> 7.2222222 | R22: =TKHK2!G35 -> 7.6363636 | S22: =TKHK2!H35 -> 7.1428571 | T22: =tkhk3!F37 -> 7.3636364 | U22: =tkhk3!G37 -> 7.6363636 | V22: =TKHK4!F37 -> 8 | W22: =TKHK4!G37 -> 7.3636364 | X22: =TKHK4!H37 -> 7.2727273 | Y22: =#REF! -> #REF! | Z22: =#REF! -> #REF! | AA22: =#REF! -> #REF! | AB22: =#REF! -> #REF! | AC22: =#REF! -> #REF! | AD22: 8.5
A23: 17 | B23: Mai Xuân | C23: Thiện | D23: 10.07.2001 | E23: Ninh Hải - Tĩnh Gia - Thanh Hóa | F23: =TKHK1!L37 -> 6 | G23: =TKHK1!H37 -> 7.6 | H23: =TKHK1!N37 -> 6 | I23: =TKHK1!M37 -> 5.6363636 | J23: =TKHK1!O37 -> 5 | K23: =TKHK2!I36 -> 6.7777778 | L23: =TKHK1!G37 -> 5.2857143 | M23: =TKHK1!F37 -> 6 | N23: =TKHK1!I37 -> 5.7142857 | O23: =TKHK1!J37 -> 6 | P23: =TKHK1!K37 -> 6.2857143 | Q23: =TKHK2!F36 -> 6.2222222 | R23: =TKHK2!G36 -> 7.0909091 | S23: =TKHK2!H36 -> 7.2857143 | T23: =tkhk3!F38 -> 7.7272727 | U23: =tkhk3!G38 -> 7 | V23: =TKHK4!F38 -> 8 | W23: =TKHK4!G38 -> 6.9090909 | X23: =TKHK4!H38 -> 6.8181818 | Y23: =#REF! -> #REF! | Z23: =#REF! -> #REF! | AA23: =#REF! -> #REF! | AB23: =#REF! -> #REF! | AC23: =#REF! -> #REF! | AD23: 8.5
A24: 18 | B24: Nguyễn Như | C24: Trọng | D24: 26.06.2001 | E24: Tân Trường- Tĩnh Gia- Thanh Hóa | F24: =TKHK1!L40 -> 6.7142857 | G24: =TKHK1!H40 -> 7.2 | H24: =TKHK1!N40 -> 6 | I24: =TKHK1!M40 -> 6.2727273 | J24: =TKHK1!O40 -> 8.4285714 | K24: =TKHK2!I39 -> 7 | L24: =TKHK1!G40 -> 5.5714286 | M24: =TKHK1!F40 -> 6.1428571 | N24: =TKHK1!I40 -> 8 | O24: =TKHK1!J40 -> 6 | P24: =TKHK1!K40 -> 7.2857143 | Q24: =TKHK2!F39 -> 6.8888889 | R24: =TKHK2!G39 -> 7.0909091 | S24: =TKHK2!H39 -> 7.7142857 | T24: =tkhk3!F41 -> 7.1818182 | U24: =tkhk3!G41 -> 7.1818182 | V24: =TKHK4!F41 -> 7.8666667 | W24: =TKHK4!G41 -> 7.3636364 | X24: =TKHK4!H41 -> 6.1818182 | Y24: =#REF! -> #REF! | Z24: =#REF! -> #REF! | AA24: =#REF! -> #REF! | AB24: =#REF! -> #REF! | AC24: =#REF! -> #REF! | AD24: 8
A25: 19 | B25: Lê Văn | C25: Trọng | D25: 15.07.1999 | E25: Tân Trường - Tĩnh Gia - Thanh Hóa | F25: =TKHK1!L41 -> 7 | G25: =TKHK1!H41 -> 7 | H25: =TKHK1!N41 -> 5.7142857 | I25: =TKHK1!M41 -> 5.8181818 | J25: =TKHK1!O41 -> 5.2857143 | K25: =TKHK2!I40 -> 7 | L25: =TKHK1!G41 -> 5.4285714 | M25: =TKHK1!F41 -> 5.5714286 | N25: =TKHK1!I41 -> 5.7142857 | O25: =TKHK1!J41 -> 6 | P25: =TKHK1!K41 -> 5.7142857 | Q25: =TKHK2!F40 -> 6.4444444 | R25: =TKHK2!G40 -> 7.0909091 | S25: =TKHK2!H40 -> 7.4285714 | T25: =tkhk3!F42 -> 6.5454545 | U25: =tkhk3!G42 -> 6.3636364 | V25: =TKHK4!F42 -> 7 | W25: =TKHK4!G42 -> 7.0909091 | X25: =TKHK4!H42 -> 6.4545455 | Y25: =#REF! -> #REF! | Z25: =#REF! -> #REF! | AA25: =#REF! -> #REF! | AB25: =#REF! -> #REF! | AC25: =#REF! -> #REF! | AD25: 8
A26: 20 | B26: Lê Kim | C26: Trường | D26: 05.03.2001 | E26: Hải An - Tĩnh Gia- Thanh Hóa | F26: =TKHK1!L42 -> 8 | G26: =TKHK1!H42 -> 7.6 | H26: =TKHK1!N42 -> 7.2857143 | I26: =TKHK1!M42 -> 6 | J26: =TKHK1!O42 -> 6.4285714 | K26: =TKHK2!I41 -> 6.6666667 | L26: =TKHK1!G42 -> 5.2857143 | M26: =TKHK1!F42 -> 6 | N26: =TKHK1!I42 -> 5.4285714 | O26: =TKHK1!J42 -> 5.5555556 | P26: =TKHK1!K42 -> 6 | Q26: =TKHK2!F41 -> 6.6666667 | R26: =TKHK2!G41 -> 7.0909091 | S26: =TKHK2!H41 -> 7.7142857 | T26: =tkhk3!F43 -> 7.5454545 | U26: =tkhk3!G43 -> 7.1818182 | V26: =TKHK4!F43 -> 6.3333333 | W26: =TKHK4!G43 -> 6.7272727 | X26: =TKHK4!H43 -> 6.1818182 | Y26: =#REF! -> #REF! | Z26: =#REF! -> #REF! | AA26: =#REF! -> #REF! | AB26: =#REF! -> #REF! | AC26: =#REF! -> #REF! | AD26: 6
A27: 21 | B27: Lê Văn | C27: Tuân | D27: 21.09.2001 | E27: Ninh Hải - Tĩnh Gia - Thanh Hóa | F27: =TKHK1!L44 -> 6 | G27: =TKHK1!H44 -> 8 | H27: =TKHK1!N44 -> 5.5714286 | I27: =TKHK1!M44 -> 6.1818182 | J27: =TKHK1!O44 -> 7.1428571 | K27: =TKHK2!I43 -> 7.1111111 | L27: =TKHK1!G44 -> 5 | M27: =TKHK1!F44 -> 5.4285714 | N27: =TKHK1!I44 -> 6.4285714 | O27: =TKHK1!J44 -> 5.4444444 | P27: =TKHK1!K44 -> 5.7142857 | Q27: =TKHK2!F43 -> 6.2222222 | R27: =TKHK2!G43 -> 7.2727273 | S27: =TKHK2!H43 -> 7 | T27: =tkhk3!F45 -> 7.3636364 | U27: =tkhk3!G45 -> 6.6363636 | V27: =TKHK4!F45 -> 8.1333333 | W27: =TKHK4!G45 -> 7.1818182 | X27: =TKHK4!H45 -> 6 | Y27: =#REF! -> #REF! | Z27: =#REF! -> #REF! | AA27: =#REF! -> #REF! | AB27: =#REF! -> #REF! | AC27: =#REF! -> #REF! | AD27: 10
A28: 22 | B28: Phạm Văn | C28: Tuấn | D28: 10.11.2001 | E28: Hải Ninh- Tĩnh Gia- Thanh Hóa | F28: =TKHK1!L45 -> 7 | G28: =TKHK1!H45 -> 7.4 | H28: =TKHK1!N45 -> 5.2857143 | I28: =TKHK1!M45 -> 6.4545455 | J28: =TKHK1!O45 -> 5.8571429 | K28: =TKHK2!I44 -> 6.7777778 | L28: =TKHK1!G45 -> 5.2857143 | M28: =TKHK1!F45 -> 6.1428571 | N28: =TKHK1!I45 -> 7 | O28: =TKHK1!J45 -> 5.7777778 | P28: =TKHK1!K45 -> 6.1428571 | Q28: =TKHK2!F44 -> 5.7777778 | R28: =TKHK2!G44 -> 6.4545455 | S28: =TKHK2!H44 -> 7.4285714 | T28: =tkhk3!F46 -> 7.1818182 | U28: =tkhk3!G46 -> 6.3636364 | V28: =TKHK4!F46 -> 5 | W28: =TKHK4!G46 -> 5.3636364 | X28: =TKHK4!H46 -> 5.8181818 | Y28: =#REF! -> #REF! | Z28: =#REF! -> #REF! | AA28: =#REF! -> #REF! | AB28: =#REF! -> #REF! | AC28: =#REF! -> #REF! | AD28: 9
A29: 23 | B29: Lê Thị | C29: Tuyết | D29: 20.10.2001 | E29: Tĩnh Gia - Thanh Hóa | F29: =TKHK1!L46 -> 8 | G29: =TKHK1!H46 -> 8 | H29: =TKHK1!N46 -> 7.2857143 | I29: =TKHK1!M46 -> 6.7272727 | J29: =TKHK1!O46 -> 6.8571429 | K29: =TKHK2!I45 -> 7.6666667 | L29: =TKHK1!G46 -> 6.7142857 | M29: =TKHK1!F46 -> 7.4285714 | N29: =TKHK1!I46 -> 6.5714286 | O29: =TKHK1!J46 -> 6.2222222 | P29: =TKHK1!K46 -> 8 | Q29: =TKHK2!F45 -> 8 | R29: =TKHK2!G45 -> 7.8181818 | S29: =TKHK2!H45 -> 7.2857143 | T29: =tkhk3!F47 -> 7.8181818 | U29: =tkhk3!G47 -> 7 | V29: =TKHK4!F47 -> 8.6 | W29: =TKHK4!G47 -> 7.1818182 | X29: =TKHK4!H47 -> 6.6363636 | Y29: =#REF! -> #REF! | Z29: =#REF! -> #REF! | AA29: =#REF! -> #REF! | AB29: =#REF! -> #REF! | AC29: =#REF! -> #REF! | AD29: 8
A30: 24 | B30: Mai Huy | C30: Việt | D30: 15.02.2001 | E30: Tĩnh Gia- Thanh Hóa | F30: =TKHK1!L47 -> 7 | G30: =TKHK1!H47 -> 8.2 | H30: =TKHK1!N47 -> 6 | I30: =TKHK1!M47 -> 5.8181818 | J30: =TKHK1!O47 -> 6 | K30: =TKHK2!I46 -> 7.7777778 | L30: =TKHK1!G47 -> 5.8571429 | M30: =TKHK1!F47 -> 7 | N30: =TKHK1!I47 -> 7 | O30: =TKHK1!J47 -> 6 | P30: =TKHK1!K47 -> 7 | Q30: =TKHK2!F46 -> 7.3333333 | R30: =TKHK2!G46 -> 7.8181818 | S30: =TKHK2!H46 -> 7.2857143 | T30: =tkhk3!F48 -> 8.3636364 | U30: =tkhk3!G48 -> 8 | V30: =TKHK4!F48 -> 7.6666667 | W30: =TKHK4!G48 -> 7.0909091 | X30: =TKHK4!H48 -> 7.2727273 | Y30: =#REF! -> #REF! | Z30: =#REF! -> #REF! | AA30: =#REF! -> #REF! | AB30: =#REF! -> #REF! | AC30: =#REF! -> #REF! | AD30: 6
A31: 25 | B31: Đỗ Tuấn | C31: Vương | D31: 03.01.2001 | E31: Trường Lâm - Tĩnh Gia - Thanh Hóa | F31: =TKHK1!L49 -> 6.7142857 | G31: =TKHK1!H49 -> 8 | H31: =TKHK1!N49 -> 6.8571429 | I31: =TKHK1!M49 -> 5.8181818 | J31: =TKHK1!O49 -> 6.8571429 | K31: =TKHK2!I48 -> 7 | L31: =TKHK1!G49 -> 6 | M31: =TKHK1!F49 -> 6.4285714 | N31: =TKHK1!I49 -> 6.7142857 | O31: =TKHK1!J49 -> 6 | P31: =TKHK1!K49 -> 6.4285714 | Q31: =TKHK2!F48 -> 6.2222222 | R31: =TKHK2!G48 -> 6.8181818 | S31: =TKHK2!H48 -> 6.4285714 | T31: =tkhk3!F50 -> 7.3636364 | U31: =tkhk3!G50 -> 7.1818182 | V31: =TKHK4!F50 -> 8.4 | W31: =TKHK4!G50 -> 6.7272727 | X31: =TKHK4!H50 -> 6.5454545 | Y31: =#REF! -> #REF! | Z31: =#REF! -> #REF! | AA31: =#REF! -> #REF! | AB31: =#REF! -> #REF! | AC31: =#REF! -> #REF! | AD31: 6
A32: 26 | B32: Nguyễn Đình | C32: Nhật | D32: 06.05.2001 | E32: Nguyên Bình - Tĩnh Gia - Thanh Hóa | F32: =TKHK1!L51 -> 6 | G32: =TKHK1!H51 -> 8.6 | H32: =TKHK1!N51 -> 6.5714286 | I32: =TKHK1!M51 -> 5.6363636 | J32: =TKHK1!O51 -> 7.2857143 | K32: =TKHK2!I50 -> 7.3333333 | L32: =TKHK1!G51 -> 5.7142857 | M32: =TKHK1!F51 -> 5.7142857 | N32: =TKHK1!I51 -> 5.8571429 | O32: =TKHK1!J51 -> 7 | P32: =TKHK1!K51 -> 7.7142857 | Q32: =TKHK2!F50 -> 5.7777778 | R32: =TKHK2!G50 -> 6.6363636 | S32: =TKHK2!H50 -> 6 | T32: =tkhk3!F52 -> 7.3636364 | U32: =tkhk3!G52 -> 6.6363636 | V32: =TKHK4!F52 -> 8.2666667 | W32: =TKHK4!G52 -> 8 | X32: =TKHK4!H52 -> 7.2727273 | Y32: =#REF! -> #REF! | Z32: =#REF! -> #REF! | AA32: =#REF! -> #REF! | AB32: =#REF! -> #REF! | AC32: =#REF! -> #REF! | AD32: 9
E36: Tổng số 38 học sinh

Sheet tphk1
A1: BẢNG GHI ĐIỂM MÔĐUN / MÔN HỌC
A2: Học Kỳ I Năm Học 2016- 2017
A3: Khóa: VIII Lớp: Đ8B1
A4: Môn học: Vật liệu điện Số tiết: 30 Số ĐVHT: 2 Ngày thi: 12/2016
A5: Họ và tên giáo viên: Nguyễn Quốc Anh
A6: TT | B6: Họ và tên | D6: Ngày Sinh | E6: Nơi Sinh | F6: HS2 | K6: L1 | L6: L2 | M6: Tổng kết | O6: Vật liệu điện
M7: L1 | N7: L2 | O7: 2
A8: 1 | B8: Nguyễn Thế | C8: Ánh | D8: 05.10.2001 | E8: Đội 1- Nguyên Bình- Tĩnh Gia - Thanh Hóa | F8: 5 | G8: 6 | K8: 7 | M8: =(SUM(F8:G8)*2+K8*3)/7 -> 6.1428571 | O8: =MAX(M8,N8) -> 6.1428571
A9: 2 | B9: Lê Hữu | C9: Chiến | D9: 11.07.2000 | E9: Thị Trấn - Tĩnh Gia - Thanh Hóa | F9: 7 | G9: 7 | K9: 6 | M9: =(SUM(F9:G9)*2+K9*3)/7 -> 6.5714286 | O9: =MAX(M9,N9) -> 6.5714286
A10: 3 | B10: Lê Công | C10: Chính | D10: 16/09/2000 | E10: Đội 16- Nguyên Bình- Tĩnh Gia- Thanh Hóa | F10: 6 | G10: 6 | K10: 6 | M10: =(SUM(F10:G10)*2+K10*3)/7 -> 6 | O10: =MAX(M10,N10) -> 6
A11: 4 | B11: Lê Đức | C11: Chung | D11: 37142 | E11: Đông Hải - Hải Hòa- Tĩnh Gia - Thanh Hóa | F11: 5 | G11: 6 | K11: 7 | M11: =(SUM(F11:G11)*2+K11*3)/7 -> 6.1428571 | O11: =MAX(M11,N11) -> 6.1428571
A12: 5 | B12: Lê Văn | C12: Cương | D12: 16/10/2000 | E12: Hữu Nam– Mai Lâm – Tĩnh Gia – Thanh Hóa | F12: 6 | G12: 6 | K12: 7 | M12: =(SUM(F12:G12)*2+K12*3)/7 -> 6.4285714 | O12: =MAX(M12,N12) -> 6.4285714
A13: 6 | B13: Lê Văn | C13: Đại | D13: 19/02/2001 | E13: Sơn Trà- Trúc Lâm- Tĩnh Gia - Thanh Hóa | F13: 6 | G13: 6 | K13: 5 | M13: =(SUM(F13:G13)*2+K13*3)/7 -> 5.5714286 | O13: =MAX(M13,N13) -> 5.5714286
A14: 7 | B14: Lê Công | C14: Đạt | D14: 36929 | E14: Đồng Minh - Hải Ninh - Tĩnh Gia - Thanh Hóa | F14: 5 | G14: 6 | K14: 7 | M14: =(SUM(F14:G14)*2+K14*3)/7 -> 6.1428571 | O14: =MAX(M14,N14) -> 6.1428571
A15: 8 | B15: Bùi Văn | C15: Dũng | D15: 16.09.2000 | E15: Hải Hà - Tĩnh Gia - Thanh Hóa | F15: 6 | G15: 6 | K15: 6 | M15: =(SUM(F15:G15)*2+K15*3)/7 -> 6 | O15: =MAX(M15,N15) -> 6
A16: 9 | B16: Vũ Trọng | C16: Dương | D16: 10.12.2001 | E16: Hải Nhân - Tĩnh Gia - Thanh Hóa | F16: 6 | G16: 6 | K16: 7 | M16: =(SUM(F16:G16)*2+K16*3)/7 -> 6.4285714 | O16: =MAX(M16,N16) -> 6.4285714
A17: 10 | B17: Trương Bá | C17: Hạnh | D17: 37231 | E17: Thôn 10- Tân Trường- Tĩnh Gia- Thanh Hóa | F17: 6 | G17: 6 | K17: 6 | M17: =(SUM(F17:G17)*2+K17*3)/7 -> 6 | O17: =MAX(M17,N17) -> 6
A18: 11 | B18: Nguyễn Đắc | C18: Hiếu | D18: 19/02/2000 | E18: Thôn 6- Hải Lĩnh-Tĩnh Gia- Thanh Hóa | F18: 5 | G18: 6 | K18: 6 | M18: =(SUM(F18:G18)*2+K18*3)/7 -> 5.7142857 | O18: =MAX(M18,N18) -> 5.7142857
A19: 12 | B19: Mai Xuân | C19: Hinh | D19: 37205 | E19: Ninh Sơn- Trường Lâm- Tĩnh Gia- Thanh Hóa | F19: 6 | M19: =(SUM(F19:G19)*2+K19*3)/7 -> 1.7142857 | O19: bỏ
A20: 13 | B20: Phạm Đình | C20: Hoàng | D20: 13.02.2001 | E20: Nguyên Bình - Tĩnh Gia - Thanh Hóa | F20: 6 | G20: 6 | K20: 6 | M20: =(SUM(F20:G20)*2+K20*3)/7 -> 6 | O20: =MAX(M20,N20) -> 6
A21: 14 | B21: Lê Văn | C21: Hùng | D21: 09.08.2000 | E21: Bình Minh - Tĩnh Gia - Thanh Hóa | F21: 6 | G21: 6 | K21: 6 | M21: =(SUM(F21:G21)*2+K21*3)/7 -> 6 | O21: =MAX(M21,N21) -> 6
A22: 15 | B22: Trương Đình | C22: Hùng | D22: 15.06.2001 | E22: Ninh Hải - Tĩnh Gia - Thanh Hóa | F22: 5 | G22: 5 | K22: 6 | M22: =(SUM(F22:G22)*2+K22*3)/7 -> 5.4285714 | O22: =MAX(M22,N22) -> 5.4285714
A23: 16 | B23: Trần Văn | C23: Huy | D23: 24.08.2001 | E23: Tân Trường - Tĩnh Gia - Thanh Hóa | F23: 5 | M23: =(SUM(F23:G23)*2+K23*3)/7 -> 1.4285714 | O23: bỏ
A24: 17 | B24: Mai Xuân | C24: Huy | D24: 25.10.2001 | E24: Trường Lâm - Tĩnh Gia - Thanh Hóa | F24: 5 | G24: 6 | K24: 6 | M24: =(SUM(F24:G24)*2+K24*3)/7 -> 5.7142857 | O24: =MAX(M24,N24) -> 5.7142857
A25: 18 | B25: Lê Vinh | C25: Huy | D25: 36739 | E25: Bản Cát – Mai Lâm – Tĩnh Gia – Thanh Hóa | F25: 5 | G25: 6 | K25: 7 | M25: =(SUM(F25:G25)*2+K25*3)/7 -> 6.1428571 | O25: =MAX(M25,N25) -> 6.1428571
A26: 19 | B26: Nguyễn Xuân | C26: Lâm | D26: 22.11.2001 | E26: Nguyên Bình - Tĩnh Gia - Thanh Hóa | F26: 6 | G26: 6 | K26: 7 | M26: =(SUM(F26:G26)*2+K26*3)/7 -> 6.4285714 | O26: =MAX(M26,N26) -> 6.4285714
A27: 20 | B27: Phạm Nhật | C27: Linh | D27: 02.05.2001 | E27: Hải Ninh - Tĩnh Gia - Thanh Hóa | F27: 6 | M27: =(SUM(F27:G27)*2+K27*3)/7 -> 1.7142857 | O27: bỏ
A28: 21 | B28: Lê Văn | C28: Long | D28: 27.04.2001 | E28: Hải Thanh - Tĩnh Gia - Thanh Hóa | F28: 5 | G28: 6 | K28: 6 | M28: =(SUM(F28:G28)*2+K28*3)/7 -> 5.7142857 | O28: =MAX(M28,N28) -> 5.7142857
A29: 22 | B29: Đồng Xuân | C29: Mạnh | D29: 36923 | E29: Bình Minh- Trường Lâm- Tĩnh Gia- Thanh Hóa | F29: 6 | G29: 6 | K29: 5 | M29: =(SUM(F29:G29)*2+K29*3)/7 -> 5.5714286 | O29: =MAX(M29,N29) -> 5.5714286
A30: 23 | B30: Nguyễn Văn | C30: Minh | D30: 18.05.2001 | E30: Thượng Hải - Hải Thanh – Tĩnh Gia – Thanh Hóa | F30: 6 | G30: 6 | K30: 7 | M30: =(SUM(F30:G30)*2+K30*3)/7 -> 6.4285714 | O30: =MAX(M30,N30) -> 6.4285714
A31: 24 | B31: Hồ Sĩ | C31: Minh | D31: 10.12.2000 | E31: Phú Sơn - Tĩnh Gia - Thanh Hóa | F31: 6 | G31: 6 | K31: 6 | M31: =(SUM(F31:G31)*2+K31*3)/7 -> 6 | O31: =MAX(M31,N31) -> 6
A32: 25 | B32: Nguyễn Thị | C32: Mừng | D32: 37014 | E32: Giảng Tín - Trúc Lâm- Tĩnh Gia- Thanh Hóa | F32: 7 | G32: 8 | K32: 8 | M32: =(SUM(F32:G32)*2+K32*3)/7 -> 7.7142857 | O32: =MAX(M32,N32) -> 7.7142857
A33: 26 | B33: Lê Văn | C33: Nam | D33: 23.07.2001 | E33: Nguyên Bình - Tĩnh Gia - Thanh Hóa | F33: 5 | G33: 6 | K33: 6 | M33: =(SUM(F33:G33)*2+K33*3)/7 -> 5.7142857 | O33: =MAX(M33,N33) -> 5.7142857
A34: 27 | B34: Lê Văn | C34: Nam | D34: 16.08.2001 | E34: Hải Châu - Tĩnh Gia - Thanh Hóa | F34: 5 | G34: 6 | K34: 7 | M34: =(SUM(F34:G34)*2+K34*3)/7 -> 6.1428571 | O34: =MAX(M34,N34) -> 6.1428571
A35: 28 | B35: Ngô Khải | C35: Phong | D35: 15.08.2001 | E35: Hải Thanh - Tĩnh Gia - Thanh Hóa | F35: 7 | G35: 8 | K35: 7 | M35: =(SUM(F35:G35)*2+K35*3)/7 -> 7.2857143 | O35: =MAX(M35,N35) -> 7.2857143
A36: 29 | B36: Đỗ Ngọc | C36: Sơn | D36: 21.11.2000 | E36: Hoa Lư - Ninh Bình | F36: 5 | G36: 6 | K36: 5 | M36: =(SUM(F36:G36)*2+K36*3)/7 -> 5.2857143 | O36: =MAX(M36,N36) -> 5.2857143
A37: 30 | B37: Hoàng Văn | C37: Thái | D37: 25/4/2001 | E37: Đại Tiến- Ninh Hải- Tĩnh Gia- Thanh Hóa | F37: 5 | G37: 6 | K37: 7 | M37: =(SUM(F37:G37)*2+K37*3)/7 -> 6.1428571 | O37: =MAX(M37,N37) -> 6.1428571
A38: 31 | B38: Lê Doãn | C38: Thái | D38: 18/09/2001 | E38: Thôn 2 - Định Hải - Tĩnh Gia - Thanh Hóa | F38: 6 | G38: 7 | K38: 7 | M38: =(SUM(F38:G38)*2+K38*3)/7 -> 6.7142857 | O38: =MAX(M38,N38) -> 6.7142857
A39: 32 | B39: Lê Hữu | C39: Thành | D39: 37231 | E39: Thống Nhất- Ninh Hải- Tĩnh Gia- Thanh Hóa | F39: 6 | G39: 6 | K39: 7 | M39: =(SUM(F39:G39)*2+K39*3)/7 -> 6.4285714 | O39: =MAX(M39,N39) -> 6.4285714
A40: 33 | B40: Mai Xuân | C40: Thiện | D40: 10.07.2001 | E40: Ninh Hải - Tĩnh Gia - Thanh Hóa | F40: 6 | G40: 6 | K40: 6 | M40: =(SUM(F40:G40)*2+K40*3)/7 -> 6 | O40: =MAX(M40,N40) -> 6
...

Sheet TKHK1
C1: ĐiỂM TỔNG KẾT HỌC KỲ 1 NĂM HỌC 2016 - 2017
E2: LỚP Đ8B1
A3: TT | B3: Họ và tên | D3: Ngày Sinh | E3: Nơi Sinh | F3: =tphk1!O6 -> Vật liệu điện | G3: =tphk1!O67 -> An toàn điện | H3: =tphk1!O127 -> Pháp luật | I3: =tphk1!O189 -> vẽ điện | J3: =tphk1!O252 -> mạch điện | K3: =tphk1!O314 -> Vẽ kỹ thuật | L3: =tphk1!O377 -> Chính trị | M3: =tphk1!O439 -> Tiếng Anh | N3: =tphk1!O518 -> Tin học | O3: =tphk1!O619 -> giáo dục thể chất | P3: TB CHUNG | Q3: Xếp loại
F4: =tphk1!O7 -> 2 | G4: =tphk1!O68 -> 2 | H4: =tphk1!O128 -> 1 | I4: =tphk1!O190 -> 2 | J4: =tphk1!O253 -> 4 | K4: =tphk1!O315 -> 2 | L4: =tphk1!O378 -> 2 | M4: =tphk1!O440 -> 2 | N4: =tphk1!O519 -> 2 | O4: =tphk1!O620 -> 2 | P4: =SUM(F4:O4) -> 21
A5: 1 | B5: Nguyễn Thế | C5: Ánh | D5: 05.10.2001 | E5: Đội 1- Nguyên Bình- Tĩnh Gia - Thanh Hóa | F5: =tphk1!O8 -> 6.1428571 | G5: =tphk1!O69 -> 5.2857143 | H5: =tphk1!O129 -> 7.8 | I5: =tphk1!O191 -> 7 | J5: =tphk1!O254 -> 5.5555556 | K5: =tphk1!O316 -> 5.5714286 | L5: =tphk1!O379 -> 5.7142857 | M5: =tphk1!O441 -> 5.6363636 | N5: =tphk1!O520 -> 6.4285714 | O5: =tphk1!O621 -> 6 | P5: =(F5*2+G5*2+H5*1+I5*2+J5*4+K5*2+L5*2+M5*2+N5*2+O5*2)/21 -> 5.9800316 | Q5: =(IF(P5>=8,"Giỏi",IF(P5>=7,"Khá",IF(P5>=6,"TB","yếu")))) -> yếu
A6: 2 | B6: Lê Hữu | C6: Chiến | D6: 11.07.2000 | E6: Thị Trấn - Tĩnh Gia - Thanh Hóa | F6: =tphk1!O9 -> 6.5714286 | G6: =tphk1!O70 -> 6.1428571 | H6: =tphk1!O130 -> 8.2 | I6: =tphk1!O192 -> 7 | J6: =tphk1!O255 -> 5.7777778 | K6: =tphk1!O317 -> 7.4285714 | L6: =tphk1!O380 -> 6.2857143 | M6: =tphk1!O442 -> 6.1818182 | N6: =tphk1!O521 -> 6 | O6: =tphk1!O622 -> 5.2857143 | P6: =(F6*2+G6*2+H6*1+I6*2+J6*4+K6*2+L6*2+M6*2+N6*2+O6*2)/21 -> 6.3382533 | Q6: =(IF(P6>=8,"Giỏi",IF(P6>=7,"Khá",IF(P6>=6,"TB","yếu")))) -> TB
A7: 3 | B7: Lê Công | C7: Chính | D7: 16/09/2000 | E7: Đội 16- Nguyên Bình- Tĩnh Gia- Thanh Hóa | F7: =tphk1!O10 -> 6 | G7: =tphk1!O71 -> 5.2857143 | H7: =tphk1!O131 -> 8 | I7: =tphk1!O193 -> 5 | J7: =tphk1!O256 -> 5.3333333 | K7: =tphk1!O318 -> 6.4285714 | L7: =tphk1!O381 -> 6 | M7: =tphk1!O443 -> 6.1818182 | N7: =tphk1!O522 -> 6 | O7: =tphk1!O623 -> 6.7142857 | P7: =(F7*2+G7*2+H7*1+I7*2+J7*4+K7*2+L7*2+M7*2+N7*2+O7*2)/21 -> 5.9311482 | Q7: =(IF(P7>=8,"Giỏi",IF(P7>=7,"Khá",IF(P7>=6,"TB","yếu")))) -> yếu
A8: 4 | B8: Lê Đức | C8: Chung | D8: 37142 | E8: Đông Hải - Hải Hòa- Tĩnh Gia - Thanh Hóa | F8: =tphk1!O11 -> 6.1428571 | G8: =tphk1!O72 -> 6.1428571 | H8: =tphk1!O132 -> 7.8 | I8: =tphk1!O194 -> 6.4285714 | J8: =tphk1!O257 -> 7.2222222 | K8: =tphk1!O319 -> 6.2857143 | L8: =tphk1!O382 -> 7 | M8: =tphk1!O444 -> 6.1818182 | N8: =tphk1!O523 -> 6.4285714 | O8: =tphk1!O624 -> 5.5714286 | P8: =(F8*2+G8*2+H8*1+I8*2+J8*4+K8*2+L8*2+M8*2+N8*2+O8*2)/21 -> 6.5263107 | Q8: =(IF(P8>=8,"Giỏi",IF(P8>=7,"Khá",IF(P8>=6,"TB","yếu")))) -> TB
A9: 5 | B9: Lê Văn | C9: Cương | D9: 16/10/2000 | E9: Hữu Nam– Mai Lâm – Tĩnh Gia – Thanh Hóa | F9: =tphk1!O12 -> 6.4285714 | G9: =tphk1!O73 -> 5.4285714 | H9: =tphk1!O133 -> 7.6 | I9: =tphk1!O195 -> 7.5714286 | J9: =tphk1!O258 -> 7.5555556 | K9: =tphk1!O320 -> 8.2857143 | L9: =tphk1!O383 -> 7 | M9: =tphk1!O445 -> 5.6363636 | N9: =tphk1!O524 -> 6.2857143 | O9: =tphk1!O625 -> 5.8571429 | P9: =(F9*2+G9*2+H9*1+I9*2+J9*4+K9*2+L9*2+M9*2+N9*2+O9*2)/21 -> 6.8004398 | Q9: =(IF(P9>=8,"Giỏi",IF(P9>=7,"Khá",IF(P9>=6,"TB","yếu")))) -> TB
A10: 6 | B10: Lê Văn | C10: Đại | D10: 19/02/2001 | E10: Sơn Trà- Trúc Lâm- Tĩnh Gia - Thanh Hóa | F10: =tphk1!O13 -> 5.5714286 | G10: =tphk1!O74 -> 5.7142857 | H10: =tphk1!O134 -> 8 | I10: =tphk1!O196 -> 6 | J10: =tphk1!O259 -> 5.7777778 | K10: =tphk1!O321 -> 7 | L10: =tphk1!O384 -> 7 | M10: =tphk1!O446 -> 5.8181818 | N10: =tphk1!O525 -> 6 | O10: =tphk1!O626 -> 6.4285714 | P10: =(F10*2+G10*2+H10*1+I10*2+J10*4+K10*2+L10*2+M10*2+N10*2+O10*2)/21 -> 6.1988593 | Q10: =(IF(P10>=8,"Giỏi",IF(P10>=7,"Khá",IF(P10>=6,"TB","yếu")))) -> TB | S10: Giỏi | T10: =COUNTIF(Q5:Q52,"Giỏi") -> 0
A11: 7 | B11: Lê Công | C11: Đạt | D11: 36929 | E11: Đồng Minh - Hải Ninh - Tĩnh Gia - Thanh Hóa | F11: =tphk1!O14 -> 6.1428571 | G11: =tphk1!O75 -> 5 | H11: =tphk1!O135 -> 7.2 | I11: =tphk1!O197 -> 5.2857143 | J11: =tphk1!O260 -> 6 | K11: =tphk1!O322 -> 6.2857143 | L11: =tphk1!O385 -> 6.7142857 | M11: =tphk1!O447 -> 5.9090909 | N11: =tphk1!O526 -> 5.7142857 | O11: =tphk1!O627 -> 7.2857143 | P11: =(F11*2+G11*2+H11*1+I11*2+J11*4+K11*2+L11*2+M11*2+N11*2+O11*2)/21 -> 6.0893012 | Q11: =(IF(P11>=8,"Giỏi",IF(P11>=7,"Khá",IF(P11>=6,"TB","yếu")))) -> TB | S11: Khá | T11: =COUNTIF(Q6:Q53,"Khá") -> 3
A12: 8 | B12: Bùi Văn | C12: Dũng | D12: 16.09.2000 | E12: Hải Hà - Tĩnh Gia - Thanh Hóa | F12: =tphk1!O15 -> 6 | G12: =tphk1!O76 -> 6.1428571 | H12: =tphk1!O136 -> 8 | I12: =tphk1!O198 -> 6.7142857 | J12: =tphk1!O261 -> 6.5555556 | K12: =tphk1!O323 -> 7 | L12: =tphk1!O386 -> 7 | M12: =tphk1!O448 -> 6 | N12: =tphk1!O527 -> 7 | O12: =tphk1!O628 -> 5.8571429 | P12: =(F12*2+G12*2+H12*1+I12*2+J12*4+K12*2+L12*2+M12*2+N12*2+O12*2)/21 -> 6.5547997 | Q12: =(IF(P12>=8,"Giỏi",IF(P12>=7,"Khá",IF(P12>=6,"TB","yếu")))) -> TB | S12: TB | T12: =COUNTIF(Q7:Q54,"TB") -> 23
A13: 9 | B13: Vũ Trọng | C13: Dương | D13: 10.12.2001 | E13: Hải Nhân - Tĩnh Gia - Thanh Hóa | F13: =tphk1!O16 -> 6.4285714 | G13: =tphk1!O77 -> 6.2857143 | H13: =tphk1!O137 -> 8 | I13: =tphk1!O199 -> 6.4285714 | J13: =tphk1!O262 -> 7.4444444 | K13: =tphk1!O324 -> 7 | L13: =tphk1!O387 -> 7 | M13: =tphk1!O449 -> 6.3636364 | N13: =tphk1!O528 -> 6.2857143 | O13: =tphk1!O629 -> 6.4285714 | P13: =(F13*2+G13*2+H13*1+I13*2+J13*4+K13*2+L13*2+M13*2+N13*2+O13*2)/21 -> 6.7723493 | Q13: =(IF(P13>=8,"Giỏi",IF(P13>=7,"Khá",IF(P13>=6,"TB","yếu")))) -> TB | S13: Yếu | T13: =COUNTIF(Q5:Q52,"Yếu") -> 11
A14: 10 | B14: Trương Bá | C14: Hạnh | D14: 37231 | E14: Thôn 10- Tân Trường- Tĩnh Gia- Thanh Hóa | F14: =tphk1!O17 -> 6 | G14: =tphk1!O78 -> 5.4285714 | H14: =tphk1!O138 -> 7.6 | I14: =tphk1!O200 -> 5.7142857 | J14: =tphk1!O263 -> 5.5555556 | K14: =tphk1!O325 -> 6 | L14: =tphk1!O388 -> 6.2857143 | M14: =tphk1!O450 -> 5.8181818 | N14: =tphk1!O529 -> 5.8571429 | O14: =tphk1!O630 -> 7.2857143 | P14: =(F14*2+G14*2+H14*1+I14*2+J14*4+K14*2+L14*2+M14*2+N14*2+O14*2)/21 -> 6.0286401 | Q14: =(IF(P14>=8,"Giỏi",IF(P14>=7,"Khá",IF(P14>=6,"TB","yếu")))) -> TB
A15: 11 | B15: Nguyễn Đắc | C15: Hiếu | D15: 19/02/2000 | E15: Thôn 6- Hải Lĩnh-Tĩnh Gia- Thanh Hóa | F15: =tphk1!O18 -> 5.7142857 | G15: =tphk1!O79 -> 5.2857143 | H15: =tphk1!O139 -> 6.2 | I15: =tphk1!O201 -> 5.7142857 | J15: =tphk1!O264 -> 5 | K15: =tphk1!O326 -> 5.7142857 | L15: =tphk1!O389 -> 6.2857143 | M15: =tphk1!O451 -> 6.3636364 | N15: =tphk1!O530 -> 6 | O15: =tphk1!O631 -> 8.1428571 | P15: =(F15*2+G15*2+H15*1+I15*2+J15*4+K15*2+L15*2+M15*2+N15*2+O15*2)/21 -> 5.9353123 | Q15: =(IF(P15>=8,"Giỏi",IF(P15>=7,"Khá",IF(P15>=6,"TB","yếu")))) -> yếu
A16: 12 | B16: Mai Xuân | C16: Hinh | D16: 37205 | E16: Ninh Sơn- Trường Lâm- Tĩnh Gia- Thanh Hóa | F16: =tphk1!O19 -> bỏ | G16: =tphk1!O80 -> bỏ | H16: =tphk1!O140 -> BỎ | I16: =tphk1!O202 -> BỎ | J16: =tphk1!O265 -> BỎ | K16: =tphk1!O327 -> BỎ | L16: =tphk1!O390 -> BỎ | M16: =tphk1!O452 -> hl | N16: =tphk1!O531 -> HL | O16: =tphk1!O632 -> 6.4285714 | P16: =(F16*2+G16*2+H16*1+I16*2+J16*4+K16*2+L16*2+M16*2+N16*2+O16*2)/21 -> #VALUE! | Q16: =(IF(P16>=8,"Giỏi",IF(P16>=7,"Khá",IF(P16>=6,"TB","yếu")))) -> #VALUE!
A17: 13 | B17: Phạm Đình | C17: Hoàng | D17: 13.02.2001 | E17: Nguyên Bình - Tĩnh Gia - Thanh Hóa | F17: =tphk1!O20 -> 6 | G17: =tphk1!O81 -> 5 | H17: =tphk1!O141 -> 5.8 | I17: =tphk1!O203 -> BỎ | J17: =tphk1!O266 -> HL | K17: =tphk1!O328 -> 5 | L17: =tphk1!O391 -> HL | M17: =tphk1!O453 -> 6.3636364 | N17: =tphk1!O532 -> 6.1428571 | O17: =tphk1!O633 -> TL | P17: =(F17*2+G17*2+H17*1+I17*2+J17*4+K17*2+L17*2+M17*2+N17*2+O17*2)/21 -> #VALUE! | Q17: =(IF(P17>=8,"Giỏi",IF(P17>=7,"Khá",IF(P17>=6,"TB","yếu")))) -> #VALUE!
A18: 14 | B18: Lê Văn | C18: Hùng | D18: 09.08.2000 | E18: Bình Minh - Tĩnh Gia - Thanh Hóa | F18: =tphk1!O21 -> 6 | G18: =tphk1!O82 -> 5.4285714 | H18: =tphk1!O142 -> 7 | I18: =tphk1!O204 -> 6.1428571 | J18: =tphk1!O267 -> 6.2222222 | K18: =tphk1!O329 -> 5.7142857 | L18: =tphk1!O392 -> 6.2857143 | M18: =tphk1!O454 -> 6.3636364 | N18: =tphk1!O533 -> 6.4285714 | O18: =tphk1!O634 -> 5.5714286 | P18: =(F18*2+G18*2+H18*1+I18*2+J18*4+K18*2+L18*2+M18*2+N18*2+O18*2)/21 -> 6.0837628 | Q18: =(IF(P18>=8,"Giỏi",IF(P18>=7,"Khá",IF(P18>=6,"TB","yếu")))) -> TB
A19: 15 | B19: Trương Đình | C19: Hùng | D19: 15.06.2001 | E19: Ninh Hải - Tĩnh Gia - Thanh Hóa | F19: =tphk1!O22 -> 5.4285714 | G19: =tphk1!O83 -> 5.7142857 | H19: =tphk1!O143 -> 7.6 | I19: =tphk1!O205 -> 6 | J19: =tphk1!O268 -> 5 | K19: =tphk1!O330 -> 6 | L19: =tphk1!O393 -> 6 | M19: =tphk1!O455 -> 6.3636364 | N19: =tphk1!O534 -> 5.8571429 | O19: =tphk1!O635 -> 5.8571429 | P19: =(F19*2+G19*2+H19*1+I19*2+J19*4+K19*2+L19*2+M19*2+N19*2+O19*2)/21 -> 5.8115028 | Q19: =(IF(P19>=8,"Giỏi",IF(P19>=7,"Khá",IF(P19>=6,"TB","yếu")))) -> yếu
A20: 16 | B20: Trần Văn | C20: Huy | D20: 24.08.2001 | E20: Tân Trường - Tĩnh Gia - Thanh Hóa | F20: =tphk1!O23 -> bỏ | G20: =tphk1!O84 -> bỏ | H20: =tphk1!O144 -> BỎ | I20: =tphk1!O206 -> BỎ | J20: =tphk1!O269 -> HL | K20: =tphk1!O331 -> BỎ | L20: =tphk1!O394 -> BỎ | M20: =tphk1!O456 -> hl | N20: =tphk1!O535 -> HL | O20: =tphk1!O636 -> HL | P20: =(F20*2+G20*2+H20*1+I20*2+J20*4+K20*2+L20*2+M20*2+N20*2+O20*2)/21 -> #VALUE! | Q20: =(IF(P20>=8,"Giỏi",IF(P20>=7,"Khá",IF(P20>=6,"TB","yếu")))) -> #VALUE!
A21: 17 | B21: Mai Xuân | C21: Huy | D21: 25.10.2001 | E21: Trường Lâm - Tĩnh Gia - Thanh Hóa | F21: =tphk1!O24 -> 5.7142857 | G21: =tphk1!O85 -> 5.2857143 | H21: =tphk1!O145 -> 7.6 | I21: =tphk1!O207 -> 5.7142857 | J21: =tphk1!O270 -> 5.3333333 | K21: =tphk1!O332 -> 5.7142857 | L21: =tphk1!O395 -> 6.7142857 | M21: =tphk1!O457 -> 6.1818182 | N21: =tphk1!O536 -> 6 | O21: =tphk1!O637 -> 6.5714286 | P21: =(F21*2+G21*2+H21*1+I21*2+J21*4+K21*2+L21*2+M21*2+N21*2+O21*2)/21 -> 5.9393115 | Q21: =(IF(P21>=8,"Giỏi",IF(P21>=7,"Khá",IF(P21>=6,"TB","yếu")))) -> yếu
A22: 18 | B22: Lê Vinh | C22: Huy | D22: 36739 | E22: Bản Cát – Mai Lâm – Tĩnh Gia – Thanh Hóa | F22: =tphk1!O25 -> 6.1428571 | G22: =tphk1!O86 -> 5.4285714 | H22: =tphk1!O146 -> 8.2 | I22: =tphk1!O208 -> 5.7142857 | J22: =tphk1!O271 -> 5.5555556 | K22: =tphk1!O333 -> 7.4285714 | L22: =tphk1!O396 -> 6 | M22: =tphk1!O458 -> 6 | N22: =tphk1!O537 -> 5 | O22: =tphk1!O638 -> 6.5714286 | P22: =(F22*2+G22*2+H22*1+I22*2+J22*4+K22*2+L22*2+M22*2+N22*2+O22*2)/21 -> 6.0473167 | Q22: =(IF(P22>=8,"Giỏi",IF(P22>=7,"Khá",IF(P22>=6,"TB","yếu")))) -> TB
A23: 19 | B23: Nguyễn Xuân | C23: Lâm | D23: 22.11.2001 | E23: Nguyên Bình - Tĩnh Gia - Thanh Hóa | F23: =tphk1!O26 -> 6.4285714 | G23: =tphk1!O87 -> 5.4285714 | H23: =tphk1!O147 -> 6.6 | I23: =tphk1!O209 -> 5 | J23: =tphk1!O272 -> 5.2222222 | K23: =tphk1!O334 -> 6 | L23: =tphk1!O397 -> HL | M23: =tphk1!O459 -> 6.0909091 | N23: =tphk1!O538 -> 7 | O23: =tphk1!O639 -> HL | P23: =(F23*2+G23*2+H23*1+I23*2+J23*4+K23*2+L23*2+M23*2+N23*2+O23*2)/21 -> #VALUE! | Q23: =(IF(P23>=8,"Giỏi",IF(P23>=7,"Khá",IF(P23>=6,"TB","yếu")))) -> #VALUE!
A24: 20 | B24: Phạm Nhật | C24: Linh | D24: 02.05.2001 | E24: Hải Ninh - Tĩnh Gia - Thanh Hóa | F24: =tphk1!O27 -> bỏ | G24: =tphk1!O88 -> bỏ | H24: =tphk1!O148 -> BỎ | I24: =tphk1!O210 -> BỎ | J24: =tphk1!O273 -> BỎ | K24: =tphk1!O335 -> BỎ | L24: =tphk1!O398 -> 7 | M24: =tphk1!O460 -> tl | N24: =tphk1!O539 -> HL | O24: =tphk1!O640 -> HL | P24: =(F24*2+G24*2+H24*1+I24*2+J24*4+K24*2+L24*2+M24*2+N24*2+O24*2)/21 -> #VALUE! | Q24: =(IF(P24>=8,"Giỏi",IF(P24>=7,"Khá",IF(P24>=6,"TB","yếu")))) -> #VALUE!
A25: 21 | B25: Lê Văn | C25: Long | D25: 27.04.2001 | E25: Hải Thanh - Tĩnh Gia - Thanh Hóa | F25: =tphk1!O28 -> 5.7142857 | G25: =tphk1!O89 -> 5 | H25: =tphk1!O149 -> 5.8 | I25: =tphk1!O211 -> 7 | J25: =tphk1!O274 -> 5.3333333 | K25: =tphk1!O336 -> 6 | L25: =tphk1!O399 -> 6.7142857 | M25: =tphk1!O461 -> 6.0909091 | N25: =tphk1!O540 -> 6.7142857 | O25: =tphk1!O641 -> 5.2857143 | P25: =(F25*2+G25*2+H25*1+I25*2+J25*4+K25*2+L25*2+M25*2+N25*2+O25*2)/21 -> 5.9129664 | Q25: =(IF(P25>=8,"Giỏi",IF(P25>=7,"Khá",IF(P25>=6,"TB","yếu")))) -> yếu
A26: 22 | B26: Đồng Xuân | C26: Mạnh | D26: 36923 | E26: Bình Minh- Trường Lâm- Tĩnh Gia- Thanh Hóa | F26: =tphk1!O29 -> 5.5714286 | G26: =tphk1!O90 -> 6 | H26: =tphk1!O150 -> 7.2 | I26: =tphk1!O212 -> 5.7142857 | J26: =tphk1!O275 -> 6.4444444 | K26: =tphk1!O337 -> 6.7142857 | L26: =tphk1!O400 -> 7 | M26: =tphk1!O462 -> 6 | N26: =tphk1!O541 -> 5.8571429 | O26: =tphk1!O642 -> 5.7142857 | P26: =(F26*2+G26*2+H26*1+I26*2+J26*4+K26*2+L26*2+M26*2+N26*2+O26*2)/21 -> 6.1962207 | Q26: =(IF(P26>=8,"Giỏi",IF(P26>=7,"Khá",IF(P26>=6,"TB","yếu")))) -> TB
A27: 23 | B27: Nguyễn Văn | C27: Minh | D27: 18.05.2001 | E27: Thượng Hải - Hải Thanh – Tĩnh Gia – Thanh Hóa | F27: =tphk1!O30 -> 6.4285714 | G27: =tphk1!O91 -> 6.5714286 | H27: =tphk1!O151 -> 8.6 | I27: =tphk1!O213 -> 6.7142857 | J27: =tphk1!O276 -> 6 | K27: =tphk1!O338 -> 7.5714286 | L27: =tphk1!O401 -> 6.7142857 | M27: =tphk1!O463 -> 6.5454545 | N27: =tphk1!O542 -> 6 | O27: =tphk1!O643 -> 6.7142857 | P27: =(F27*2+G27*2+H27*1+I27*2+J27*4+K27*2+L27*2+M27*2+N27*2+O27*2)/21 -> 6.6247372 | Q27: =(IF(P27>=8,"Giỏi",IF(P27>=7,"Khá",IF(P27>=6,"TB","yếu")))) -> TB
A28: 24 | B28: Hồ Sĩ | C28: Minh | D28: 10.12.2000 | E28: Phú Sơn - Tĩnh Gia - Thanh Hóa | F28: =tphk1!O31 -> 6 | G28: =tphk1!O92 -> 5.2857143 | H28: =tphk1!O152 -> 7.6 | I28: =tphk1!O214 -> 7.2857143 | J28: =tphk1!O277 -> 5.5555556 | K28: =tphk1!O339 -> 6.1428571 | L28: =tphk1!O402 -> 7 | M28: =tphk1!O464 -> 5.8181818 | N28: =tphk1!O543 -> 6 | O28: =tphk1!O644 -> 6.7142857 | P28: =(F28*2+G28*2+H28*1+I28*2+J28*4+K28*2+L28*2+M28*2+N28*2+O28*2)/21 -> 6.2055109 | Q28: =(IF(P28>=8,"Giỏi",IF(P28>=7,"Khá",IF(P28>=6,"TB","yếu")))) -> TB
A29: 25 | B29: Nguyễn Thị | C29: Mừng | D29: 37014 | E29: Giảng Tín - Trúc Lâm- Tĩnh Gia- Thanh Hóa | F29: =tphk1!O32 -> 7.7142857 | G29: =tphk1!O93 -> 7 | H29: =tphk1!O153 -> 9 | I29: =tphk1!O215 -> 7.2857143 | J29: =tphk1!O278 -> 6.7777778 | K29: =tphk1!O340 -> 9 | L29: =tphk1!O403 -> 8 | M29: =tphk1!O465 -> 7.5454545 | N29: =tphk1!O544 -> 8 | O29: =tphk1!O645 -> 6.7142857 | P29: =(F29*2+G29*2+H29*1+I29*2+J29*4+K29*2+L29*2+M29*2+N29*2+O29*2)/21 -> 7.5538377 | Q29: =(IF(P29>=8,"Giỏi",IF(P29>=7,"Khá",IF(P29>=6,"TB","yếu")))) -> Khá
A30: 26 | B30: Lê Văn | C30: Nam | D30: 23.07.2001 | E30: Nguyên Bình - Tĩnh Gia - Thanh Hóa | F30: =tphk1!O33 -> 5.7142857 | G30: =tphk1!O94 -> 5.7142857 | H30: =tphk1!O154 -> 8.2 | I30: =tphk1!O216 -> 5.2857143 | J30: =tphk1!O279 -> 5.7777778 | K30: =tphk1!O341 -> 6.2857143 | L30: =tphk1!O404 -> 7 | M30: =tphk1!O466 -> 5.8181818 | N30: =tphk1!O545 -> 5.7142857 | O30: =tphk1!O646 -> 5 | P30: =(F30*2+G30*2+H30*1+I30*2+J30*4+K30*2+L30*2+M30*2+N30*2+O30*2)/21 -> 5.9226689 | Q30: =(IF(P30>=8,"Giỏi",IF(P30>=7,"Khá",IF(P30>=6,"TB","yếu")))) -> yếu
A31: 27 | B31: Lê Văn | C31: Nam | D31: 16.08.2001 | E31: Hải Châu - Tĩnh Gia - Thanh Hóa | F31: =tphk1!O34 -> 6.1428571 | G31: =tphk1!O95 -> 6.1428571 | H31: =tphk1!O155 -> 8.6 | I31: =tphk1!O217 -> 6.1428571 | J31: =tphk1!O280 -> 6.2222222 | K31: =tphk1!O342 -> 7.2857143 | L31: =tphk1!O405 -> 7 | M31: =tphk1!O467 -> 6.1818182 | N31: =tphk1!O546 -> 5.2857143 | O31: =tphk1!O647 -> 5.2857143 | P31: =(F31*2+G31*2+H31*1+I31*2+J31*4+K31*2+L31*2+M31*2+N31*2+O31*2)/21 -> 6.3059026 | Q31: =(IF(P31>=8,"Giỏi",IF(P31>=7,"Khá",IF(P31>=6,"TB","yếu")))) -> TB
A32: 28 | B32: Ngô Khải | C32: Phong | D32: 15.08.2001 | E32: Hải Thanh - Tĩnh Gia - Thanh Hóa | F32: =tphk1!O35 -> 7.2857143 | G32: =tphk1!O96 -> 6.1428571 | H32: =tphk1!O156 -> 7.6 | I32: =tphk1!O218 -> 6.7142857 | J32: =tphk1!O281 -> 7 | K32: =tphk1!O343 -> 6.1428571 | L32: =tphk1!O406 -> 7 | M32: =tphk1!O468 -> 7 | N32: =tphk1!O547 -> 6.4285714 | O32: =tphk1!O648 -> 6.1428571 | P32: =(F32*2+G32*2+H32*1+I32*2+J32*4+K32*2+L32*2+M32*2+N32*2+O32*2)/21 -> 6.7292517 | Q32: =(IF(P32>=8,"Giỏi",IF(P32>=7,"Khá",IF(P32>=6,"TB","yếu")))) -> TB
A33: 29 | B33: Đỗ Ngọc | C33: Sơn | D33: 21.11.2000 | E33: Hoa Lư - Ninh Bình | F33: =tphk1!O36 -> 5.2857143 | G33: =tphk1!O97 -> TL | H33: =tphk1!O157 -> HL | I33: =tphk1!O219 -> 5 | J33: =tphk1!O282 -> 5.3333333 | K33: =tphk1!O344 -> 5 | L33: =tphk1!O407 -> 7 | M33: =tphk1!O469 -> 5.9090909 | N33: =tphk1!O548 -> TL | O33: =tphk1!O649 -> 5 | P33: =(F33*2+G33*2+H33*1+I33*2+J33*4+K33*2+L33*2+M33*2+N33*2+O33*2)/21 -> #VALUE! | Q33: =(IF(P33>=8,"Giỏi",IF(P33>=7,"Khá",IF(P33>=6,"TB","yếu")))) -> #VALUE!
A34: 30 | B34: Hoàng Văn | C34: Thái | D34: 25/4/2001 | E34: Đại Tiến- Ninh Hải- Tĩnh Gia- Thanh Hóa | F34: =tphk1!O37 -> 6.1428571 | G34: =tphk1!O98 -> 5.7142857 | H34: =tphk1!O158 -> 8 | I34: =tphk1!O220 -> 6 | J34: =tphk1!O283 -> 5.7777778 | K34: =tphk1!O345 -> 6.5714286 | L34: =tphk1!O408 -> 6.2857143 | M34: =tphk1!O470 -> 6.7272727 | N34: =tphk1!O549 -> 6.4285714 | O34: =tphk1!O650 -> 5.5714286 | P34: =(F34*2+G34*2+H34*1+I34*2+J34*4+K34*2+L34*2+M34*2+N34*2+O34*2)/21 -> 6.1902013 | Q34: =(IF(P34>=8,"Giỏi",IF(P34>=7,"Khá",IF(P34>=6,"TB","yếu")))) -> TB
A35: 31 | B35: Lê Doãn | C35: Thái | D35: 18/09/2001 | E35: Thôn 2 - Định Hải - Tĩnh Gia - Thanh Hóa | F35: =tphk1!O38 -> 6.7142857 | G35: =tphk1!O99 -> 7 | H35: =tphk1!O159 -> 8.6 | I35: =tphk1!O221 -> 7.7142857 | J35: =tphk1!O284 -> 7.7777778 | K35: =tphk1!O346 -> 8.2857143 | L35: =tphk1!O409 -> 6.2857143 | M35: =tphk1!O471 -> 6 | N35: =tphk1!O550 -> 5.7142857 | O35: =tphk1!O651 -> 8.1428571 | P35: =(F35*2+G35*2+H35*1+I35*2+J35*4+K35*2+L35*2+M35*2+N35*2+O35*2)/21 -> 7.2107332 | Q35: =(IF(P35>=8,"Giỏi",IF(P35>=7,"Khá",IF(P35>=6,"TB","yếu")))) -> Khá
A36: 32 | B36: Lê Hữu | C36: Thành | D36: 37231 | E36: Thống Nhất- Ninh Hải- Tĩnh Gia- Thanh Hóa | F36: =tphk1!O39 -> 6.4285714 | G36: =tphk1!O100 -> 6.8571429 | H36: =tphk1!O160 -> 8.2 | I36: =tphk1!O222 -> 6.7142857 | J36: =tphk1!O285 -> 7.4444444 | K36: =tphk1!O347 -> 7.4285714 | L36: =tphk1!O410 -> 7 | M36: =tphk1!O472 -> 7.1818182 | N36: =tphk1!O551 -> 6.2857143 | O36: =tphk1!O652 -> 6.4285714 | P36: =(F36*2+G36*2+H36*1+I36*2+J36*4+K36*2+L36*2+M36*2+N36*2+O36*2)/21 -> 6.9822442 | Q36: =(IF(P36>=8,"Giỏi",IF(P36>=7,"Khá",IF(P36>=6,"TB","yếu")))) -> TB
A37: 33 | B37: Mai Xuân | C37: Thiện | D37: 10.07.2001 | E37: Ninh Hải - Tĩnh Gia - Thanh Hóa | F37: =tphk1!O40 -> 6 | G37: =tphk1!O101 -> 5.2857143 | H37: =tphk1!O161 -> 7.6 | I37: =tphk1!O223 -> 5.7142857 | J37: =tphk1!O286 -> 6 | K37: =tphk1!O348 -> 6.2857143 | L37: =tphk1!O411 -> 6 | M37: =tphk1!O473 -> 5.6363636 | N37: =tphk1!O552 -> 6 | O37: =tphk1!O653 -> 5 | P37: =(F37*2+G37*2+H37*1+I37*2+J37*4+K37*2+L37*2+M37*2+N37*2+O37*2)/21 -> 5.8782931 | Q37: =(IF(P37>=8,"Giỏi",IF(P37>=7,"Khá",IF(P37>=6,"TB","yếu")))) -> yếu
A38: 34 | B38: Lê Đình | C38: Tình | D38: 08.04.2001 | E38: Trường Lâm - Tĩnh Gia - Thanh Hóa | F38: =tphk1!O41 -> 5.7142857 | G38: =tphk1!O102 -> 5 | H38: =tphk1!O162 -> 7.6 | I38: =tphk1!O224 -> 6.4285714 | J38: =tphk1!O287 -> 5.3333333 | K38: =tphk1!O349 -> 5 | L38: =tphk1!O412 -> 6.2857143 | M38: =tphk1!O474 -> 6 | N38: =tphk1!O553 -> TL | O38: =tphk1!O654 -> 6.1428571 | P38: =(F38*2+G38*2+H38*1+I38*2+J38*4+K38*2+L38*2+M38*2+N38*2+O38*2)/21 -> #VALUE! | Q38: =(IF(P38>=8,"Giỏi",IF(P38>=7,"Khá",IF(P38>=6,"TB","yếu")))) -> #VALUE!
A39: 35 | B39: Đậu Xuân | C39: Toàn | D39: 13/08/2001 | E39: Trường Thanh- Trường Lâm- Tĩnh Gia- Thanh Hóa | F39: =tphk1!O42 -> bỏ | G39: =tphk1!O103 -> bỏ | H39: =tphk1!O163 -> BỎ | I39: =tphk1!O225 -> BỎ | J39: =tphk1!O288 -> BỎ | K39: =tphk1!O350 -> BỎ | L39: =tphk1!O413 -> BỎ | M39: =tphk1!O475 -> tl | N39: =tphk1!O554 -> HL | O39: =tphk1!O655 -> HL | P39: =(F39*2+G39*2+H39*1+I39*2+J39*4+K39*2+L39*2+M39*2+N39*2+O39*2)/21 -> #VALUE! | Q39: =(IF(P39>=8,"Giỏi",IF(P39>=7,"Khá",IF(P39>=6,"TB","yếu")))) -> #VALUE!
A40: 36 | B40: Nguyễn Như | C40: Trọng | D40: 26/06/2001 | E40: Thôn 9- Tân Trường- Tĩnh Gia- Thanh Hóa | F40: =tphk1!O43 -> 6.1428571 | G40: =tphk1!O104 -> 5.5714286 | H40: =tphk1!O164 -> 7.2 | I40: =tphk1!O226 -> 8 | J40: =tphk1!O289 -> 6 | K40: =tphk1!O351 -> 7.2857143 | L40: =tphk1!O414 -> 6.7142857 | M40: =tphk1!O476 -> 6.2727273 | N40: =tphk1!O555 -> 6 | O40: =tphk1!O656 -> 8.4285714 | P40: =(F40*2+G40*2+H40*1+I40*2+J40*4+K40*2+L40*2+M40*2+N40*2+O40*2)/21 -> 6.6681509 | Q40: =(IF(P40>=8,"Giỏi",IF(P40>=7,"Khá",IF(P40>=6,"TB","yếu")))) -> TB
...

Sheet tphk2
A1: BẢNG GHI ĐIỂM MÔĐUN / MÔN HỌC
A2: Học Kỳ ...... Năm Học 2016- 2017
A3: Khóa: VIII Lớp: Đ8B1
A4: Môn học: Đo lường điện Số tiết: 60 Số ĐVHT: 4 Ngày thi: 29/05/2017
A5: Họ và tên giáo viên: Ngô Ngọc Hoàng + Nguyễn Thị Mỹ Lệ
A6: TT | B6: Họ và tên | D6: Ngày Sinh | E6: Nơi Sinh | F6: HS2 | K6: L1 | L6: L2 | M6: Tổng kết | O6: Đo lường điện
M7: L1 | N7: L2 | O7: 4
A8: 1 | B8: Nguyễn Thế | C8: Ánh | D8: 05.10.2001 | E8: Đội 1- Nguyên Bình- Tĩnh Gia - Thanh Hóa | F8: 7 | G8: 6 | H8: 7 | K8: 7 | M8: =(F8*2+G8*2+H8*2+K8*3)/9 -> 6.7777778 | O8: =MAX(M8,N8) -> 6.7777778
A9: 2 | B9: Lê Hữu | C9: Chiến | D9: 11.07.2000 | E9: Thị Trấn - Tĩnh Gia - Thanh Hóa | F9: 8 | G9: 6 | H9: 7 | K9: 8 | M9: =(F9*2+G9*2+H9*2+K9*3)/9 -> 7.3333333 | O9: =MAX(M9,N9) -> 7.3333333
A10: 3 | B10: Lê Công | C10: Chính | D10: 16/09/2000 | E10: Đội 16- Nguyên Bình- Tĩnh Gia- Thanh Hóa | F10: 8 | G10: 7 | H10: 6 | K10: 8 | M10: =(F10*2+G10*2+H10*2+K10*3)/9 -> 7.3333333 | O10: =MAX(M10,N10) -> 7.3333333
A11: 4 | B11: Lê Đức | C11: Chung | D11: 37142 | E11: Đông Hải - Hải Hòa- Tĩnh Gia - Thanh Hóa | F11: 8 | G11: 8 | H11: 7 | K11: 8 | M11: =(F11*2+G11*2+H11*2+K11*3)/9 -> 7.7777778 | O11: =MAX(M11,N11) -> 7.7777778
A12: 5 | B12: Lê Văn | C12: Cương | D12: 16/10/2000 | E12: Hữu Nam– Mai Lâm – Tĩnh Gia – Thanh Hóa | F12: 8 | G12: 7 | H12: 8 | K12: 8 | M12: =(F12*2+G12*2+H12*2+K12*3)/9 -> 7.7777778 | O12: =MAX(M12,N12) -> 7.7777778
A13: 6 | B13: Lê Văn | C13: Đại | D13: 19/02/2001 | E13: Sơn Trà- Trúc Lâm- Tĩnh Gia - Thanh Hóa | O13: hl
A14: 7 | B14: Lê Công | C14: Đạt | D14: 36929 | E14: Đồng Minh - Hải Ninh - Tĩnh Gia - Thanh Hóa | F14: 7 | G14: 5 | H14: 6 | K14: 6 | M14: =(F14*2+G14*2+H14*2+K14*3)/9 -> 6 | O14: =MAX(M14,N14) -> 6
A15: 8 | B15: Bùi Văn | C15: Dũng | D15: 16.09.2000 | E15: Hải Hà - Tĩnh Gia - Thanh Hóa | F15: 8 | G15: 8 | H15: 6 | K15: 8 | M15: =(F15*2+G15*2+H15*2+K15*3)/9 -> 7.5555556 | O15: =MAX(M15,N15) -> 7.5555556
A16: 9 | B16: Vũ Trọng | C16: Dương | D16: 10.12.2001 | E16: Hải Nhân - Tĩnh Gia - Thanh Hóa | F16: 8 | G16: 8 | H16: 8 | K16: 8 | M16: =(F16*2+G16*2+H16*2+K16*3)/9 -> 8 | O16: =MAX(M16,N16) -> 8
A17: 10 | B17: Trương Bá | C17: Hạnh | D17: 37231 | E17: Thôn 10- Tân Trường- Tĩnh Gia- Thanh Hóa | F17: 8 | G17: 6 | H17: 7 | K17: 8 | M17: =(F17*2+G17*2+H17*2+K17*3)/9 -> 7.3333333 | O17: =MAX(M17,N17) -> 7.3333333
A18: 11 | B18: Nguyễn Đắc | C18: Hiếu | D18: 19/02/2000 | E18: Thôn 6- Hải Lĩnh-Tĩnh Gia- Thanh Hóa | F18: 8 | G18: 6 | H18: 7 | K18: 6 | M18: =(F18*2+G18*2+H18*2+K18*3)/9 -> 6.6666667 | O18: =MAX(M18,N18) -> 6.6666667
A19: 12 | B19: Mai Xuân | C19: Hinh | D19: 37205 | E19: Ninh Sơn- Trường Lâm- Tĩnh Gia- Thanh Hóa | O19: hl
A20: 13 | B20: Phạm Đình | C20: Hoàng | D20: 13.02.2001 | E20: Nguyên Bình - Tĩnh Gia - Thanh Hóa | O20: hl
A21: 14 | B21: Lê Văn | C21: Hùng | D21: 09.08.2000 | E21: Bình Minh - Tĩnh Gia - Thanh Hóa | F21: 8 | G21: 8 | H21: 7 | K21: 7 | M21: =(F21*2+G21*2+H21*2+K21*3)/9 -> 7.4444444 | O21: =MAX(M21,N21) -> 7.4444444
A22: 15 | B22: Trương Đình | C22: Hùng | D22: 15.06.2001 | E22: Ninh Hải - Tĩnh Gia - Thanh Hóa | F22: 6 | G22: 7 | H22: 7 | K22: 6 | M22: =(F22*2+G22*2+H22*2+K22*3)/9 -> 6.4444444 | O22: =MAX(M22,N22) -> 6.4444444
A23: 16 | B23: Trần Văn | C23: Huy | D23: 24.08.2001 | E23: Tân Trường - Tĩnh Gia - Thanh Hóa | O23: hl
A24: 17 | B24: Mai Xuân | C24: Huy | D24: 25.10.2001 | E24: Trường Lâm - Tĩnh Gia - Thanh Hóa | F24: 6 | G24: 6 | H24: 7 | K24: 6 | M24: =(F24*2+G24*2+H24*2+K24*3)/9 -> 6.2222222 | O24: =MAX(M24,N24) -> 6.2222222
A25: 18 | B25: Lê Vinh | C25: Huy | D25: 36739 | E25: Bản Cát – Mai Lâm – Tĩnh Gia – Thanh Hóa | F25: 8 | G25: 9 | H25: 8 | K25: 9 | M25: =(F25*2+G25*2+H25*2+K25*3)/9 -> 8.5555556 | O25: =MAX(M25,N25) -> 8.5555556
A26: 19 | B26: Nguyễn Xuân | C26: Lâm | D26: 22.11.2001 | E26: Nguyên Bình - Tĩnh Gia - Thanh Hóa | O26: hl
A27: 20 | B27: Phạm Nhật | C27: Linh | D27: 02.05.2001 | E27: Hải Ninh - Tĩnh Gia - Thanh Hóa | O27: hl
A28: 21 | B28: Lê Văn | C28: Long | D28: 27.04.2001 | E28: Hải Thanh - Tĩnh Gia - Thanh Hóa | F28: 8 | G28: 8 | H28: 6 | K28: 8 | M28: =(F28*2+G28*2+H28*2+K28*3)/9 -> 7.5555556 | O28: =MAX(M28,N28) -> 7.5555556
A29: 22 | B29: Đồng Xuân | C29: Mạnh | D29: 36923 | E29: Bình Minh- Trường Lâm- Tĩnh Gia- Thanh Hóa | O29: hl
A30: 23 | B30: Nguyễn Văn | C30: Minh | D30: 18.05.2001 | E30: Thượng Hải - Hải Thanh – Tĩnh Gia – Thanh Hóa | F30: 8 | G30: 8 | H30: 8 | K30: 8 | M30: =(F30*2+G30*2+H30*2+K30*3)/9 -> 8 | O30: =MAX(M30,N30) -> 8
A31: 24 | B31: Hồ Sĩ | C31: Minh | D31: 10.12.2000 | E31: Phú Sơn - Tĩnh Gia - Thanh Hóa | F31: 7 | G31: 8 | H31: 8 | K31: 8 | M31: =(F31*2+G31*2+H31*2+K31*3)/9 -> 7.7777778 | O31: =MAX(M31,N31) -> 7.7777778
A32: 25 | B32: Nguyễn Thị | C32: Mừng | D32: 37014 | E32: Giảng Tín - Trúc Lâm- Tĩnh Gia- Thanh Hóa | F32: 8 | G32: 9 | H32: 8 | K32: 9 | M32: =(F32*2+G32*2+H32*2+K32*3)/9 -> 8.5555556 | O32: =MAX(M32,N32) -> 8.5555556
A33: 26 | B33: Lê Văn | C33: Nam | D33: 23.07.2001 | E33: Nguyên Bình - Tĩnh Gia - Thanh Hóa | F33: 7 | G33: 8 | H33: 8 | K33: 7 | M33: =(F33*2+G33*2+H33*2+K33*3)/9 -> 7.4444444 | O33: =MAX(M33,N33) -> 7.4444444
A34: 27 | B34: Lê Văn | C34: Nam | D34: 16.08.2001 | E34: Hải Châu - Tĩnh Gia - Thanh Hóa | F34: 8 | G34: 7 | H34: 9 | K34: 7 | M34: =(F34*2+G34*2+H34*2+K34*3)/9 -> 7.6666667 | O34: =MAX(M34,N34) -> 7.6666667
A35: 28 | B35: Ngô Khải | C35: Phong | D35: 15.08.2001 | E35: Hải Thanh - Tĩnh Gia - Thanh Hóa | F35: 7 | G35: 8 | H35: 8 | K35: 7 | M35: =(F35*2+G35*2+H35*2+K35*3)/9 -> 7.4444444 | O35: =MAX(M35,N35) -> 7.4444444
A36: 29 | B36: Đỗ Ngọc | C36: Sơn | D36: 21.11.2000 | E36: Hoa Lư - Ninh Bình | F36: 7 | M36: =(F36*2+G36*2+H36*2+K36*3)/9 -> 1.5555556 | O36: hl
A37: 30 | B37: Hoàng Văn | C37: Thái | D37: 25/4/2001 | E37: Đại Tiến- Ninh Hải- Tĩnh Gia- Thanh Hóa | F37: 7 | G37: 7 | H37: 6 | K37: 7 | M37: =(F37*2+G37*2+H37*2+K37*3)/9 -> 6.7777778 | O37: =MAX(M37,N37) -> 6.7777778
A38: 31 | B38: Lê Doãn | C38: Thái | D38: 18/09/2001 | E38: Thôn 2 - Định Hải - Tĩnh Gia - Thanh Hóa | F38: 7 | G38: 8 | H38: 9 | K38: 8 | M38: =(F38*2+G38*2+H38*2+K38*3)/9 -> 8 | O38: =MAX(M38,N38) -> 8
A39: 32 | B39: Lê Hữu | C39: Thành | D39: 37231 | E39: Thống Nhất- Ninh Hải- Tĩnh Gia- Thanh Hóa | F39: 7 | G39: 7 | H39: 8 | K39: 7 | M39: =(F39*2+G39*2+H39*2+K39*3)/9 -> 7.2222222 | O39: =MAX(M39,N39) -> 7.2222222
A40: 33 | B40: Mai Xuân | C40: Thiện | D40: 10.07.2001 | E40: Ninh Hải - Tĩnh Gia - Thanh Hóa | F40: 7 | G40: 5 | H40: 7 | K40: 6 | M40: =(F40*2+G40*2+H40*2+K40*3)/9 -> 6.2222222 | O40: =MAX(M40,N40) -> 6.2222222
...

Sheet TKHK2
E1: Đ8B1
A2: TT | B2: Họ và tên | D2: Ngày Sinh | E2: Nơi Sinh | F2: =tphk2!O6 -> Đo lường điện | G2: =tphk2!O68 -> Điện tử cơ bản | H2: =tphk2!O130 -> Khí cụ điện | I2: =tphk2!O190 -> Giáo dục quốc phòng | J2: TỔNG KẾT | K2: xẾP LoẠI
F3: =tphk2!O7 -> 4 | G3: =tphk2!O69 -> 5 | H3: =tphk2!O131 -> 2 | I3: =tphk2!O191 -> 3 | J3: =SUM(F3:I3) -> 14
A4: 1 | B4: Nguyễn Thế | C4: Ánh | D4: 05.10.2001 | E4: Đội 1- Nguyên Bình- Tĩnh Gia - Thanh Hóa | F4: =tphk2!O8 -> 6.7777778 | G4: =tphk2!O70 -> 7.2727273 | H4: =tphk2!O132 -> 8 | I4: =tphk2!O192 -> 6.7777778 | J4: =(F4*4+G4*5+H4*2+I4*3)/14 -> 7.1291486 | K4: =(IF(J4>=8,"Giỏi",IF(J4>=7,"Khá",IF(J4>=6,"TB","Yếu")))) -> Khá
A5: 2 | B5: Lê Hữu | C5: Chiến | D5: 11.07.2000 | E5: Thị Trấn - Tĩnh Gia - Thanh Hóa | F5: =tphk2!O9 -> 7.3333333 | G5: =tphk2!O71 -> 7.0909091 | H5: =tphk2!O133 -> 7.7142857 | I5: =tphk2!O193 -> 7.4444444 | J5: =(F5*4+G5*5+H5*2+I5*3)/14 -> 7.3249845 | K5: =(IF(J5>=8,"Giỏi",IF(J5>=7,"Khá",IF(J5>=6,"TB","Yếu")))) -> Khá
A6: 3 | B6: Lê Công | C6: Chính | D6: 16/09/2000 | E6: Đội 16- Nguyên Bình- Tĩnh Gia- Thanh Hóa | F6: =tphk2!O10 -> 7.3333333 | G6: =tphk2!O72 -> 6.8181818 | H6: =tphk2!O134 -> 7.7142857 | I6: =tphk2!O194 -> 6.6666667 | J6: =(F6*4+G6*5+H6*2+I6*3)/14 -> 7.0609153 | K6: =(IF(J6>=8,"Giỏi",IF(J6>=7,"Khá",IF(J6>=6,"TB","Yếu")))) -> Khá
A7: 4 | B7: Lê Đức | C7: Chung | D7: 37142 | E7: Đông Hải - Hải Hòa- Tĩnh Gia - Thanh Hóa | F7: =tphk2!O11 -> 7.7777778 | G7: =tphk2!O73 -> 7.4545455 | H7: =tphk2!O135 -> 8 | I7: =tphk2!O195 -> 7.6666667 | J7: =(F7*4+G7*5+H7*2+I7*3)/14 -> 7.6702742 | K7: =(IF(J7>=8,"Giỏi",IF(J7>=7,"Khá",IF(J7>=6,"TB","Yếu")))) -> Khá
A8: 5 | B8: Lê Văn | C8: Cương | D8: 16/10/2000 | E8: Hữu Nam– Mai Lâm – Tĩnh Gia – Thanh Hóa | F8: =tphk2!O12 -> 7.7777778 | G8: =tphk2!O74 -> 7.4545455 | H8: =tphk2!O136 -> 7 | I8: =tphk2!O196 -> 6.6666667 | J8: =(F8*4+G8*5+H8*2+I8*3)/14 -> 7.3131313 | K8: =(IF(J8>=8,"Giỏi",IF(J8>=7,"Khá",IF(J8>=6,"TB","Yếu")))) -> Khá
A9: 6 | B9: Lê Văn | C9: Đại | D9: 19/02/2001 | E9: Sơn Trà- Trúc Lâm- Tĩnh Gia - Thanh Hóa | F9: =tphk2!O13 -> hl | G9: =tphk2!O75 -> hl | H9: =tphk2!O137 -> 6.4285714 | I9: =tphk2!O197 -> bỏ | J9: =(F9*4+G9*5+H9*2+I9*3)/14 -> #VALUE! | K9: =(IF(J9>=8,"Giỏi",IF(J9>=7,"Khá",IF(J9>=6,"TB","Yếu")))) -> #VALUE!
A10: 7 | B10: Lê Công | C10: Đạt | D10: 36929 | E10: Đồng Minh - Hải Ninh - Tĩnh Gia - Thanh Hóa | F10: =tphk2!O14 -> 6 | G10: =tphk2!O76 -> 6.6363636 | H10: =tphk2!O138 -> 6.1428571 | I10: =tphk2!O198 -> 5.7777778 | J10: =(F10*4+G10*5+H10*2+I10*3)/14 -> 6.2000618 | K10: =(IF(J10>=8,"Giỏi",IF(J10>=7,"Khá",IF(J10>=6,"TB","Yếu")))) -> TB
A11: 8 | B11: Bùi Văn | C11: Dũng | D11: 16.09.2000 | E11: Hải Hà - Tĩnh Gia - Thanh Hóa | F11: =tphk2!O15 -> 7.5555556 | G11: =tphk2!O77 -> 7.7272727 | H11: =tphk2!O139 -> 7.7142857 | I11: =tphk2!O199 -> 7.7777778 | J11: =(F11*4+G11*5+H11*2+I11*3)/14 -> 7.6871779 | K11: =(IF(J11>=8,"Giỏi",IF(J11>=7,"Khá",IF(J11>=6,"TB","Yếu")))) -> Khá
A12: 9 | B12: Vũ Trọng | C12: Dương | D12: 10.12.2001 | E12: Hải Nhân - Tĩnh Gia - Thanh Hóa | F12: =tphk2!O16 -> 8 | G12: =tphk2!O78 -> 7.7272727 | H12: =tphk2!O140 -> 8 | I12: =tphk2!O200 -> 7.4444444 | J12: =(F12*4+G12*5+H12*2+I12*3)/14 -> 7.7835498 | K12: =(IF(J12>=8,"Giỏi",IF(J12>=7,"Khá",IF(J12>=6,"TB","Yếu")))) -> Khá
A13: 10 | B13: Trương Bá | C13: Hạnh | D13: 37231 | E13: Thôn 10- Tân Trường- Tĩnh Gia- Thanh Hóa | F13: =tphk2!O17 -> 7.3333333 | G13: =tphk2!O79 -> 6.6363636 | H13: =tphk2!O141 -> 5.5714286 | I13: =tphk2!O201 -> 7.6666667 | J13: =(F13*4+G13*5+H13*2+I13*3)/14 -> 6.9041435 | K13: =(IF(J13>=8,"Giỏi",IF(J13>=7,"Khá",IF(J13>=6,"TB","Yếu")))) -> TB
A14: 11 | B14: Nguyễn Đắc | C14: Hiếu | D14: 19/02/2000 | E14: Thôn 6- Hải Lĩnh-Tĩnh Gia- Thanh Hóa | F14: =tphk2!O18 -> 6.6666667 | G14: =tphk2!O80 -> 6.1818182 | H14: =tphk2!O142 -> 6.1428571 | I14: =tphk2!O202 -> 6.4444444 | J14: =(F14*4+G14*5+H14*2+I14*3)/14 -> 6.3710575 | K14: =(IF(J14>=8,"Giỏi",IF(J14>=7,"Khá",IF(J14>=6,"TB","Yếu")))) -> TB
A15: 12 | B15: Mai Xuân | C15: Hinh | D15: 37205 | E15: Ninh Sơn- Trường Lâm- Tĩnh Gia- Thanh Hóa | F15: =tphk2!O19 -> hl | G15: =tphk2!O81 -> hl | H15: =tphk2!O143 -> HL | I15: =tphk2!O203 -> bỏ | J15: =(F15*4+G15*5+H15*2+I15*3)/14 -> #VALUE! | K15: =(IF(J15>=8,"Giỏi",IF(J15>=7,"Khá",IF(J15>=6,"TB","Yếu")))) -> #VALUE!
A16: 13 | B16: Phạm Đình | C16: Hoàng | D16: 13.02.2001 | E16: Nguyên Bình - Tĩnh Gia - Thanh Hóa | F16: =tphk2!O20 -> hl | G16: =tphk2!O82 -> hl | H16: =tphk2!O144 -> HL | I16: =tphk2!O204 -> bỏ | J16: =(F16*4+G16*5+H16*2+I16*3)/14 -> #VALUE! | K16: =(IF(J16>=8,"Giỏi",IF(J16>=7,"Khá",IF(J16>=6,"TB","Yếu")))) -> #VALUE!
A17: 14 | B17: Lê Văn | C17: Hùng | D17: 09.08.2000 | E17: Bình Minh - Tĩnh Gia - Thanh Hóa | F17: =tphk2!O21 -> 7.4444444 | G17: =tphk2!O83 -> 7.2727273 | H17: =tphk2!O145 -> 7.2857143 | I17: =tphk2!O205 -> 7.7777778 | J17: =(F17*4+G17*5+H17*2+I17*3)/14 -> 7.4318697 | K17: =(IF(J17>=8,"Giỏi",IF(J17>=7,"Khá",IF(J17>=6,"TB","Yếu")))) -> Khá
